{"text_format":"1","workbook":"xlsx","n_sheets":3,"sheets":["VRA_FSS","VRA_ne_FSS","Spisak FSS izložbi"],"not_rendered":{"charts":0,"images":0,"macros":1,"external_links":0,"defined_names":0,"comments":0,"pivot_tables":0},"unopened":[],"bounds":{"document_bytes":16777216,"sheet_cells":100000,"rows_first":2000,"rows_last":500,"rows_between":2000,"halvings":0,"cell_chars":16384,"cell_head_chars":4096},"cells_cut":0,"cells_raw":0,"read":"whole","date_system":"1900"}

{"sheet":"VRA_FSS","index":0,"n_rows":1014,"n_cols":15,"rows_kept":1014,"cut":false,"hidden":false,"merged":[[924,8,924,9],[982,8,982,9],[915,8,915,9],[881,8,881,9],[882,8,882,9],[883,8,883,9],[901,8,901,9],[902,8,902,9],[903,8,903,9],[904,8,904,9],[0,2,0,4],[1,2,1,4],[2,2,2,4],[3,2,3,4],[949,8,949,9],[950,8,950,9],[951,8,951,9],[952,8,952,9],[953,8,953,9],[954,8,954,9],[955,8,955,9],[973,8,973,9],[974,8,974,9],[975,8,975,9],[976,8,976,9],[977,8,977,9],[978,8,978,9],[907,8,907,9],[908,8,908,9],[909,8,909,9],[910,8,910,9],[860,8,860,9],[913,8,913,9],[983,8,983,9],[894,8,894,9],[895,8,895,9],[916,8,916,9],[917,8,917,9],[918,8,918,9],[919,8,919,9],[937,8,937,9],[938,8,938,9],[939,8,939,9],[940,8,940,9],[941,8,941,9],[942,8,942,9],[943,8,943,9],[944,8,944,9],[945,8,945,9],[946,8,946,9],[947,8,947,9],[896,8,896,9],[897,8,897,9],[898,8,898,9],[899,8,899,9],[900,8,900,9],[979,8,979,9],[980,8,980,9],[914,8,914,9],[920,8,920,9],[921,8,921,9],[922,8,922,9],[912,8,912,9],[923,8,923,9],[865,8,865,9],[866,8,866,9],[867,8,867,9],[868,8,868,9],[869,8,869,9],[870,8,870,9],[871,8,871,9],[872,8,872,9],[873,8,873,9],[874,8,874,9],[875,8,875,9],[876,8,876,9],[877,8,877,9],[878,8,878,9],[879,8,879,9],[880,8,880,9],[911,8,911,9],[863,8,863,9],[864,8,864,9],[884,8,884,9],[885,8,885,9],[886,8,886,9],[887,8,887,9],[888,8,888,9],[889,8,889,9],[890,8,890,9],[891,8,891,9],[892,8,892,9],[893,8,893,9],[905,8,905,9],[906,8,906,9],[808,8,808,9],[809,8,809,9],[810,8,810,9],[811,8,811,9],[829,8,829,9],[812,8,812,9],[813,8,813,9],[814,8,814,9],[815,8,815,9],[816,8,816,9],[817,8,817,9],[818,8,818,9],[819,8,819,9],[820,8,820,9],[821,8,821,9],[822,8,822,9],[823,8,823,9],[824,8,824,9],[825,8,825,9],[826,8,826,9],[827,8,827,9],[828,8,828,9],[793,8,793,9],[794,8,794,9],[795,8,795,9],[791,8,791,9],[792,8,792,9],[796,8,796,9],[797,8,797,9],[798,8,798,9],[799,8,799,9],[800,8,800,9],[801,8,801,9],[802,8,802,9],[803,8,803,9],[804,8,804,9],[805,8,805,9],[806,8,806,9],[807,8,807,9],[736,8,736,9],[737,8,737,9],[738,8,738,9],[739,8,739,9],[757,8,757,9],[758,8,758,9],[759,8,759,9],[760,8,760,9],[761,8,761,9],[740,8,740,9],[741,8,741,9],[742,8,742,9],[743,8,743,9],[744,8,744,9],[745,8,745,9],[746,8,746,9],[747,8,747,9],[748,8,748,9],[749,8,749,9],[750,8,750,9],[751,8,751,9],[752,8,752,9],[753,8,753,9],[754,8,754,9],[755,8,755,9],[756,8,756,9],[721,8,721,9],[722,8,722,9],[723,8,723,9],[724,8,724,9],[725,8,725,9],[726,8,726,9],[727,8,727,9],[719,8,719,9],[720,8,720,9],[728,8,728,9],[729,8,729,9],[730,8,730,9],[731,8,731,9],[732,8,732,9],[733,8,733,9],[734,8,734,9],[735,8,735,9],[664,8,664,9],[665,8,665,9],[666,8,666,9],[667,8,667,9],[685,8,685,9],[686,8,686,9],[687,8,687,9],[688,8,688,9],[689,8,689,9],[690,8,690,9],[691,8,691,9],[692,8,692,9],[693,8,693,9],[668,8,668,9],[669,8,669,9],[670,8,670,9],[671,8,671,9],[672,8,672,9],[673,8,673,9],[674,8,674,9],[675,8,675,9],[676,8,676,9],[677,8,677,9],[678,8,678,9],[679,8,679,9],[680,8,680,9],[681,8,681,9],[682,8,682,9],[683,8,683,9],[684,8,684,9],[649,8,649,9],[650,8,650,9],[651,8,651,9],[652,8,652,9],[653,8,653,9],[654,8,654,9],[655,8,655,9],[656,8,656,9],[657,8,657,9],[658,8,658,9],[659,8,659,9],[647,8,647,9],[648,8,648,9],[660,8,660,9],[661,8,661,9],[662,8,662,9],[663,8,663,9],[592,8,592,9],[593,8,593,9],[594,8,594,9],[595,8,595,9],[613,8,613,9],[614,8,614,9],[615,8,615,9],[616,8,616,9],[617,8,617,9],[618,8,618,9],[619,8,619,9],[620,8,620,9],[621,8,621,9],[622,8,622,9],[623,8,623,9],[624,8,624,9],[625,8,625,9],[596,8,596,9],[597,8,597,9],[598,8,598,9],[599,8,599,9],[600,8,600,9],[601,8,601,9],[602,8,602,9],[603,8,603,9],[604,8,604,9],[605,8,605,9],[606,8,606,9],[607,8,607,9],[608,8,608,9],[609,8,609,9],[610,8,610,9],[577,8,577,9],[578,8,578,9],[579,8,579,9],[580,8,580,9],[581,8,581,9],[582,8,582,9],[583,8,583,9],[584,8,584,9],[585,8,585,9],[586,8,586,9],[587,8,587,9],[588,8,588,9],[589,8,589,9],[590,8,590,9],[591,8,591,9],[575,8,575,9],[576,8,576,9],[541,8,541,9],[542,8,542,9],[543,8,543,9],[544,8,544,9],[545,8,545,9],[546,8,546,9],[547,8,547,9],[548,8,548,9],[549,8,549,9],[550,8,550,9],[551,8,551,9],[552,8,552,9],[553,8,553,9],[554,8,554,9],[555,8,555,9],[524,8,524,9],[525,8,525,9],[526,8,526,9],[527,8,527,9],[528,8,528,9],[529,8,529,9],[530,8,530,9],[531,8,531,9],[532,8,532,9],[533,8,533,9],[534,8,534,9],[535,8,535,9],[536,8,536,9],[537,8,537,9],[538,8,538,9],[484,8,484,9],[485,8,485,9],[486,8,486,9],[487,8,487,9],[505,8,505,9],[506,8,506,9],[488,8,488,9],[489,8,489,9],[490,8,490,9],[491,8,491,9],[492,8,492,9],[493,8,493,9],[494,8,494,9],[495,8,495,9],[496,8,496,9],[497,8,497,9],[498,8,498,9],[499,8,499,9],[500,8,500,9],[501,8,501,9],[502,8,502,9],[503,8,503,9],[504,8,504,9],[469,8,469,9],[470,8,470,9],[471,8,471,9],[472,8,472,9],[467,8,467,9],[468,8,468,9],[473,8,473,9],[474,8,474,9],[475,8,475,9],[476,8,476,9],[477,8,477,9],[478,8,478,9],[479,8,479,9],[480,8,480,9],[481,8,481,9],[482,8,482,9],[483,8,483,9],[412,8,412,9],[413,8,413,9],[414,8,414,9],[415,8,415,9],[433,8,433,9],[434,8,434,9],[435,8,435,9],[436,8,436,9],[437,8,437,9],[438,8,438,9],[416,8,416,9],[417,8,417,9],[418,8,418,9],[419,8,419,9],[420,8,420,9],[421,8,421,9],[422,8,422,9],[423,8,423,9],[424,8,424,9],[425,8,425,9],[426,8,426,9],[427,8,427,9],[428,8,428,9],[429,8,429,9],[430,8,430,9],[431,8,431,9],[432,8,432,9],[397,8,397,9],[398,8,398,9],[399,8,399,9],[400,8,400,9],[401,8,401,9],[402,8,402,9],[403,8,403,9],[404,8,404,9],[395,8,395,9],[396,8,396,9],[405,8,405,9],[406,8,406,9],[407,8,407,9],[408,8,408,9],[409,8,409,9],[410,8,410,9],[411,8,411,9],[340,8,340,9],[341,8,341,9],[342,8,342,9],[343,8,343,9],[361,8,361,9],[362,8,362,9],[363,8,363,9],[364,8,364,9],[365,8,365,9],[366,8,366,9],[367,8,367,9],[368,8,368,9],[369,8,369,9],[370,8,370,9],[344,8,344,9],[345,8,345,9],[346,8,346,9],[347,8,347,9],[348,8,348,9],[349,8,349,9],[350,8,350,9],[351,8,351,9],[352,8,352,9],[353,8,353,9],[354,8,354,9],[355,8,355,9],[356,8,356,9],[357,8,357,9],[358,8,358,9],[359,8,359,9],[360,8,360,9],[325,8,325,9],[326,8,326,9],[327,8,327,9],[328,8,328,9],[329,8,329,9],[330,8,330,9],[331,8,331,9],[332,8,332,9],[333,8,333,9],[334,8,334,9],[335,8,335,9],[336,8,336,9],[323,8,323,9],[324,8,324,9],[337,8,337,9],[338,8,338,9],[339,8,339,9],[267,8,267,9],[268,8,268,9],[251,8,251,9],[252,8,252,9],[269,8,269,9],[270,8,270,9],[271,8,271,9],[289,8,289,9],[290,8,290,9],[291,8,291,9],[292,8,292,9],[293,8,293,9],[294,8,294,9],[295,8,295,9],[296,8,296,9],[297,8,297,9],[298,8,298,9],[272,8,272,9],[273,8,273,9],[274,8,274,9],[275,8,275,9],[276,8,276,9],[277,8,277,9],[278,8,278,9],[279,8,279,9],[280,8,280,9],[281,8,281,9],[282,8,282,9],[283,8,283,9],[284,8,284,9],[285,8,285,9],[286,8,286,9],[265,8,265,9],[266,8,266,9],[236,8,236,9],[237,8,237,9],[238,8,238,9],[239,8,239,9],[240,8,240,9],[241,8,241,9],[242,8,242,9],[243,8,243,9],[244,8,244,9],[245,8,245,9],[246,8,246,9],[247,8,247,9],[248,8,248,9],[249,8,249,9],[250,8,250,9],[196,8,196,9],[197,8,197,9],[198,8,198,9],[199,8,199,9],[217,8,217,9],[200,8,200,9],[201,8,201,9],[202,8,202,9],[203,8,203,9],[204,8,204,9],[205,8,205,9],[206,8,206,9],[207,8,207,9],[208,8,208,9],[209,8,209,9],[210,8,210,9],[211,8,211,9],[212,8,212,9],[213,8,213,9],[214,8,214,9],[215,8,215,9],[216,8,216,9],[181,8,181,9],[182,8,182,9],[183,8,183,9],[179,8,179,9],[180,8,180,9],[184,8,184,9],[185,8,185,9],[186,8,186,9],[187,8,187,9],[188,8,188,9],[189,8,189,9],[190,8,190,9],[191,8,191,9],[192,8,192,9],[193,8,193,9],[194,8,194,9],[195,8,195,9],[124,8,124,9],[125,8,125,9],[126,8,126,9],[127,8,127,9],[145,8,145,9],[146,8,146,9],[147,8,147,9],[148,8,148,9],[149,8,149,9],[128,8,128,9],[129,8,129,9],[130,8,130,9],[131,8,131,9],[132,8,132,9],[133,8,133,9],[134,8,134,9],[135,8,135,9],[136,8,136,9],[137,8,137,9],[138,8,138,9],[139,8,139,9],[140,8,140,9],[141,8,141,9],[142,8,142,9],[143,8,143,9],[144,8,144,9],[109,8,109,9],[110,8,110,9],[111,8,111,9],[112,8,112,9],[113,8,113,9],[114,8,114,9],[115,8,115,9],[107,8,107,9],[108,8,108,9],[116,8,116,9],[117,8,117,9],[118,8,118,9],[119,8,119,9],[120,8,120,9],[121,8,121,9],[122,8,122,9],[123,8,123,9],[48,8,48,9],[49,8,49,9],[50,8,50,9],[51,8,51,9],[52,8,52,9],[53,8,53,9],[54,8,54,9],[55,8,55,9],[73,8,73,9],[74,8,74,9],[75,8,75,9],[76,8,76,9],[77,8,77,9],[78,8,78,9],[79,8,79,9],[80,8,80,9],[81,8,81,9],[56,8,56,9],[57,8,57,9],[58,8,58,9],[59,8,59,9],[60,8,60,9],[61,8,61,9],[62,8,62,9],[63,8,63,9],[64,8,64,9],[65,8,65,9],[66,8,66,9],[67,8,67,9],[68,8,68,9],[69,8,69,9],[70,8,70,9],[1012,2,1012,3],[1013,2,1013,3],[1006,2,1006,3],[1007,2,1007,3],[1008,2,1008,3],[1009,2,1009,3],[1010,2,1010,3],[1011,2,1011,3],[1000,2,1000,3],[1001,2,1001,3],[1002,2,1002,3],[1003,2,1003,3],[28,8,28,9],[29,8,29,9],[30,8,30,9],[31,8,31,9],[32,8,32,9],[33,8,33,9],[34,8,34,9],[35,8,35,9],[36,8,36,9],[37,8,37,9],[38,8,38,9],[39,8,39,9],[40,8,40,9],[41,8,41,9],[42,8,42,9],[43,8,43,9],[44,8,44,9],[45,8,45,9],[46,8,46,9],[47,8,47,9],[1004,2,1004,3],[1005,2,1005,3],[994,2,994,3],[995,2,995,3],[996,2,996,3],[997,2,997,3],[998,2,998,3],[999,2,999,3],[988,2,988,3],[989,2,989,3],[990,2,990,3],[991,2,991,3],[992,2,992,3],[993,2,993,3],[982,2,982,3],[983,2,983,3],[984,2,984,3],[985,2,985,3],[986,2,986,3],[987,2,987,3],[976,2,976,3],[977,2,977,3],[978,2,978,3],[979,2,979,3],[980,2,980,3],[981,2,981,3],[970,2,970,3],[971,2,971,3],[972,2,972,3],[973,2,973,3],[974,2,974,3],[975,2,975,3],[964,2,964,3],[965,2,965,3],[966,2,966,3],[967,2,967,3],[968,2,968,3],[969,2,969,3],[958,2,958,3],[959,2,959,3],[960,2,960,3],[961,2,961,3],[962,2,962,3],[963,2,963,3],[952,2,952,3],[953,2,953,3],[954,2,954,3],[955,2,955,3],[956,2,956,3],[957,2,957,3],[946,2,946,3],[947,2,947,3],[948,2,948,3],[949,2,949,3],[950,2,950,3],[951,2,951,3],[940,2,940,3],[941,2,941,3],[942,2,942,3],[943,2,943,3],[944,2,944,3],[945,2,945,3],[934,2,934,3],[935,2,935,3],[936,2,936,3],[937,2,937,3],[938,2,938,3],[939,2,939,3],[928,2,928,3],[929,2,929,3],[930,2,930,3],[931,2,931,3],[932,2,932,3],[933,2,933,3],[922,2,922,3],[923,2,923,3],[924,2,924,3],[925,2,925,3],[926,2,926,3],[927,2,927,3],[916,2,916,3],[917,2,917,3],[918,2,918,3],[919,2,919,3],[920,2,920,3],[921,2,921,3],[910,2,910,3],[911,2,911,3],[912,2,912,3],[913,2,913,3],[914,2,914,3],[915,2,915,3],[904,2,904,3],[905,2,905,3],[906,2,906,3],[907,2,907,3],[908,2,908,3],[909,2,909,3],[898,2,898,3],[899,2,899,3],[900,2,900,3],[901,2,901,3],[902,2,902,3],[903,2,903,3],[892,2,892,3],[893,2,893,3],[894,2,894,3],[895,2,895,3],[896,2,896,3],[897,2,897,3],[886,2,886,3],[887,2,887,3],[888,2,888,3],[889,2,889,3],[890,2,890,3],[891,2,891,3],[880,2,880,3],[881,2,881,3],[882,2,882,3],[883,2,883,3],[884,2,884,3],[885,2,885,3],[874,2,874,3],[875,2,875,3],[876,2,876,3],[877,2,877,3],[878,2,878,3],[879,2,879,3],[868,2,868,3],[869,2,869,3],[870,2,870,3],[871,2,871,3],[872,2,872,3],[873,2,873,3],[862,2,862,3],[863,2,863,3],[864,2,864,3],[865,2,865,3],[866,2,866,3],[867,2,867,3],[856,2,856,3],[857,2,857,3],[858,2,858,3],[859,2,859,3],[860,2,860,3],[861,2,861,3],[850,2,850,3],[851,2,851,3],[852,2,852,3],[853,2,853,3],[854,2,854,3],[855,2,855,3],[844,2,844,3],[845,2,845,3],[846,2,846,3],[847,2,847,3],[848,2,848,3],[849,2,849,3],[838,2,838,3],[839,2,839,3],[840,2,840,3],[841,2,841,3],[842,2,842,3],[843,2,843,3],[832,2,832,3],[833,2,833,3],[834,2,834,3],[835,2,835,3],[836,2,836,3],[837,2,837,3],[826,2,826,3],[827,2,827,3],[828,2,828,3],[829,2,829,3],[830,2,830,3],[831,2,831,3],[820,2,820,3],[821,2,821,3],[822,2,822,3],[823,2,823,3],[824,2,824,3],[825,2,825,3],[814,2,814,3],[815,2,815,3],[816,2,816,3],[817,2,817,3],[818,2,818,3],[819,2,819,3],[808,2,808,3],[809,2,809,3],[810,2,810,3],[811,2,811,3],[812,2,812,3],[813,2,813,3],[802,2,802,3],[803,2,803,3],[804,2,804,3],[805,2,805,3],[806,2,806,3],[807,2,807,3],[796,2,796,3],[797,2,797,3],[798,2,798,3],[799,2,799,3],[800,2,800,3],[801,2,801,3],[790,2,790,3],[791,2,791,3],[792,2,792,3],[793,2,793,3],[794,2,794,3],[795,2,795,3],[784,2,784,3],[785,2,785,3],[786,2,786,3],[787,2,787,3],[788,2,788,3],[789,2,789,3],[778,2,778,3],[779,2,779,3],[780,2,780,3],[781,2,781,3],[782,2,782,3],[783,2,783,3],[772,2,772,3],[773,2,773,3],[774,2,774,3],[775,2,775,3],[776,2,776,3],[777,2,777,3],[766,2,766,3],[767,2,767,3],[768,2,768,3],[769,2,769,3],[770,2,770,3],[771,2,771,3],[760,2,760,3],[761,2,761,3],[762,2,762,3],[763,2,763,3],[764,2,764,3],[765,2,765,3],[754,2,754,3],[755,2,755,3],[756,2,756,3],[757,2,757,3],[758,2,758,3],[759,2,759,3],[748,2,748,3],[749,2,749,3],[750,2,750,3],[751,2,751,3],[752,2,752,3],[753,2,753,3],[742,2,742,3],[743,2,743,3],[744,2,744,3],[745,2,745,3],[746,2,746,3],[747,2,747,3],[736,2,736,3],[737,2,737,3],[738,2,738,3],[739,2,739,3],[740,2,740,3],[741,2,741,3],[730,2,730,3],[731,2,731,3],[732,2,732,3],[733,2,733,3],[734,2,734,3],[735,2,735,3],[724,2,724,3],[725,2,725,3],[726,2,726,3],[727,2,727,3],[728,2,728,3],[729,2,729,3],[718,2,718,3],[719,2,719,3],[720,2,720,3],[721,2,721,3],[722,2,722,3],[723,2,723,3],[712,2,712,3],[713,2,713,3],[714,2,714,3],[715,2,715,3],[716,2,716,3],[717,2,717,3],[706,2,706,3],[707,2,707,3],[708,2,708,3],[709,2,709,3],[710,2,710,3],[711,2,711,3],[700,2,700,3],[701,2,701,3],[702,2,702,3],[703,2,703,3],[704,2,704,3],[705,2,705,3],[694,2,694,3],[695,2,695,3],[696,2,696,3],[697,2,697,3],[698,2,698,3],[699,2,699,3],[688,2,688,3],[689,2,689,3],[690,2,690,3],[691,2,691,3],[692,2,692,3],[693,2,693,3],[682,2,682,3],[683,2,683,3],[684,2,684,3],[685,2,685,3],[686,2,686,3],[687,2,687,3],[676,2,676,3],[677,2,677,3],[678,2,678,3],[679,2,679,3],[680,2,680,3],[681,2,681,3],[670,2,670,3],[671,2,671,3],[672,2,672,3],[673,2,673,3],[674,2,674,3],[675,2,675,3],[664,2,664,3],[665,2,665,3],[666,2,666,3],[667,2,667,3],[668,2,668,3],[669,2,669,3],[658,2,658,3],[659,2,659,3],[660,2,660,3],[661,2,661,3],[662,2,662,3],[663,2,663,3],[652,2,652,3],[653,2,653,3],[654,2,654,3],[655,2,655,3],[656,2,656,3],[657,2,657,3],[646,2,646,3],[647,2,647,3],[648,2,648,3],[649,2,649,3],[650,2,650,3],[651,2,651,3],[640,2,640,3],[641,2,641,3],[642,2,642,3],[643,2,643,3],[644,2,644,3],[645,2,645,3],[634,2,634,3],[635,2,635,3],[636,2,636,3],[637,2,637,3],[638,2,638,3],[639,2,639,3],[628,2,628,3],[629,2,629,3]],"merged_total":2007,"flags":["merged_cut"]}
["Broj  članske karte FSS:",null,null,null,null,null,"Rang izložbe","4. rang","3. rang","2. rang","1. rang","REP rang","INT rang","FIAP rang","Kolekcija FSS"]
["Prezime i ime autora:",null,null,null,null,null,"1. nagrada",5,9,15,22,25,20,20]
["Foto klub:",null,null,null,null,null,"2. nagrada",4,7,10,15,18,12,12]
["Ukupan broj poena:",null,{"$f":"SUM(O15:O1014)+SUM(VRA_ne_FSS!N15:N1014)","v":0},null,null,null,"3. nagrada",3,5,7,9,12,8,8]
[null,null,null,null,null,null,"Pohvala",2,3,4,5,7,4,4]
[null,null,null,null,null,null,"Primljen rad",1,2,3,4,5,3,3,6]
[null,null,null,null,null,null,"Plava značka",null,null,null,null,null,null,20]
[]
["Ukoliko je  izložba realizovana sa svim primljenim radovima na papiru u zvaničnom izlagačkom prostoru u minimalnom trajanju od 7 dana i sa štampanim katalogom koji, osim podataka predvidjenih  pravilnikom o izložbama FSS, ima reprodukovane sve nagradjene i pohvaljene radove, koristi se koeficijenat 2, u suprotnom se koristi koeficijenat 1."]
[]
[]
[]
[]
["Red.br","Broj FSS pokroviteljstva","Naziv izložbe",null,"Rang ","Datum otvaranja","Broj FIAP patronata","Broj PSA patronata","Naziv fotografije",null,"Nagrada","Broj poena za prijem","Broj poena za nagradu","Koeficijent","Konačan broj poena"]
[1,null,{"$f":"IF(B15=\"\",\"\",VLOOKUP(B15,'Spisak FSS izložbi'!$B$6:$H$318,3,FALSE))","v":""},null,{"$f":"IF(B15=\"\",\"\",VLOOKUP(B15,'Spisak FSS izložbi'!$B$6:$H$318,6,FALSE))","v":""},{"$f":"IF(B15=\"\",\"\",VLOOKUP(B15,'Spisak FSS izložbi'!$B$6:$H$318,5,FALSE))","v":""},null,null,null,null,null,{"$f":"IF(E15=$H$1,$H$6,IF(E15=$I$1,$I$6,IF(E15=$J$1,$J$6,IF(E15=$K$1,$K$6,IF(E15=$L$1,$L$6,IF(E15=$M$1,$M$6,IF(E15=$N$1,$N$6,IF(E15=$O$1,$O$6,0))))))))","v":0},{"$f":"IF(OR(E15=\"\",K15=\"\")=TRUE,0,VLOOKUP(K15,$G$1:$O$7,MATCH(E15,$G$1:$O$1,0),FALSE))","v":0},{"$f":"IF(B15=\"\",1,VLOOKUP(B15,'Spisak FSS izložbi'!$B$6:$H$318,7,FALSE))","v":1},{"$f":"(L15+M15)*N15","v":0}]
[2,null,{"$f":"IF(B16=\"\",\"\",VLOOKUP(B16,'Spisak FSS izložbi'!$B$6:$H$318,3,FALSE))","v":""},null,{"$f":"IF(B16=\"\",\"\",VLOOKUP(B16,'Spisak FSS izložbi'!$B$6:$H$318,6,FALSE))","v":""},{"$f":"IF(B16=\"\",\"\",VLOOKUP(B16,'Spisak FSS izložbi'!$B$6:$H$318,5,FALSE))","v":""},null,null,null,null,null,0,0,{"$f":"IF(B16=\"\",1,VLOOKUP(B16,'Spisak FSS izložbi'!$B$6:$H$318,7,FALSE))","v":1},{"$f":"(L16+M16)*N16","v":0}]
[3,null,{"$f":"IF(B17=\"\",\"\",VLOOKUP(B17,'Spisak FSS izložbi'!$B$6:$H$318,3,FALSE))","v":""},null,{"$f":"IF(B17=\"\",\"\",VLOOKUP(B17,'Spisak FSS izložbi'!$B$6:$H$318,6,FALSE))","v":""},{"$f":"IF(B17=\"\",\"\",VLOOKUP(B17,'Spisak FSS izložbi'!$B$6:$H$318,5,FALSE))","v":""},null,null,null,null,null,0,0,{"$f":"IF(B17=\"\",1,VLOOKUP(B17,'Spisak FSS izložbi'!$B$6:$H$318,7,FALSE))","v":1},0]
[4,null,{"$f":"IF(B18=\"\",\"\",VLOOKUP(B18,'Spisak FSS izložbi'!$B$6:$H$318,3,FALSE))","v":""},null,{"$f":"IF(B18=\"\",\"\",VLOOKUP(B18,'Spisak FSS izložbi'!$B$6:$H$318,6,FALSE))","v":""},{"$f":"IF(B18=\"\",\"\",VLOOKUP(B18,'Spisak FSS izložbi'!$B$6:$H$318,5,FALSE))","v":""},null,null,null,null,null,0,0,{"$f":"IF(B18=\"\",1,VLOOKUP(B18,'Spisak FSS izložbi'!$B$6:$H$318,7,FALSE))","v":1},0]
[5,null,{"$f":"IF(B19=\"\",\"\",VLOOKUP(B19,'Spisak FSS izložbi'!$B$6:$H$318,3,FALSE))","v":""},null,{"$f":"IF(B19=\"\",\"\",VLOOKUP(B19,'Spisak FSS izložbi'!$B$6:$H$318,6,FALSE))","v":""},{"$f":"IF(B19=\"\",\"\",VLOOKUP(B19,'Spisak FSS izložbi'!$B$6:$H$318,5,FALSE))","v":""},null,null,null,null,null,0,0,{"$f":"IF(B19=\"\",1,VLOOKUP(B19,'Spisak FSS izložbi'!$B$6:$H$318,7,FALSE))","v":1},0]
[6,null,{"$f":"IF(B20=\"\",\"\",VLOOKUP(B20,'Spisak FSS izložbi'!$B$6:$H$318,3,FALSE))","v":""},null,{"$f":"IF(B20=\"\",\"\",VLOOKUP(B20,'Spisak FSS izložbi'!$B$6:$H$318,6,FALSE))","v":""},{"$f":"IF(B20=\"\",\"\",VLOOKUP(B20,'Spisak FSS izložbi'!$B$6:$H$318,5,FALSE))","v":""},null,null,null,null,null,0,0,{"$f":"IF(B20=\"\",1,VLOOKUP(B20,'Spisak FSS izložbi'!$B$6:$H$318,7,FALSE))","v":1},0]
[7,null,{"$f":"IF(B21=\"\",\"\",VLOOKUP(B21,'Spisak FSS izložbi'!$B$6:$H$318,3,FALSE))","v":""},null,{"$f":"IF(B21=\"\",\"\",VLOOKUP(B21,'Spisak FSS izložbi'!$B$6:$H$318,6,FALSE))","v":""},{"$f":"IF(B21=\"\",\"\",VLOOKUP(B21,'Spisak FSS izložbi'!$B$6:$H$318,5,FALSE))","v":""},null,null,null,null,null,0,0,{"$f":"IF(B21=\"\",1,VLOOKUP(B21,'Spisak FSS izložbi'!$B$6:$H$318,7,FALSE))","v":1},0]
[8,null,{"$f":"IF(B22=\"\",\"\",VLOOKUP(B22,'Spisak FSS izložbi'!$B$6:$H$318,3,FALSE))","v":""},null,{"$f":"IF(B22=\"\",\"\",VLOOKUP(B22,'Spisak FSS izložbi'!$B$6:$H$318,6,FALSE))","v":""},{"$f":"IF(B22=\"\",\"\",VLOOKUP(B22,'Spisak FSS izložbi'!$B$6:$H$318,5,FALSE))","v":""},null,null,null,null,null,0,0,{"$f":"IF(B22=\"\",1,VLOOKUP(B22,'Spisak FSS izložbi'!$B$6:$H$318,7,FALSE))","v":1},0]
[9,null,{"$f":"IF(B23=\"\",\"\",VLOOKUP(B23,'Spisak FSS izložbi'!$B$6:$H$318,3,FALSE))","v":""},null,{"$f":"IF(B23=\"\",\"\",VLOOKUP(B23,'Spisak FSS izložbi'!$B$6:$H$318,6,FALSE))","v":""},{"$f":"IF(B23=\"\",\"\",VLOOKUP(B23,'Spisak FSS izložbi'!$B$6:$H$318,5,FALSE))","v":""},null,null,null,null,null,0,0,{"$f":"IF(B23=\"\",1,VLOOKUP(B23,'Spisak FSS izložbi'!$B$6:$H$318,7,FALSE))","v":1},0]
[10,null,{"$f":"IF(B24=\"\",\"\",VLOOKUP(B24,'Spisak FSS izložbi'!$B$6:$H$318,3,FALSE))","v":""},null,{"$f":"IF(B24=\"\",\"\",VLOOKUP(B24,'Spisak FSS izložbi'!$B$6:$H$318,6,FALSE))","v":""},{"$f":"IF(B24=\"\",\"\",VLOOKUP(B24,'Spisak FSS izložbi'!$B$6:$H$318,5,FALSE))","v":""},null,null,null,null,null,0,0,{"$f":"IF(B24=\"\",1,VLOOKUP(B24,'Spisak FSS izložbi'!$B$6:$H$318,7,FALSE))","v":1},0]
[11,null,{"$f":"IF(B25=\"\",\"\",VLOOKUP(B25,'Spisak FSS izložbi'!$B$6:$H$318,3,FALSE))","v":""},null,{"$f":"IF(B25=\"\",\"\",VLOOKUP(B25,'Spisak FSS izložbi'!$B$6:$H$318,6,FALSE))","v":""},{"$f":"IF(B25=\"\",\"\",VLOOKUP(B25,'Spisak FSS izložbi'!$B$6:$H$318,5,FALSE))","v":""},null,null,null,null,null,0,0,{"$f":"IF(B25=\"\",1,VLOOKUP(B25,'Spisak FSS izložbi'!$B$6:$H$318,7,FALSE))","v":1},0]
[12,null,{"$f":"IF(B26=\"\",\"\",VLOOKUP(B26,'Spisak FSS izložbi'!$B$6:$H$318,3,FALSE))","v":""},null,{"$f":"IF(B26=\"\",\"\",VLOOKUP(B26,'Spisak FSS izložbi'!$B$6:$H$318,6,FALSE))","v":""},{"$f":"IF(B26=\"\",\"\",VLOOKUP(B26,'Spisak FSS izložbi'!$B$6:$H$318,5,FALSE))","v":""},null,null,null,null,null,0,0,{"$f":"IF(B26=\"\",1,VLOOKUP(B26,'Spisak FSS izložbi'!$B$6:$H$318,7,FALSE))","v":1},0]
[13,null,{"$f":"IF(B27=\"\",\"\",VLOOKUP(B27,'Spisak FSS izložbi'!$B$6:$H$318,3,FALSE))","v":""},null,{"$f":"IF(B27=\"\",\"\",VLOOKUP(B27,'Spisak FSS izložbi'!$B$6:$H$318,6,FALSE))","v":""},{"$f":"IF(B27=\"\",\"\",VLOOKUP(B27,'Spisak FSS izložbi'!$B$6:$H$318,5,FALSE))","v":""},null,null,null,null,null,0,0,{"$f":"IF(B27=\"\",1,VLOOKUP(B27,'Spisak FSS izložbi'!$B$6:$H$318,7,FALSE))","v":1},0]
[14,null,{"$f":"IF(B28=\"\",\"\",VLOOKUP(B28,'Spisak FSS izložbi'!$B$6:$H$318,3,FALSE))","v":""},null,{"$f":"IF(B28=\"\",\"\",VLOOKUP(B28,'Spisak FSS izložbi'!$B$6:$H$318,6,FALSE))","v":""},{"$f":"IF(B28=\"\",\"\",VLOOKUP(B28,'Spisak FSS izložbi'!$B$6:$H$318,5,FALSE))","v":""},null,null,null,null,null,0,0,{"$f":"IF(B28=\"\",1,VLOOKUP(B28,'Spisak FSS izložbi'!$B$6:$H$318,7,FALSE))","v":1},0]
[15,null,{"$f":"IF(B29=\"\",\"\",VLOOKUP(B29,'Spisak FSS izložbi'!$B$6:$H$318,3,FALSE))","v":""},null,{"$f":"IF(B29=\"\",\"\",VLOOKUP(B29,'Spisak FSS izložbi'!$B$6:$H$318,6,FALSE))","v":""},{"$f":"IF(B29=\"\",\"\",VLOOKUP(B29,'Spisak FSS izložbi'!$B$6:$H$318,5,FALSE))","v":""},null,null,null,null,null,0,0,{"$f":"IF(B29=\"\",1,VLOOKUP(B29,'Spisak FSS izložbi'!$B$6:$H$318,7,FALSE))","v":1},0]
[16,null,{"$f":"IF(B30=\"\",\"\",VLOOKUP(B30,'Spisak FSS izložbi'!$B$6:$H$318,3,FALSE))","v":""},null,{"$f":"IF(B30=\"\",\"\",VLOOKUP(B30,'Spisak FSS izložbi'!$B$6:$H$318,6,FALSE))","v":""},{"$f":"IF(B30=\"\",\"\",VLOOKUP(B30,'Spisak FSS izložbi'!$B$6:$H$318,5,FALSE))","v":""},null,null,null,null,null,0,0,{"$f":"IF(B30=\"\",1,VLOOKUP(B30,'Spisak FSS izložbi'!$B$6:$H$318,7,FALSE))","v":1},0]
[17,null,{"$f":"IF(B31=\"\",\"\",VLOOKUP(B31,'Spisak FSS izložbi'!$B$6:$H$318,3,FALSE))","v":""},null,{"$f":"IF(B31=\"\",\"\",VLOOKUP(B31,'Spisak FSS izložbi'!$B$6:$H$318,6,FALSE))","v":""},{"$f":"IF(B31=\"\",\"\",VLOOKUP(B31,'Spisak FSS izložbi'!$B$6:$H$318,5,FALSE))","v":""},null,null,null,null,null,0,0,{"$f":"IF(B31=\"\",1,VLOOKUP(B31,'Spisak FSS izložbi'!$B$6:$H$318,7,FALSE))","v":1},0]
[18,null,{"$f":"IF(B32=\"\",\"\",VLOOKUP(B32,'Spisak FSS izložbi'!$B$6:$H$318,3,FALSE))","v":""},null,{"$f":"IF(B32=\"\",\"\",VLOOKUP(B32,'Spisak FSS izložbi'!$B$6:$H$318,6,FALSE))","v":""},{"$f":"IF(B32=\"\",\"\",VLOOKUP(B32,'Spisak FSS izložbi'!$B$6:$H$318,5,FALSE))","v":""},null,null,null,null,null,0,0,{"$f":"IF(B32=\"\",1,VLOOKUP(B32,'Spisak FSS izložbi'!$B$6:$H$318,7,FALSE))","v":1},0]
[19,null,{"$f":"IF(B33=\"\",\"\",VLOOKUP(B33,'Spisak FSS izložbi'!$B$6:$H$318,3,FALSE))","v":""},null,{"$f":"IF(B33=\"\",\"\",VLOOKUP(B33,'Spisak FSS izložbi'!$B$6:$H$318,6,FALSE))","v":""},{"$f":"IF(B33=\"\",\"\",VLOOKUP(B33,'Spisak FSS izložbi'!$B$6:$H$318,5,FALSE))","v":""},null,null,null,null,null,0,0,{"$f":"IF(B33=\"\",1,VLOOKUP(B33,'Spisak FSS izložbi'!$B$6:$H$318,7,FALSE))","v":1},0]
[20,null,{"$f":"IF(B34=\"\",\"\",VLOOKUP(B34,'Spisak FSS izložbi'!$B$6:$H$318,3,FALSE))","v":""},null,{"$f":"IF(B34=\"\",\"\",VLOOKUP(B34,'Spisak FSS izložbi'!$B$6:$H$318,6,FALSE))","v":""},{"$f":"IF(B34=\"\",\"\",VLOOKUP(B34,'Spisak FSS izložbi'!$B$6:$H$318,5,FALSE))","v":""},null,null,null,null,null,0,0,{"$f":"IF(B34=\"\",1,VLOOKUP(B34,'Spisak FSS izložbi'!$B$6:$H$318,7,FALSE))","v":1},0]
[21,null,{"$f":"IF(B35=\"\",\"\",VLOOKUP(B35,'Spisak FSS izložbi'!$B$6:$H$318,3,FALSE))","v":""},null,{"$f":"IF(B35=\"\",\"\",VLOOKUP(B35,'Spisak FSS izložbi'!$B$6:$H$318,6,FALSE))","v":""},{"$f":"IF(B35=\"\",\"\",VLOOKUP(B35,'Spisak FSS izložbi'!$B$6:$H$318,5,FALSE))","v":""},null,null,null,null,null,0,0,{"$f":"IF(B35=\"\",1,VLOOKUP(B35,'Spisak FSS izložbi'!$B$6:$H$318,7,FALSE))","v":1},0]
[22,null,{"$f":"IF(B36=\"\",\"\",VLOOKUP(B36,'Spisak FSS izložbi'!$B$6:$H$318,3,FALSE))","v":""},null,{"$f":"IF(B36=\"\",\"\",VLOOKUP(B36,'Spisak FSS izložbi'!$B$6:$H$318,6,FALSE))","v":""},{"$f":"IF(B36=\"\",\"\",VLOOKUP(B36,'Spisak FSS izložbi'!$B$6:$H$318,5,FALSE))","v":""},null,null,null,null,null,0,0,{"$f":"IF(B36=\"\",1,VLOOKUP(B36,'Spisak FSS izložbi'!$B$6:$H$318,7,FALSE))","v":1},0]
[23,null,{"$f":"IF(B37=\"\",\"\",VLOOKUP(B37,'Spisak FSS izložbi'!$B$6:$H$318,3,FALSE))","v":""},null,{"$f":"IF(B37=\"\",\"\",VLOOKUP(B37,'Spisak FSS izložbi'!$B$6:$H$318,6,FALSE))","v":""},{"$f":"IF(B37=\"\",\"\",VLOOKUP(B37,'Spisak FSS izložbi'!$B$6:$H$318,5,FALSE))","v":""},null,null,null,null,null,0,0,{"$f":"IF(B37=\"\",1,VLOOKUP(B37,'Spisak FSS izložbi'!$B$6:$H$318,7,FALSE))","v":1},0]
[24,null,{"$f":"IF(B38=\"\",\"\",VLOOKUP(B38,'Spisak FSS izložbi'!$B$6:$H$318,3,FALSE))","v":""},null,{"$f":"IF(B38=\"\",\"\",VLOOKUP(B38,'Spisak FSS izložbi'!$B$6:$H$318,6,FALSE))","v":""},{"$f":"IF(B38=\"\",\"\",VLOOKUP(B38,'Spisak FSS izložbi'!$B$6:$H$318,5,FALSE))","v":""},null,null,null,null,null,0,0,{"$f":"IF(B38=\"\",1,VLOOKUP(B38,'Spisak FSS izložbi'!$B$6:$H$318,7,FALSE))","v":1},0]
[25,null,{"$f":"IF(B39=\"\",\"\",VLOOKUP(B39,'Spisak FSS izložbi'!$B$6:$H$318,3,FALSE))","v":""},null,{"$f":"IF(B39=\"\",\"\",VLOOKUP(B39,'Spisak FSS izložbi'!$B$6:$H$318,6,FALSE))","v":""},{"$f":"IF(B39=\"\",\"\",VLOOKUP(B39,'Spisak FSS izložbi'!$B$6:$H$318,5,FALSE))","v":""},null,null,null,null,null,0,0,{"$f":"IF(B39=\"\",1,VLOOKUP(B39,'Spisak FSS izložbi'!$B$6:$H$318,7,FALSE))","v":1},0]
[26,null,{"$f":"IF(B40=\"\",\"\",VLOOKUP(B40,'Spisak FSS izložbi'!$B$6:$H$318,3,FALSE))","v":""},null,{"$f":"IF(B40=\"\",\"\",VLOOKUP(B40,'Spisak FSS izložbi'!$B$6:$H$318,6,FALSE))","v":""},{"$f":"IF(B40=\"\",\"\",VLOOKUP(B40,'Spisak FSS izložbi'!$B$6:$H$318,5,FALSE))","v":""},null,null,null,null,null,0,0,{"$f":"IF(B40=\"\",1,VLOOKUP(B40,'Spisak FSS izložbi'!$B$6:$H$318,7,FALSE))","v":1},0]
[27,null,{"$f":"IF(B41=\"\",\"\",VLOOKUP(B41,'Spisak FSS izložbi'!$B$6:$H$318,3,FALSE))","v":""},null,{"$f":"IF(B41=\"\",\"\",VLOOKUP(B41,'Spisak FSS izložbi'!$B$6:$H$318,6,FALSE))","v":""},{"$f":"IF(B41=\"\",\"\",VLOOKUP(B41,'Spisak FSS izložbi'!$B$6:$H$318,5,FALSE))","v":""},null,null,null,null,null,0,0,{"$f":"IF(B41=\"\",1,VLOOKUP(B41,'Spisak FSS izložbi'!$B$6:$H$318,7,FALSE))","v":1},0]
[28,null,{"$f":"IF(B42=\"\",\"\",VLOOKUP(B42,'Spisak FSS izložbi'!$B$6:$H$318,3,FALSE))","v":""},null,{"$f":"IF(B42=\"\",\"\",VLOOKUP(B42,'Spisak FSS izložbi'!$B$6:$H$318,6,FALSE))","v":""},{"$f":"IF(B42=\"\",\"\",VLOOKUP(B42,'Spisak FSS izložbi'!$B$6:$H$318,5,FALSE))","v":""},null,null,null,null,null,0,0,{"$f":"IF(B42=\"\",1,VLOOKUP(B42,'Spisak FSS izložbi'!$B$6:$H$318,7,FALSE))","v":1},0]
[29,null,{"$f":"IF(B43=\"\",\"\",VLOOKUP(B43,'Spisak FSS izložbi'!$B$6:$H$318,3,FALSE))","v":""},null,{"$f":"IF(B43=\"\",\"\",VLOOKUP(B43,'Spisak FSS izložbi'!$B$6:$H$318,6,FALSE))","v":""},{"$f":"IF(B43=\"\",\"\",VLOOKUP(B43,'Spisak FSS izložbi'!$B$6:$H$318,5,FALSE))","v":""},null,null,null,null,null,0,0,{"$f":"IF(B43=\"\",1,VLOOKUP(B43,'Spisak FSS izložbi'!$B$6:$H$318,7,FALSE))","v":1},0]
[30,null,{"$f":"IF(B44=\"\",\"\",VLOOKUP(B44,'Spisak FSS izložbi'!$B$6:$H$318,3,FALSE))","v":""},null,{"$f":"IF(B44=\"\",\"\",VLOOKUP(B44,'Spisak FSS izložbi'!$B$6:$H$318,6,FALSE))","v":""},{"$f":"IF(B44=\"\",\"\",VLOOKUP(B44,'Spisak FSS izložbi'!$B$6:$H$318,5,FALSE))","v":""},null,null,null,null,null,0,0,{"$f":"IF(B44=\"\",1,VLOOKUP(B44,'Spisak FSS izložbi'!$B$6:$H$318,7,FALSE))","v":1},0]
[31,null,{"$f":"IF(B45=\"\",\"\",VLOOKUP(B45,'Spisak FSS izložbi'!$B$6:$H$318,3,FALSE))","v":""},null,{"$f":"IF(B45=\"\",\"\",VLOOKUP(B45,'Spisak FSS izložbi'!$B$6:$H$318,6,FALSE))","v":""},{"$f":"IF(B45=\"\",\"\",VLOOKUP(B45,'Spisak FSS izložbi'!$B$6:$H$318,5,FALSE))","v":""},null,null,null,null,null,0,0,{"$f":"IF(B45=\"\",1,VLOOKUP(B45,'Spisak FSS izložbi'!$B$6:$H$318,7,FALSE))","v":1},0]
[32,null,{"$f":"IF(B46=\"\",\"\",VLOOKUP(B46,'Spisak FSS izložbi'!$B$6:$H$318,3,FALSE))","v":""},null,{"$f":"IF(B46=\"\",\"\",VLOOKUP(B46,'Spisak FSS izložbi'!$B$6:$H$318,6,FALSE))","v":""},{"$f":"IF(B46=\"\",\"\",VLOOKUP(B46,'Spisak FSS izložbi'!$B$6:$H$318,5,FALSE))","v":""},null,null,null,null,null,0,0,{"$f":"IF(B46=\"\",1,VLOOKUP(B46,'Spisak FSS izložbi'!$B$6:$H$318,7,FALSE))","v":1},0]
[33,null,{"$f":"IF(B47=\"\",\"\",VLOOKUP(B47,'Spisak FSS izložbi'!$B$6:$H$318,3,FALSE))","v":""},null,{"$f":"IF(B47=\"\",\"\",VLOOKUP(B47,'Spisak FSS izložbi'!$B$6:$H$318,6,FALSE))","v":""},{"$f":"IF(B47=\"\",\"\",VLOOKUP(B47,'Spisak FSS izložbi'!$B$6:$H$318,5,FALSE))","v":""},null,null,null,null,null,0,0,{"$f":"IF(B47=\"\",1,VLOOKUP(B47,'Spisak FSS izložbi'!$B$6:$H$318,7,FALSE))","v":1},0]
[34,null,{"$f":"IF(B48=\"\",\"\",VLOOKUP(B48,'Spisak FSS izložbi'!$B$6:$H$318,3,FALSE))","v":""},null,{"$f":"IF(B48=\"\",\"\",VLOOKUP(B48,'Spisak FSS izložbi'!$B$6:$H$318,6,FALSE))","v":""},{"$f":"IF(B48=\"\",\"\",VLOOKUP(B48,'Spisak FSS izložbi'!$B$6:$H$318,5,FALSE))","v":""},null,null,null,null,null,0,0,{"$f":"IF(B48=\"\",1,VLOOKUP(B48,'Spisak FSS izložbi'!$B$6:$H$318,7,FALSE))","v":1},0]
[35,null,{"$f":"IF(B49=\"\",\"\",VLOOKUP(B49,'Spisak FSS izložbi'!$B$6:$H$318,3,FALSE))","v":""},null,{"$f":"IF(B49=\"\",\"\",VLOOKUP(B49,'Spisak FSS izložbi'!$B$6:$H$318,6,FALSE))","v":""},{"$f":"IF(B49=\"\",\"\",VLOOKUP(B49,'Spisak FSS izložbi'!$B$6:$H$318,5,FALSE))","v":""},null,null,null,null,null,0,0,{"$f":"IF(B49=\"\",1,VLOOKUP(B49,'Spisak FSS izložbi'!$B$6:$H$318,7,FALSE))","v":1},0]
[36,null,{"$f":"IF(B50=\"\",\"\",VLOOKUP(B50,'Spisak FSS izložbi'!$B$6:$H$318,3,FALSE))","v":""},null,{"$f":"IF(B50=\"\",\"\",VLOOKUP(B50,'Spisak FSS izložbi'!$B$6:$H$318,6,FALSE))","v":""},{"$f":"IF(B50=\"\",\"\",VLOOKUP(B50,'Spisak FSS izložbi'!$B$6:$H$318,5,FALSE))","v":""},null,null,null,null,null,0,0,{"$f":"IF(B50=\"\",1,VLOOKUP(B50,'Spisak FSS izložbi'!$B$6:$H$318,7,FALSE))","v":1},0]
[37,null,{"$f":"IF(B51=\"\",\"\",VLOOKUP(B51,'Spisak FSS izložbi'!$B$6:$H$318,3,FALSE))","v":""},null,{"$f":"IF(B51=\"\",\"\",VLOOKUP(B51,'Spisak FSS izložbi'!$B$6:$H$318,6,FALSE))","v":""},{"$f":"IF(B51=\"\",\"\",VLOOKUP(B51,'Spisak FSS izložbi'!$B$6:$H$318,5,FALSE))","v":""},null,null,null,null,null,0,0,{"$f":"IF(B51=\"\",1,VLOOKUP(B51,'Spisak FSS izložbi'!$B$6:$H$318,7,FALSE))","v":1},0]
[38,null,{"$f":"IF(B52=\"\",\"\",VLOOKUP(B52,'Spisak FSS izložbi'!$B$6:$H$318,3,FALSE))","v":""},null,{"$f":"IF(B52=\"\",\"\",VLOOKUP(B52,'Spisak FSS izložbi'!$B$6:$H$318,6,FALSE))","v":""},{"$f":"IF(B52=\"\",\"\",VLOOKUP(B52,'Spisak FSS izložbi'!$B$6:$H$318,5,FALSE))","v":""},null,null,null,null,null,0,0,{"$f":"IF(B52=\"\",1,VLOOKUP(B52,'Spisak FSS izložbi'!$B$6:$H$318,7,FALSE))","v":1},0]
[39,null,{"$f":"IF(B53=\"\",\"\",VLOOKUP(B53,'Spisak FSS izložbi'!$B$6:$H$318,3,FALSE))","v":""},null,{"$f":"IF(B53=\"\",\"\",VLOOKUP(B53,'Spisak FSS izložbi'!$B$6:$H$318,6,FALSE))","v":""},{"$f":"IF(B53=\"\",\"\",VLOOKUP(B53,'Spisak FSS izložbi'!$B$6:$H$318,5,FALSE))","v":""},null,null,null,null,null,0,0,{"$f":"IF(B53=\"\",1,VLOOKUP(B53,'Spisak FSS izložbi'!$B$6:$H$318,7,FALSE))","v":1},0]
[40,null,{"$f":"IF(B54=\"\",\"\",VLOOKUP(B54,'Spisak FSS izložbi'!$B$6:$H$318,3,FALSE))","v":""},null,{"$f":"IF(B54=\"\",\"\",VLOOKUP(B54,'Spisak FSS izložbi'!$B$6:$H$318,6,FALSE))","v":""},{"$f":"IF(B54=\"\",\"\",VLOOKUP(B54,'Spisak FSS izložbi'!$B$6:$H$318,5,FALSE))","v":""},null,null,null,null,null,0,0,{"$f":"IF(B54=\"\",1,VLOOKUP(B54,'Spisak FSS izložbi'!$B$6:$H$318,7,FALSE))","v":1},0]
[41,null,{"$f":"IF(B55=\"\",\"\",VLOOKUP(B55,'Spisak FSS izložbi'!$B$6:$H$318,3,FALSE))","v":""},null,{"$f":"IF(B55=\"\",\"\",VLOOKUP(B55,'Spisak FSS izložbi'!$B$6:$H$318,6,FALSE))","v":""},{"$f":"IF(B55=\"\",\"\",VLOOKUP(B55,'Spisak FSS izložbi'!$B$6:$H$318,5,FALSE))","v":""},null,null,null,null,null,0,0,{"$f":"IF(B55=\"\",1,VLOOKUP(B55,'Spisak FSS izložbi'!$B$6:$H$318,7,FALSE))","v":1},0]
[42,null,{"$f":"IF(B56=\"\",\"\",VLOOKUP(B56,'Spisak FSS izložbi'!$B$6:$H$318,3,FALSE))","v":""},null,{"$f":"IF(B56=\"\",\"\",VLOOKUP(B56,'Spisak FSS izložbi'!$B$6:$H$318,6,FALSE))","v":""},{"$f":"IF(B56=\"\",\"\",VLOOKUP(B56,'Spisak FSS izložbi'!$B$6:$H$318,5,FALSE))","v":""},null,null,null,null,null,0,0,{"$f":"IF(B56=\"\",1,VLOOKUP(B56,'Spisak FSS izložbi'!$B$6:$H$318,7,FALSE))","v":1},0]
[43,null,{"$f":"IF(B57=\"\",\"\",VLOOKUP(B57,'Spisak FSS izložbi'!$B$6:$H$318,3,FALSE))","v":""},null,{"$f":"IF(B57=\"\",\"\",VLOOKUP(B57,'Spisak FSS izložbi'!$B$6:$H$318,6,FALSE))","v":""},{"$f":"IF(B57=\"\",\"\",VLOOKUP(B57,'Spisak FSS izložbi'!$B$6:$H$318,5,FALSE))","v":""},null,null,null,null,null,0,0,{"$f":"IF(B57=\"\",1,VLOOKUP(B57,'Spisak FSS izložbi'!$B$6:$H$318,7,FALSE))","v":1},0]
[44,null,{"$f":"IF(B58=\"\",\"\",VLOOKUP(B58,'Spisak FSS izložbi'!$B$6:$H$318,3,FALSE))","v":""},null,{"$f":"IF(B58=\"\",\"\",VLOOKUP(B58,'Spisak FSS izložbi'!$B$6:$H$318,6,FALSE))","v":""},{"$f":"IF(B58=\"\",\"\",VLOOKUP(B58,'Spisak FSS izložbi'!$B$6:$H$318,5,FALSE))","v":""},null,null,null,null,null,0,0,{"$f":"IF(B58=\"\",1,VLOOKUP(B58,'Spisak FSS izložbi'!$B$6:$H$318,7,FALSE))","v":1},0]
[45,null,{"$f":"IF(B59=\"\",\"\",VLOOKUP(B59,'Spisak FSS izložbi'!$B$6:$H$318,3,FALSE))","v":""},null,{"$f":"IF(B59=\"\",\"\",VLOOKUP(B59,'Spisak FSS izložbi'!$B$6:$H$318,6,FALSE))","v":""},{"$f":"IF(B59=\"\",\"\",VLOOKUP(B59,'Spisak FSS izložbi'!$B$6:$H$318,5,FALSE))","v":""},null,null,null,null,null,0,0,{"$f":"IF(B59=\"\",1,VLOOKUP(B59,'Spisak FSS izložbi'!$B$6:$H$318,7,FALSE))","v":1},0]
[46,null,{"$f":"IF(B60=\"\",\"\",VLOOKUP(B60,'Spisak FSS izložbi'!$B$6:$H$318,3,FALSE))","v":""},null,{"$f":"IF(B60=\"\",\"\",VLOOKUP(B60,'Spisak FSS izložbi'!$B$6:$H$318,6,FALSE))","v":""},{"$f":"IF(B60=\"\",\"\",VLOOKUP(B60,'Spisak FSS izložbi'!$B$6:$H$318,5,FALSE))","v":""},null,null,null,null,null,0,0,{"$f":"IF(B60=\"\",1,VLOOKUP(B60,'Spisak FSS izložbi'!$B$6:$H$318,7,FALSE))","v":1},0]
[47,null,{"$f":"IF(B61=\"\",\"\",VLOOKUP(B61,'Spisak FSS izložbi'!$B$6:$H$318,3,FALSE))","v":""},null,{"$f":"IF(B61=\"\",\"\",VLOOKUP(B61,'Spisak FSS izložbi'!$B$6:$H$318,6,FALSE))","v":""},{"$f":"IF(B61=\"\",\"\",VLOOKUP(B61,'Spisak FSS izložbi'!$B$6:$H$318,5,FALSE))","v":""},null,null,null,null,null,0,0,{"$f":"IF(B61=\"\",1,VLOOKUP(B61,'Spisak FSS izložbi'!$B$6:$H$318,7,FALSE))","v":1},0]
[48,null,{"$f":"IF(B62=\"\",\"\",VLOOKUP(B62,'Spisak FSS izložbi'!$B$6:$H$318,3,FALSE))","v":""},null,{"$f":"IF(B62=\"\",\"\",VLOOKUP(B62,'Spisak FSS izložbi'!$B$6:$H$318,6,FALSE))","v":""},{"$f":"IF(B62=\"\",\"\",VLOOKUP(B62,'Spisak FSS izložbi'!$B$6:$H$318,5,FALSE))","v":""},null,null,null,null,null,0,0,{"$f":"IF(B62=\"\",1,VLOOKUP(B62,'Spisak FSS izložbi'!$B$6:$H$318,7,FALSE))","v":1},0]
[49,null,{"$f":"IF(B63=\"\",\"\",VLOOKUP(B63,'Spisak FSS izložbi'!$B$6:$H$318,3,FALSE))","v":""},null,{"$f":"IF(B63=\"\",\"\",VLOOKUP(B63,'Spisak FSS izložbi'!$B$6:$H$318,6,FALSE))","v":""},{"$f":"IF(B63=\"\",\"\",VLOOKUP(B63,'Spisak FSS izložbi'!$B$6:$H$318,5,FALSE))","v":""},null,null,null,null,null,0,0,{"$f":"IF(B63=\"\",1,VLOOKUP(B63,'Spisak FSS izložbi'!$B$6:$H$318,7,FALSE))","v":1},0]
[50,null,{"$f":"IF(B64=\"\",\"\",VLOOKUP(B64,'Spisak FSS izložbi'!$B$6:$H$318,3,FALSE))","v":""},null,{"$f":"IF(B64=\"\",\"\",VLOOKUP(B64,'Spisak FSS izložbi'!$B$6:$H$318,6,FALSE))","v":""},{"$f":"IF(B64=\"\",\"\",VLOOKUP(B64,'Spisak FSS izložbi'!$B$6:$H$318,5,FALSE))","v":""},null,null,null,null,null,0,0,{"$f":"IF(B64=\"\",1,VLOOKUP(B64,'Spisak FSS izložbi'!$B$6:$H$318,7,FALSE))","v":1},0]
[51,null,{"$f":"IF(B65=\"\",\"\",VLOOKUP(B65,'Spisak FSS izložbi'!$B$6:$H$318,3,FALSE))","v":""},null,{"$f":"IF(B65=\"\",\"\",VLOOKUP(B65,'Spisak FSS izložbi'!$B$6:$H$318,6,FALSE))","v":""},{"$f":"IF(B65=\"\",\"\",VLOOKUP(B65,'Spisak FSS izložbi'!$B$6:$H$318,5,FALSE))","v":""},null,null,null,null,null,0,0,{"$f":"IF(B65=\"\",1,VLOOKUP(B65,'Spisak FSS izložbi'!$B$6:$H$318,7,FALSE))","v":1},0]
[52,null,{"$f":"IF(B66=\"\",\"\",VLOOKUP(B66,'Spisak FSS izložbi'!$B$6:$H$318,3,FALSE))","v":""},null,{"$f":"IF(B66=\"\",\"\",VLOOKUP(B66,'Spisak FSS izložbi'!$B$6:$H$318,6,FALSE))","v":""},{"$f":"IF(B66=\"\",\"\",VLOOKUP(B66,'Spisak FSS izložbi'!$B$6:$H$318,5,FALSE))","v":""},null,null,null,null,null,0,0,{"$f":"IF(B66=\"\",1,VLOOKUP(B66,'Spisak FSS izložbi'!$B$6:$H$318,7,FALSE))","v":1},0]
[53,null,{"$f":"IF(B67=\"\",\"\",VLOOKUP(B67,'Spisak FSS izložbi'!$B$6:$H$318,3,FALSE))","v":""},null,{"$f":"IF(B67=\"\",\"\",VLOOKUP(B67,'Spisak FSS izložbi'!$B$6:$H$318,6,FALSE))","v":""},{"$f":"IF(B67=\"\",\"\",VLOOKUP(B67,'Spisak FSS izložbi'!$B$6:$H$318,5,FALSE))","v":""},null,null,null,null,null,0,0,{"$f":"IF(B67=\"\",1,VLOOKUP(B67,'Spisak FSS izložbi'!$B$6:$H$318,7,FALSE))","v":1},0]
[54,null,{"$f":"IF(B68=\"\",\"\",VLOOKUP(B68,'Spisak FSS izložbi'!$B$6:$H$318,3,FALSE))","v":""},null,{"$f":"IF(B68=\"\",\"\",VLOOKUP(B68,'Spisak FSS izložbi'!$B$6:$H$318,6,FALSE))","v":""},{"$f":"IF(B68=\"\",\"\",VLOOKUP(B68,'Spisak FSS izložbi'!$B$6:$H$318,5,FALSE))","v":""},null,null,null,null,null,0,0,{"$f":"IF(B68=\"\",1,VLOOKUP(B68,'Spisak FSS izložbi'!$B$6:$H$318,7,FALSE))","v":1},0]
[55,null,{"$f":"IF(B69=\"\",\"\",VLOOKUP(B69,'Spisak FSS izložbi'!$B$6:$H$318,3,FALSE))","v":""},null,{"$f":"IF(B69=\"\",\"\",VLOOKUP(B69,'Spisak FSS izložbi'!$B$6:$H$318,6,FALSE))","v":""},{"$f":"IF(B69=\"\",\"\",VLOOKUP(B69,'Spisak FSS izložbi'!$B$6:$H$318,5,FALSE))","v":""},null,null,null,null,null,0,0,{"$f":"IF(B69=\"\",1,VLOOKUP(B69,'Spisak FSS izložbi'!$B$6:$H$318,7,FALSE))","v":1},0]
[56,null,{"$f":"IF(B70=\"\",\"\",VLOOKUP(B70,'Spisak FSS izložbi'!$B$6:$H$318,3,FALSE))","v":""},null,{"$f":"IF(B70=\"\",\"\",VLOOKUP(B70,'Spisak FSS izložbi'!$B$6:$H$318,6,FALSE))","v":""},{"$f":"IF(B70=\"\",\"\",VLOOKUP(B70,'Spisak FSS izložbi'!$B$6:$H$318,5,FALSE))","v":""},null,null,null,null,null,0,0,{"$f":"IF(B70=\"\",1,VLOOKUP(B70,'Spisak FSS izložbi'!$B$6:$H$318,7,FALSE))","v":1},0]
[57,null,{"$f":"IF(B71=\"\",\"\",VLOOKUP(B71,'Spisak FSS izložbi'!$B$6:$H$318,3,FALSE))","v":""},null,{"$f":"IF(B71=\"\",\"\",VLOOKUP(B71,'Spisak FSS izložbi'!$B$6:$H$318,6,FALSE))","v":""},{"$f":"IF(B71=\"\",\"\",VLOOKUP(B71,'Spisak FSS izložbi'!$B$6:$H$318,5,FALSE))","v":""},null,null,null,null,null,0,0,{"$f":"IF(B71=\"\",1,VLOOKUP(B71,'Spisak FSS izložbi'!$B$6:$H$318,7,FALSE))","v":1},0]
[58,null,{"$f":"IF(B72=\"\",\"\",VLOOKUP(B72,'Spisak FSS izložbi'!$B$6:$H$318,3,FALSE))","v":""},null,{"$f":"IF(B72=\"\",\"\",VLOOKUP(B72,'Spisak FSS izložbi'!$B$6:$H$318,6,FALSE))","v":""},{"$f":"IF(B72=\"\",\"\",VLOOKUP(B72,'Spisak FSS izložbi'!$B$6:$H$318,5,FALSE))","v":""},null,null,null,null,null,0,0,{"$f":"IF(B72=\"\",1,VLOOKUP(B72,'Spisak FSS izložbi'!$B$6:$H$318,7,FALSE))","v":1},0]
[59,null,{"$f":"IF(B73=\"\",\"\",VLOOKUP(B73,'Spisak FSS izložbi'!$B$6:$H$318,3,FALSE))","v":""},null,{"$f":"IF(B73=\"\",\"\",VLOOKUP(B73,'Spisak FSS izložbi'!$B$6:$H$318,6,FALSE))","v":""},{"$f":"IF(B73=\"\",\"\",VLOOKUP(B73,'Spisak FSS izložbi'!$B$6:$H$318,5,FALSE))","v":""},null,null,null,null,null,0,0,{"$f":"IF(B73=\"\",1,VLOOKUP(B73,'Spisak FSS izložbi'!$B$6:$H$318,7,FALSE))","v":1},0]
[60,null,{"$f":"IF(B74=\"\",\"\",VLOOKUP(B74,'Spisak FSS izložbi'!$B$6:$H$318,3,FALSE))","v":""},null,{"$f":"IF(B74=\"\",\"\",VLOOKUP(B74,'Spisak FSS izložbi'!$B$6:$H$318,6,FALSE))","v":""},{"$f":"IF(B74=\"\",\"\",VLOOKUP(B74,'Spisak FSS izložbi'!$B$6:$H$318,5,FALSE))","v":""},null,null,null,null,null,0,0,{"$f":"IF(B74=\"\",1,VLOOKUP(B74,'Spisak FSS izložbi'!$B$6:$H$318,7,FALSE))","v":1},0]
[61,null,{"$f":"IF(B75=\"\",\"\",VLOOKUP(B75,'Spisak FSS izložbi'!$B$6:$H$318,3,FALSE))","v":""},null,{"$f":"IF(B75=\"\",\"\",VLOOKUP(B75,'Spisak FSS izložbi'!$B$6:$H$318,6,FALSE))","v":""},{"$f":"IF(B75=\"\",\"\",VLOOKUP(B75,'Spisak FSS izložbi'!$B$6:$H$318,5,FALSE))","v":""},null,null,null,null,null,0,0,{"$f":"IF(B75=\"\",1,VLOOKUP(B75,'Spisak FSS izložbi'!$B$6:$H$318,7,FALSE))","v":1},0]
[62,null,{"$f":"IF(B76=\"\",\"\",VLOOKUP(B76,'Spisak FSS izložbi'!$B$6:$H$318,3,FALSE))","v":""},null,{"$f":"IF(B76=\"\",\"\",VLOOKUP(B76,'Spisak FSS izložbi'!$B$6:$H$318,6,FALSE))","v":""},{"$f":"IF(B76=\"\",\"\",VLOOKUP(B76,'Spisak FSS izložbi'!$B$6:$H$318,5,FALSE))","v":""},null,null,null,null,null,0,0,{"$f":"IF(B76=\"\",1,VLOOKUP(B76,'Spisak FSS izložbi'!$B$6:$H$318,7,FALSE))","v":1},0]
[63,null,{"$f":"IF(B77=\"\",\"\",VLOOKUP(B77,'Spisak FSS izložbi'!$B$6:$H$318,3,FALSE))","v":""},null,{"$f":"IF(B77=\"\",\"\",VLOOKUP(B77,'Spisak FSS izložbi'!$B$6:$H$318,6,FALSE))","v":""},{"$f":"IF(B77=\"\",\"\",VLOOKUP(B77,'Spisak FSS izložbi'!$B$6:$H$318,5,FALSE))","v":""},null,null,null,null,null,0,0,{"$f":"IF(B77=\"\",1,VLOOKUP(B77,'Spisak FSS izložbi'!$B$6:$H$318,7,FALSE))","v":1},0]
[64,null,{"$f":"IF(B78=\"\",\"\",VLOOKUP(B78,'Spisak FSS izložbi'!$B$6:$H$318,3,FALSE))","v":""},null,{"$f":"IF(B78=\"\",\"\",VLOOKUP(B78,'Spisak FSS izložbi'!$B$6:$H$318,6,FALSE))","v":""},{"$f":"IF(B78=\"\",\"\",VLOOKUP(B78,'Spisak FSS izložbi'!$B$6:$H$318,5,FALSE))","v":""},null,null,null,null,null,0,0,{"$f":"IF(B78=\"\",1,VLOOKUP(B78,'Spisak FSS izložbi'!$B$6:$H$318,7,FALSE))","v":1},0]
[65,null,{"$f":"IF(B79=\"\",\"\",VLOOKUP(B79,'Spisak FSS izložbi'!$B$6:$H$318,3,FALSE))","v":""},null,{"$f":"IF(B79=\"\",\"\",VLOOKUP(B79,'Spisak FSS izložbi'!$B$6:$H$318,6,FALSE))","v":""},{"$f":"IF(B79=\"\",\"\",VLOOKUP(B79,'Spisak FSS izložbi'!$B$6:$H$318,5,FALSE))","v":""},null,null,null,null,null,0,0,{"$f":"IF(B79=\"\",1,VLOOKUP(B79,'Spisak FSS izložbi'!$B$6:$H$318,7,FALSE))","v":1},0]
[66,null,{"$f":"IF(B80=\"\",\"\",VLOOKUP(B80,'Spisak FSS izložbi'!$B$6:$H$318,3,FALSE))","v":""},null,{"$f":"IF(B80=\"\",\"\",VLOOKUP(B80,'Spisak FSS izložbi'!$B$6:$H$318,6,FALSE))","v":""},{"$f":"IF(B80=\"\",\"\",VLOOKUP(B80,'Spisak FSS izložbi'!$B$6:$H$318,5,FALSE))","v":""},null,null,null,null,null,{"$f":"IF(E80=$H$1,$H$6,IF(E80=$I$1,$I$6,IF(E80=$J$1,$J$6,IF(E80=$K$1,$K$6,IF(E80=$L$1,$L$6,IF(E80=$M$1,$M$6,IF(E80=$N$1,$N$6,IF(E80=$O$1,$O$6,0))))))))","v":0},{"$f":"IF(OR(E80=\"\",K80=\"\")=TRUE,0,VLOOKUP(K80,$G$1:$O$7,MATCH(E80,$G$1:$O$1,0),FALSE))","v":0},{"$f":"IF(B80=\"\",1,VLOOKUP(B80,'Spisak FSS izložbi'!$B$6:$H$318,7,FALSE))","v":1},{"$f":"(L80+M80)*N80","v":0}]
[67,null,{"$f":"IF(B81=\"\",\"\",VLOOKUP(B81,'Spisak FSS izložbi'!$B$6:$H$318,3,FALSE))","v":""},null,{"$f":"IF(B81=\"\",\"\",VLOOKUP(B81,'Spisak FSS izložbi'!$B$6:$H$318,6,FALSE))","v":""},{"$f":"IF(B81=\"\",\"\",VLOOKUP(B81,'Spisak FSS izložbi'!$B$6:$H$318,5,FALSE))","v":""},null,null,null,null,null,0,0,{"$f":"IF(B81=\"\",1,VLOOKUP(B81,'Spisak FSS izložbi'!$B$6:$H$318,7,FALSE))","v":1},0]
[68,null,{"$f":"IF(B82=\"\",\"\",VLOOKUP(B82,'Spisak FSS izložbi'!$B$6:$H$318,3,FALSE))","v":""},null,{"$f":"IF(B82=\"\",\"\",VLOOKUP(B82,'Spisak FSS izložbi'!$B$6:$H$318,6,FALSE))","v":""},{"$f":"IF(B82=\"\",\"\",VLOOKUP(B82,'Spisak FSS izložbi'!$B$6:$H$318,5,FALSE))","v":""},null,null,null,null,null,0,0,{"$f":"IF(B82=\"\",1,VLOOKUP(B82,'Spisak FSS izložbi'!$B$6:$H$318,7,FALSE))","v":1},0]
[69,null,{"$f":"IF(B83=\"\",\"\",VLOOKUP(B83,'Spisak FSS izložbi'!$B$6:$H$318,3,FALSE))","v":""},null,{"$f":"IF(B83=\"\",\"\",VLOOKUP(B83,'Spisak FSS izložbi'!$B$6:$H$318,6,FALSE))","v":""},{"$f":"IF(B83=\"\",\"\",VLOOKUP(B83,'Spisak FSS izložbi'!$B$6:$H$318,5,FALSE))","v":""},null,null,null,null,null,0,0,{"$f":"IF(B83=\"\",1,VLOOKUP(B83,'Spisak FSS izložbi'!$B$6:$H$318,7,FALSE))","v":1},0]
[70,null,{"$f":"IF(B84=\"\",\"\",VLOOKUP(B84,'Spisak FSS izložbi'!$B$6:$H$318,3,FALSE))","v":""},null,{"$f":"IF(B84=\"\",\"\",VLOOKUP(B84,'Spisak FSS izložbi'!$B$6:$H$318,6,FALSE))","v":""},{"$f":"IF(B84=\"\",\"\",VLOOKUP(B84,'Spisak FSS izložbi'!$B$6:$H$318,5,FALSE))","v":""},null,null,null,null,null,0,0,{"$f":"IF(B84=\"\",1,VLOOKUP(B84,'Spisak FSS izložbi'!$B$6:$H$318,7,FALSE))","v":1},0]
[71,null,{"$f":"IF(B85=\"\",\"\",VLOOKUP(B85,'Spisak FSS izložbi'!$B$6:$H$318,3,FALSE))","v":""},null,{"$f":"IF(B85=\"\",\"\",VLOOKUP(B85,'Spisak FSS izložbi'!$B$6:$H$318,6,FALSE))","v":""},{"$f":"IF(B85=\"\",\"\",VLOOKUP(B85,'Spisak FSS izložbi'!$B$6:$H$318,5,FALSE))","v":""},null,null,null,null,null,0,0,{"$f":"IF(B85=\"\",1,VLOOKUP(B85,'Spisak FSS izložbi'!$B$6:$H$318,7,FALSE))","v":1},0]
[72,null,{"$f":"IF(B86=\"\",\"\",VLOOKUP(B86,'Spisak FSS izložbi'!$B$6:$H$318,3,FALSE))","v":""},null,{"$f":"IF(B86=\"\",\"\",VLOOKUP(B86,'Spisak FSS izložbi'!$B$6:$H$318,6,FALSE))","v":""},{"$f":"IF(B86=\"\",\"\",VLOOKUP(B86,'Spisak FSS izložbi'!$B$6:$H$318,5,FALSE))","v":""},null,null,null,null,null,0,0,{"$f":"IF(B86=\"\",1,VLOOKUP(B86,'Spisak FSS izložbi'!$B$6:$H$318,7,FALSE))","v":1},0]
[73,null,{"$f":"IF(B87=\"\",\"\",VLOOKUP(B87,'Spisak FSS izložbi'!$B$6:$H$318,3,FALSE))","v":""},null,{"$f":"IF(B87=\"\",\"\",VLOOKUP(B87,'Spisak FSS izložbi'!$B$6:$H$318,6,FALSE))","v":""},{"$f":"IF(B87=\"\",\"\",VLOOKUP(B87,'Spisak FSS izložbi'!$B$6:$H$318,5,FALSE))","v":""},null,null,null,null,null,0,0,{"$f":"IF(B87=\"\",1,VLOOKUP(B87,'Spisak FSS izložbi'!$B$6:$H$318,7,FALSE))","v":1},0]
[74,null,{"$f":"IF(B88=\"\",\"\",VLOOKUP(B88,'Spisak FSS izložbi'!$B$6:$H$318,3,FALSE))","v":""},null,{"$f":"IF(B88=\"\",\"\",VLOOKUP(B88,'Spisak FSS izložbi'!$B$6:$H$318,6,FALSE))","v":""},{"$f":"IF(B88=\"\",\"\",VLOOKUP(B88,'Spisak FSS izložbi'!$B$6:$H$318,5,FALSE))","v":""},null,null,null,null,null,0,0,{"$f":"IF(B88=\"\",1,VLOOKUP(B88,'Spisak FSS izložbi'!$B$6:$H$318,7,FALSE))","v":1},0]
[75,null,{"$f":"IF(B89=\"\",\"\",VLOOKUP(B89,'Spisak FSS izložbi'!$B$6:$H$318,3,FALSE))","v":""},null,{"$f":"IF(B89=\"\",\"\",VLOOKUP(B89,'Spisak FSS izložbi'!$B$6:$H$318,6,FALSE))","v":""},{"$f":"IF(B89=\"\",\"\",VLOOKUP(B89,'Spisak FSS izložbi'!$B$6:$H$318,5,FALSE))","v":""},null,null,null,null,null,0,0,{"$f":"IF(B89=\"\",1,VLOOKUP(B89,'Spisak FSS izložbi'!$B$6:$H$318,7,FALSE))","v":1},0]
[76,null,{"$f":"IF(B90=\"\",\"\",VLOOKUP(B90,'Spisak FSS izložbi'!$B$6:$H$318,3,FALSE))","v":""},null,{"$f":"IF(B90=\"\",\"\",VLOOKUP(B90,'Spisak FSS izložbi'!$B$6:$H$318,6,FALSE))","v":""},{"$f":"IF(B90=\"\",\"\",VLOOKUP(B90,'Spisak FSS izložbi'!$B$6:$H$318,5,FALSE))","v":""},null,null,null,null,null,0,0,{"$f":"IF(B90=\"\",1,VLOOKUP(B90,'Spisak FSS izložbi'!$B$6:$H$318,7,FALSE))","v":1},0]
[77,null,{"$f":"IF(B91=\"\",\"\",VLOOKUP(B91,'Spisak FSS izložbi'!$B$6:$H$318,3,FALSE))","v":""},null,{"$f":"IF(B91=\"\",\"\",VLOOKUP(B91,'Spisak FSS izložbi'!$B$6:$H$318,6,FALSE))","v":""},{"$f":"IF(B91=\"\",\"\",VLOOKUP(B91,'Spisak FSS izložbi'!$B$6:$H$318,5,FALSE))","v":""},null,null,null,null,null,0,0,{"$f":"IF(B91=\"\",1,VLOOKUP(B91,'Spisak FSS izložbi'!$B$6:$H$318,7,FALSE))","v":1},0]
[78,null,{"$f":"IF(B92=\"\",\"\",VLOOKUP(B92,'Spisak FSS izložbi'!$B$6:$H$318,3,FALSE))","v":""},null,{"$f":"IF(B92=\"\",\"\",VLOOKUP(B92,'Spisak FSS izložbi'!$B$6:$H$318,6,FALSE))","v":""},{"$f":"IF(B92=\"\",\"\",VLOOKUP(B92,'Spisak FSS izložbi'!$B$6:$H$318,5,FALSE))","v":""},null,null,null,null,null,0,0,{"$f":"IF(B92=\"\",1,VLOOKUP(B92,'Spisak FSS izložbi'!$B$6:$H$318,7,FALSE))","v":1},0]
[79,null,{"$f":"IF(B93=\"\",\"\",VLOOKUP(B93,'Spisak FSS izložbi'!$B$6:$H$318,3,FALSE))","v":""},null,{"$f":"IF(B93=\"\",\"\",VLOOKUP(B93,'Spisak FSS izložbi'!$B$6:$H$318,6,FALSE))","v":""},{"$f":"IF(B93=\"\",\"\",VLOOKUP(B93,'Spisak FSS izložbi'!$B$6:$H$318,5,FALSE))","v":""},null,null,null,null,null,0,0,{"$f":"IF(B93=\"\",1,VLOOKUP(B93,'Spisak FSS izložbi'!$B$6:$H$318,7,FALSE))","v":1},0]
[80,null,{"$f":"IF(B94=\"\",\"\",VLOOKUP(B94,'Spisak FSS izložbi'!$B$6:$H$318,3,FALSE))","v":""},null,{"$f":"IF(B94=\"\",\"\",VLOOKUP(B94,'Spisak FSS izložbi'!$B$6:$H$318,6,FALSE))","v":""},{"$f":"IF(B94=\"\",\"\",VLOOKUP(B94,'Spisak FSS izložbi'!$B$6:$H$318,5,FALSE))","v":""},null,null,null,null,null,0,0,{"$f":"IF(B94=\"\",1,VLOOKUP(B94,'Spisak FSS izložbi'!$B$6:$H$318,7,FALSE))","v":1},0]
[81,null,{"$f":"IF(B95=\"\",\"\",VLOOKUP(B95,'Spisak FSS izložbi'!$B$6:$H$318,3,FALSE))","v":""},null,{"$f":"IF(B95=\"\",\"\",VLOOKUP(B95,'Spisak FSS izložbi'!$B$6:$H$318,6,FALSE))","v":""},{"$f":"IF(B95=\"\",\"\",VLOOKUP(B95,'Spisak FSS izložbi'!$B$6:$H$318,5,FALSE))","v":""},null,null,null,null,null,0,0,{"$f":"IF(B95=\"\",1,VLOOKUP(B95,'Spisak FSS izložbi'!$B$6:$H$318,7,FALSE))","v":1},0]
[82,null,{"$f":"IF(B96=\"\",\"\",VLOOKUP(B96,'Spisak FSS izložbi'!$B$6:$H$318,3,FALSE))","v":""},null,{"$f":"IF(B96=\"\",\"\",VLOOKUP(B96,'Spisak FSS izložbi'!$B$6:$H$318,6,FALSE))","v":""},{"$f":"IF(B96=\"\",\"\",VLOOKUP(B96,'Spisak FSS izložbi'!$B$6:$H$318,5,FALSE))","v":""},null,null,null,null,null,0,0,{"$f":"IF(B96=\"\",1,VLOOKUP(B96,'Spisak FSS izložbi'!$B$6:$H$318,7,FALSE))","v":1},0]
[83,null,{"$f":"IF(B97=\"\",\"\",VLOOKUP(B97,'Spisak FSS izložbi'!$B$6:$H$318,3,FALSE))","v":""},null,{"$f":"IF(B97=\"\",\"\",VLOOKUP(B97,'Spisak FSS izložbi'!$B$6:$H$318,6,FALSE))","v":""},{"$f":"IF(B97=\"\",\"\",VLOOKUP(B97,'Spisak FSS izložbi'!$B$6:$H$318,5,FALSE))","v":""},null,null,null,null,null,0,0,{"$f":"IF(B97=\"\",1,VLOOKUP(B97,'Spisak FSS izložbi'!$B$6:$H$318,7,FALSE))","v":1},0]
[84,null,{"$f":"IF(B98=\"\",\"\",VLOOKUP(B98,'Spisak FSS izložbi'!$B$6:$H$318,3,FALSE))","v":""},null,{"$f":"IF(B98=\"\",\"\",VLOOKUP(B98,'Spisak FSS izložbi'!$B$6:$H$318,6,FALSE))","v":""},{"$f":"IF(B98=\"\",\"\",VLOOKUP(B98,'Spisak FSS izložbi'!$B$6:$H$318,5,FALSE))","v":""},null,null,null,null,null,0,0,{"$f":"IF(B98=\"\",1,VLOOKUP(B98,'Spisak FSS izložbi'!$B$6:$H$318,7,FALSE))","v":1},0]
[85,null,{"$f":"IF(B99=\"\",\"\",VLOOKUP(B99,'Spisak FSS izložbi'!$B$6:$H$318,3,FALSE))","v":""},null,{"$f":"IF(B99=\"\",\"\",VLOOKUP(B99,'Spisak FSS izložbi'!$B$6:$H$318,6,FALSE))","v":""},{"$f":"IF(B99=\"\",\"\",VLOOKUP(B99,'Spisak FSS izložbi'!$B$6:$H$318,5,FALSE))","v":""},null,null,null,null,null,0,0,{"$f":"IF(B99=\"\",1,VLOOKUP(B99,'Spisak FSS izložbi'!$B$6:$H$318,7,FALSE))","v":1},0]
[86,null,{"$f":"IF(B100=\"\",\"\",VLOOKUP(B100,'Spisak FSS izložbi'!$B$6:$H$318,3,FALSE))","v":""},null,{"$f":"IF(B100=\"\",\"\",VLOOKUP(B100,'Spisak FSS izložbi'!$B$6:$H$318,6,FALSE))","v":""},{"$f":"IF(B100=\"\",\"\",VLOOKUP(B100,'Spisak FSS izložbi'!$B$6:$H$318,5,FALSE))","v":""},null,null,null,null,null,0,0,{"$f":"IF(B100=\"\",1,VLOOKUP(B100,'Spisak FSS izložbi'!$B$6:$H$318,7,FALSE))","v":1},0]
[87,null,{"$f":"IF(B101=\"\",\"\",VLOOKUP(B101,'Spisak FSS izložbi'!$B$6:$H$318,3,FALSE))","v":""},null,{"$f":"IF(B101=\"\",\"\",VLOOKUP(B101,'Spisak FSS izložbi'!$B$6:$H$318,6,FALSE))","v":""},{"$f":"IF(B101=\"\",\"\",VLOOKUP(B101,'Spisak FSS izložbi'!$B$6:$H$318,5,FALSE))","v":""},null,null,null,null,null,0,0,{"$f":"IF(B101=\"\",1,VLOOKUP(B101,'Spisak FSS izložbi'!$B$6:$H$318,7,FALSE))","v":1},0]
[88,null,{"$f":"IF(B102=\"\",\"\",VLOOKUP(B102,'Spisak FSS izložbi'!$B$6:$H$318,3,FALSE))","v":""},null,{"$f":"IF(B102=\"\",\"\",VLOOKUP(B102,'Spisak FSS izložbi'!$B$6:$H$318,6,FALSE))","v":""},{"$f":"IF(B102=\"\",\"\",VLOOKUP(B102,'Spisak FSS izložbi'!$B$6:$H$318,5,FALSE))","v":""},null,null,null,null,null,0,0,{"$f":"IF(B102=\"\",1,VLOOKUP(B102,'Spisak FSS izložbi'!$B$6:$H$318,7,FALSE))","v":1},0]
[89,null,{"$f":"IF(B103=\"\",\"\",VLOOKUP(B103,'Spisak FSS izložbi'!$B$6:$H$318,3,FALSE))","v":""},null,{"$f":"IF(B103=\"\",\"\",VLOOKUP(B103,'Spisak FSS izložbi'!$B$6:$H$318,6,FALSE))","v":""},{"$f":"IF(B103=\"\",\"\",VLOOKUP(B103,'Spisak FSS izložbi'!$B$6:$H$318,5,FALSE))","v":""},null,null,null,null,null,0,0,{"$f":"IF(B103=\"\",1,VLOOKUP(B103,'Spisak FSS izložbi'!$B$6:$H$318,7,FALSE))","v":1},0]
[90,null,{"$f":"IF(B104=\"\",\"\",VLOOKUP(B104,'Spisak FSS izložbi'!$B$6:$H$318,3,FALSE))","v":""},null,{"$f":"IF(B104=\"\",\"\",VLOOKUP(B104,'Spisak FSS izložbi'!$B$6:$H$318,6,FALSE))","v":""},{"$f":"IF(B104=\"\",\"\",VLOOKUP(B104,'Spisak FSS izložbi'!$B$6:$H$318,5,FALSE))","v":""},null,null,null,null,null,0,0,{"$f":"IF(B104=\"\",1,VLOOKUP(B104,'Spisak FSS izložbi'!$B$6:$H$318,7,FALSE))","v":1},0]
[91,null,{"$f":"IF(B105=\"\",\"\",VLOOKUP(B105,'Spisak FSS izložbi'!$B$6:$H$318,3,FALSE))","v":""},null,{"$f":"IF(B105=\"\",\"\",VLOOKUP(B105,'Spisak FSS izložbi'!$B$6:$H$318,6,FALSE))","v":""},{"$f":"IF(B105=\"\",\"\",VLOOKUP(B105,'Spisak FSS izložbi'!$B$6:$H$318,5,FALSE))","v":""},null,null,null,null,null,0,0,{"$f":"IF(B105=\"\",1,VLOOKUP(B105,'Spisak FSS izložbi'!$B$6:$H$318,7,FALSE))","v":1},0]
[92,null,{"$f":"IF(B106=\"\",\"\",VLOOKUP(B106,'Spisak FSS izložbi'!$B$6:$H$318,3,FALSE))","v":""},null,{"$f":"IF(B106=\"\",\"\",VLOOKUP(B106,'Spisak FSS izložbi'!$B$6:$H$318,6,FALSE))","v":""},{"$f":"IF(B106=\"\",\"\",VLOOKUP(B106,'Spisak FSS izložbi'!$B$6:$H$318,5,FALSE))","v":""},null,null,null,null,null,0,0,{"$f":"IF(B106=\"\",1,VLOOKUP(B106,'Spisak FSS izložbi'!$B$6:$H$318,7,FALSE))","v":1},0]
[93,null,{"$f":"IF(B107=\"\",\"\",VLOOKUP(B107,'Spisak FSS izložbi'!$B$6:$H$318,3,FALSE))","v":""},null,{"$f":"IF(B107=\"\",\"\",VLOOKUP(B107,'Spisak FSS izložbi'!$B$6:$H$318,6,FALSE))","v":""},{"$f":"IF(B107=\"\",\"\",VLOOKUP(B107,'Spisak FSS izložbi'!$B$6:$H$318,5,FALSE))","v":""},null,null,null,null,null,0,0,{"$f":"IF(B107=\"\",1,VLOOKUP(B107,'Spisak FSS izložbi'!$B$6:$H$318,7,FALSE))","v":1},0]
[94,null,{"$f":"IF(B108=\"\",\"\",VLOOKUP(B108,'Spisak FSS izložbi'!$B$6:$H$318,3,FALSE))","v":""},null,{"$f":"IF(B108=\"\",\"\",VLOOKUP(B108,'Spisak FSS izložbi'!$B$6:$H$318,6,FALSE))","v":""},{"$f":"IF(B108=\"\",\"\",VLOOKUP(B108,'Spisak FSS izložbi'!$B$6:$H$318,5,FALSE))","v":""},null,null,null,null,null,0,0,{"$f":"IF(B108=\"\",1,VLOOKUP(B108,'Spisak FSS izložbi'!$B$6:$H$318,7,FALSE))","v":1},0]
[95,null,{"$f":"IF(B109=\"\",\"\",VLOOKUP(B109,'Spisak FSS izložbi'!$B$6:$H$318,3,FALSE))","v":""},null,{"$f":"IF(B109=\"\",\"\",VLOOKUP(B109,'Spisak FSS izložbi'!$B$6:$H$318,6,FALSE))","v":""},{"$f":"IF(B109=\"\",\"\",VLOOKUP(B109,'Spisak FSS izložbi'!$B$6:$H$318,5,FALSE))","v":""},null,null,null,null,null,0,0,{"$f":"IF(B109=\"\",1,VLOOKUP(B109,'Spisak FSS izložbi'!$B$6:$H$318,7,FALSE))","v":1},0]
[96,null,{"$f":"IF(B110=\"\",\"\",VLOOKUP(B110,'Spisak FSS izložbi'!$B$6:$H$318,3,FALSE))","v":""},null,{"$f":"IF(B110=\"\",\"\",VLOOKUP(B110,'Spisak FSS izložbi'!$B$6:$H$318,6,FALSE))","v":""},{"$f":"IF(B110=\"\",\"\",VLOOKUP(B110,'Spisak FSS izložbi'!$B$6:$H$318,5,FALSE))","v":""},null,null,null,null,null,0,0,{"$f":"IF(B110=\"\",1,VLOOKUP(B110,'Spisak FSS izložbi'!$B$6:$H$318,7,FALSE))","v":1},0]
[97,null,{"$f":"IF(B111=\"\",\"\",VLOOKUP(B111,'Spisak FSS izložbi'!$B$6:$H$318,3,FALSE))","v":""},null,{"$f":"IF(B111=\"\",\"\",VLOOKUP(B111,'Spisak FSS izložbi'!$B$6:$H$318,6,FALSE))","v":""},{"$f":"IF(B111=\"\",\"\",VLOOKUP(B111,'Spisak FSS izložbi'!$B$6:$H$318,5,FALSE))","v":""},null,null,null,null,null,0,0,{"$f":"IF(B111=\"\",1,VLOOKUP(B111,'Spisak FSS izložbi'!$B$6:$H$318,7,FALSE))","v":1},0]
[98,null,{"$f":"IF(B112=\"\",\"\",VLOOKUP(B112,'Spisak FSS izložbi'!$B$6:$H$318,3,FALSE))","v":""},null,{"$f":"IF(B112=\"\",\"\",VLOOKUP(B112,'Spisak FSS izložbi'!$B$6:$H$318,6,FALSE))","v":""},{"$f":"IF(B112=\"\",\"\",VLOOKUP(B112,'Spisak FSS izložbi'!$B$6:$H$318,5,FALSE))","v":""},null,null,null,null,null,0,0,{"$f":"IF(B112=\"\",1,VLOOKUP(B112,'Spisak FSS izložbi'!$B$6:$H$318,7,FALSE))","v":1},0]
[99,null,{"$f":"IF(B113=\"\",\"\",VLOOKUP(B113,'Spisak FSS izložbi'!$B$6:$H$318,3,FALSE))","v":""},null,{"$f":"IF(B113=\"\",\"\",VLOOKUP(B113,'Spisak FSS izložbi'!$B$6:$H$318,6,FALSE))","v":""},{"$f":"IF(B113=\"\",\"\",VLOOKUP(B113,'Spisak FSS izložbi'!$B$6:$H$318,5,FALSE))","v":""},null,null,null,null,null,0,0,{"$f":"IF(B113=\"\",1,VLOOKUP(B113,'Spisak FSS izložbi'!$B$6:$H$318,7,FALSE))","v":1},0]
[100,null,{"$f":"IF(B114=\"\",\"\",VLOOKUP(B114,'Spisak FSS izložbi'!$B$6:$H$318,3,FALSE))","v":""},null,{"$f":"IF(B114=\"\",\"\",VLOOKUP(B114,'Spisak FSS izložbi'!$B$6:$H$318,6,FALSE))","v":""},{"$f":"IF(B114=\"\",\"\",VLOOKUP(B114,'Spisak FSS izložbi'!$B$6:$H$318,5,FALSE))","v":""},null,null,null,null,null,0,0,{"$f":"IF(B114=\"\",1,VLOOKUP(B114,'Spisak FSS izložbi'!$B$6:$H$318,7,FALSE))","v":1},0]
[101,null,{"$f":"IF(B115=\"\",\"\",VLOOKUP(B115,'Spisak FSS izložbi'!$B$6:$H$318,3,FALSE))","v":""},null,{"$f":"IF(B115=\"\",\"\",VLOOKUP(B115,'Spisak FSS izložbi'!$B$6:$H$318,6,FALSE))","v":""},{"$f":"IF(B115=\"\",\"\",VLOOKUP(B115,'Spisak FSS izložbi'!$B$6:$H$318,5,FALSE))","v":""},null,null,null,null,null,0,0,{"$f":"IF(B115=\"\",1,VLOOKUP(B115,'Spisak FSS izložbi'!$B$6:$H$318,7,FALSE))","v":1},0]
[102,null,{"$f":"IF(B116=\"\",\"\",VLOOKUP(B116,'Spisak FSS izložbi'!$B$6:$H$318,3,FALSE))","v":""},null,{"$f":"IF(B116=\"\",\"\",VLOOKUP(B116,'Spisak FSS izložbi'!$B$6:$H$318,6,FALSE))","v":""},{"$f":"IF(B116=\"\",\"\",VLOOKUP(B116,'Spisak FSS izložbi'!$B$6:$H$318,5,FALSE))","v":""},null,null,null,null,null,0,0,{"$f":"IF(B116=\"\",1,VLOOKUP(B116,'Spisak FSS izložbi'!$B$6:$H$318,7,FALSE))","v":1},0]
[103,null,{"$f":"IF(B117=\"\",\"\",VLOOKUP(B117,'Spisak FSS izložbi'!$B$6:$H$318,3,FALSE))","v":""},null,{"$f":"IF(B117=\"\",\"\",VLOOKUP(B117,'Spisak FSS izložbi'!$B$6:$H$318,6,FALSE))","v":""},{"$f":"IF(B117=\"\",\"\",VLOOKUP(B117,'Spisak FSS izložbi'!$B$6:$H$318,5,FALSE))","v":""},null,null,null,null,null,0,0,{"$f":"IF(B117=\"\",1,VLOOKUP(B117,'Spisak FSS izložbi'!$B$6:$H$318,7,FALSE))","v":1},0]
[104,null,{"$f":"IF(B118=\"\",\"\",VLOOKUP(B118,'Spisak FSS izložbi'!$B$6:$H$318,3,FALSE))","v":""},null,{"$f":"IF(B118=\"\",\"\",VLOOKUP(B118,'Spisak FSS izložbi'!$B$6:$H$318,6,FALSE))","v":""},{"$f":"IF(B118=\"\",\"\",VLOOKUP(B118,'Spisak FSS izložbi'!$B$6:$H$318,5,FALSE))","v":""},null,null,null,null,null,0,0,{"$f":"IF(B118=\"\",1,VLOOKUP(B118,'Spisak FSS izložbi'!$B$6:$H$318,7,FALSE))","v":1},0]
[105,null,{"$f":"IF(B119=\"\",\"\",VLOOKUP(B119,'Spisak FSS izložbi'!$B$6:$H$318,3,FALSE))","v":""},null,{"$f":"IF(B119=\"\",\"\",VLOOKUP(B119,'Spisak FSS izložbi'!$B$6:$H$318,6,FALSE))","v":""},{"$f":"IF(B119=\"\",\"\",VLOOKUP(B119,'Spisak FSS izložbi'!$B$6:$H$318,5,FALSE))","v":""},null,null,null,null,null,0,0,{"$f":"IF(B119=\"\",1,VLOOKUP(B119,'Spisak FSS izložbi'!$B$6:$H$318,7,FALSE))","v":1},0]
[106,null,{"$f":"IF(B120=\"\",\"\",VLOOKUP(B120,'Spisak FSS izložbi'!$B$6:$H$318,3,FALSE))","v":""},null,{"$f":"IF(B120=\"\",\"\",VLOOKUP(B120,'Spisak FSS izložbi'!$B$6:$H$318,6,FALSE))","v":""},{"$f":"IF(B120=\"\",\"\",VLOOKUP(B120,'Spisak FSS izložbi'!$B$6:$H$318,5,FALSE))","v":""},null,null,null,null,null,0,0,{"$f":"IF(B120=\"\",1,VLOOKUP(B120,'Spisak FSS izložbi'!$B$6:$H$318,7,FALSE))","v":1},0]
[107,null,{"$f":"IF(B121=\"\",\"\",VLOOKUP(B121,'Spisak FSS izložbi'!$B$6:$H$318,3,FALSE))","v":""},null,{"$f":"IF(B121=\"\",\"\",VLOOKUP(B121,'Spisak FSS izložbi'!$B$6:$H$318,6,FALSE))","v":""},{"$f":"IF(B121=\"\",\"\",VLOOKUP(B121,'Spisak FSS izložbi'!$B$6:$H$318,5,FALSE))","v":""},null,null,null,null,null,0,0,{"$f":"IF(B121=\"\",1,VLOOKUP(B121,'Spisak FSS izložbi'!$B$6:$H$318,7,FALSE))","v":1},0]
[108,null,{"$f":"IF(B122=\"\",\"\",VLOOKUP(B122,'Spisak FSS izložbi'!$B$6:$H$318,3,FALSE))","v":""},null,{"$f":"IF(B122=\"\",\"\",VLOOKUP(B122,'Spisak FSS izložbi'!$B$6:$H$318,6,FALSE))","v":""},{"$f":"IF(B122=\"\",\"\",VLOOKUP(B122,'Spisak FSS izložbi'!$B$6:$H$318,5,FALSE))","v":""},null,null,null,null,null,0,0,{"$f":"IF(B122=\"\",1,VLOOKUP(B122,'Spisak FSS izložbi'!$B$6:$H$318,7,FALSE))","v":1},0]
[109,null,{"$f":"IF(B123=\"\",\"\",VLOOKUP(B123,'Spisak FSS izložbi'!$B$6:$H$318,3,FALSE))","v":""},null,{"$f":"IF(B123=\"\",\"\",VLOOKUP(B123,'Spisak FSS izložbi'!$B$6:$H$318,6,FALSE))","v":""},{"$f":"IF(B123=\"\",\"\",VLOOKUP(B123,'Spisak FSS izložbi'!$B$6:$H$318,5,FALSE))","v":""},null,null,null,null,null,0,0,{"$f":"IF(B123=\"\",1,VLOOKUP(B123,'Spisak FSS izložbi'!$B$6:$H$318,7,FALSE))","v":1},0]
[110,null,{"$f":"IF(B124=\"\",\"\",VLOOKUP(B124,'Spisak FSS izložbi'!$B$6:$H$318,3,FALSE))","v":""},null,{"$f":"IF(B124=\"\",\"\",VLOOKUP(B124,'Spisak FSS izložbi'!$B$6:$H$318,6,FALSE))","v":""},{"$f":"IF(B124=\"\",\"\",VLOOKUP(B124,'Spisak FSS izložbi'!$B$6:$H$318,5,FALSE))","v":""},null,null,null,null,null,0,0,{"$f":"IF(B124=\"\",1,VLOOKUP(B124,'Spisak FSS izložbi'!$B$6:$H$318,7,FALSE))","v":1},0]
[111,null,{"$f":"IF(B125=\"\",\"\",VLOOKUP(B125,'Spisak FSS izložbi'!$B$6:$H$318,3,FALSE))","v":""},null,{"$f":"IF(B125=\"\",\"\",VLOOKUP(B125,'Spisak FSS izložbi'!$B$6:$H$318,6,FALSE))","v":""},{"$f":"IF(B125=\"\",\"\",VLOOKUP(B125,'Spisak FSS izložbi'!$B$6:$H$318,5,FALSE))","v":""},null,null,null,null,null,0,0,{"$f":"IF(B125=\"\",1,VLOOKUP(B125,'Spisak FSS izložbi'!$B$6:$H$318,7,FALSE))","v":1},0]
[112,null,{"$f":"IF(B126=\"\",\"\",VLOOKUP(B126,'Spisak FSS izložbi'!$B$6:$H$318,3,FALSE))","v":""},null,{"$f":"IF(B126=\"\",\"\",VLOOKUP(B126,'Spisak FSS izložbi'!$B$6:$H$318,6,FALSE))","v":""},{"$f":"IF(B126=\"\",\"\",VLOOKUP(B126,'Spisak FSS izložbi'!$B$6:$H$318,5,FALSE))","v":""},null,null,null,null,null,0,0,{"$f":"IF(B126=\"\",1,VLOOKUP(B126,'Spisak FSS izložbi'!$B$6:$H$318,7,FALSE))","v":1},0]
[113,null,{"$f":"IF(B127=\"\",\"\",VLOOKUP(B127,'Spisak FSS izložbi'!$B$6:$H$318,3,FALSE))","v":""},null,{"$f":"IF(B127=\"\",\"\",VLOOKUP(B127,'Spisak FSS izložbi'!$B$6:$H$318,6,FALSE))","v":""},{"$f":"IF(B127=\"\",\"\",VLOOKUP(B127,'Spisak FSS izložbi'!$B$6:$H$318,5,FALSE))","v":""},null,null,null,null,null,0,0,{"$f":"IF(B127=\"\",1,VLOOKUP(B127,'Spisak FSS izložbi'!$B$6:$H$318,7,FALSE))","v":1},0]
[114,null,{"$f":"IF(B128=\"\",\"\",VLOOKUP(B128,'Spisak FSS izložbi'!$B$6:$H$318,3,FALSE))","v":""},null,{"$f":"IF(B128=\"\",\"\",VLOOKUP(B128,'Spisak FSS izložbi'!$B$6:$H$318,6,FALSE))","v":""},{"$f":"IF(B128=\"\",\"\",VLOOKUP(B128,'Spisak FSS izložbi'!$B$6:$H$318,5,FALSE))","v":""},null,null,null,null,null,0,0,{"$f":"IF(B128=\"\",1,VLOOKUP(B128,'Spisak FSS izložbi'!$B$6:$H$318,7,FALSE))","v":1},0]
[115,null,{"$f":"IF(B129=\"\",\"\",VLOOKUP(B129,'Spisak FSS izložbi'!$B$6:$H$318,3,FALSE))","v":""},null,{"$f":"IF(B129=\"\",\"\",VLOOKUP(B129,'Spisak FSS izložbi'!$B$6:$H$318,6,FALSE))","v":""},{"$f":"IF(B129=\"\",\"\",VLOOKUP(B129,'Spisak FSS izložbi'!$B$6:$H$318,5,FALSE))","v":""},null,null,null,null,null,0,0,{"$f":"IF(B129=\"\",1,VLOOKUP(B129,'Spisak FSS izložbi'!$B$6:$H$318,7,FALSE))","v":1},0]
[116,null,{"$f":"IF(B130=\"\",\"\",VLOOKUP(B130,'Spisak FSS izložbi'!$B$6:$H$318,3,FALSE))","v":""},null,{"$f":"IF(B130=\"\",\"\",VLOOKUP(B130,'Spisak FSS izložbi'!$B$6:$H$318,6,FALSE))","v":""},{"$f":"IF(B130=\"\",\"\",VLOOKUP(B130,'Spisak FSS izložbi'!$B$6:$H$318,5,FALSE))","v":""},null,null,null,null,null,0,0,{"$f":"IF(B130=\"\",1,VLOOKUP(B130,'Spisak FSS izložbi'!$B$6:$H$318,7,FALSE))","v":1},0]
[117,null,{"$f":"IF(B131=\"\",\"\",VLOOKUP(B131,'Spisak FSS izložbi'!$B$6:$H$318,3,FALSE))","v":""},null,{"$f":"IF(B131=\"\",\"\",VLOOKUP(B131,'Spisak FSS izložbi'!$B$6:$H$318,6,FALSE))","v":""},{"$f":"IF(B131=\"\",\"\",VLOOKUP(B131,'Spisak FSS izložbi'!$B$6:$H$318,5,FALSE))","v":""},null,null,null,null,null,0,0,{"$f":"IF(B131=\"\",1,VLOOKUP(B131,'Spisak FSS izložbi'!$B$6:$H$318,7,FALSE))","v":1},0]
[118,null,{"$f":"IF(B132=\"\",\"\",VLOOKUP(B132,'Spisak FSS izložbi'!$B$6:$H$318,3,FALSE))","v":""},null,{"$f":"IF(B132=\"\",\"\",VLOOKUP(B132,'Spisak FSS izložbi'!$B$6:$H$318,6,FALSE))","v":""},{"$f":"IF(B132=\"\",\"\",VLOOKUP(B132,'Spisak FSS izložbi'!$B$6:$H$318,5,FALSE))","v":""},null,null,null,null,null,0,0,{"$f":"IF(B132=\"\",1,VLOOKUP(B132,'Spisak FSS izložbi'!$B$6:$H$318,7,FALSE))","v":1},0]
[119,null,{"$f":"IF(B133=\"\",\"\",VLOOKUP(B133,'Spisak FSS izložbi'!$B$6:$H$318,3,FALSE))","v":""},null,{"$f":"IF(B133=\"\",\"\",VLOOKUP(B133,'Spisak FSS izložbi'!$B$6:$H$318,6,FALSE))","v":""},{"$f":"IF(B133=\"\",\"\",VLOOKUP(B133,'Spisak FSS izložbi'!$B$6:$H$318,5,FALSE))","v":""},null,null,null,null,null,0,0,{"$f":"IF(B133=\"\",1,VLOOKUP(B133,'Spisak FSS izložbi'!$B$6:$H$318,7,FALSE))","v":1},0]
[120,null,{"$f":"IF(B134=\"\",\"\",VLOOKUP(B134,'Spisak FSS izložbi'!$B$6:$H$318,3,FALSE))","v":""},null,{"$f":"IF(B134=\"\",\"\",VLOOKUP(B134,'Spisak FSS izložbi'!$B$6:$H$318,6,FALSE))","v":""},{"$f":"IF(B134=\"\",\"\",VLOOKUP(B134,'Spisak FSS izložbi'!$B$6:$H$318,5,FALSE))","v":""},null,null,null,null,null,0,0,{"$f":"IF(B134=\"\",1,VLOOKUP(B134,'Spisak FSS izložbi'!$B$6:$H$318,7,FALSE))","v":1},0]
[121,null,{"$f":"IF(B135=\"\",\"\",VLOOKUP(B135,'Spisak FSS izložbi'!$B$6:$H$318,3,FALSE))","v":""},null,{"$f":"IF(B135=\"\",\"\",VLOOKUP(B135,'Spisak FSS izložbi'!$B$6:$H$318,6,FALSE))","v":""},{"$f":"IF(B135=\"\",\"\",VLOOKUP(B135,'Spisak FSS izložbi'!$B$6:$H$318,5,FALSE))","v":""},null,null,null,null,null,0,0,{"$f":"IF(B135=\"\",1,VLOOKUP(B135,'Spisak FSS izložbi'!$B$6:$H$318,7,FALSE))","v":1},0]
[122,null,{"$f":"IF(B136=\"\",\"\",VLOOKUP(B136,'Spisak FSS izložbi'!$B$6:$H$318,3,FALSE))","v":""},null,{"$f":"IF(B136=\"\",\"\",VLOOKUP(B136,'Spisak FSS izložbi'!$B$6:$H$318,6,FALSE))","v":""},{"$f":"IF(B136=\"\",\"\",VLOOKUP(B136,'Spisak FSS izložbi'!$B$6:$H$318,5,FALSE))","v":""},null,null,null,null,null,0,0,{"$f":"IF(B136=\"\",1,VLOOKUP(B136,'Spisak FSS izložbi'!$B$6:$H$318,7,FALSE))","v":1},0]
[123,null,{"$f":"IF(B137=\"\",\"\",VLOOKUP(B137,'Spisak FSS izložbi'!$B$6:$H$318,3,FALSE))","v":""},null,{"$f":"IF(B137=\"\",\"\",VLOOKUP(B137,'Spisak FSS izložbi'!$B$6:$H$318,6,FALSE))","v":""},{"$f":"IF(B137=\"\",\"\",VLOOKUP(B137,'Spisak FSS izložbi'!$B$6:$H$318,5,FALSE))","v":""},null,null,null,null,null,0,0,{"$f":"IF(B137=\"\",1,VLOOKUP(B137,'Spisak FSS izložbi'!$B$6:$H$318,7,FALSE))","v":1},0]
[124,null,{"$f":"IF(B138=\"\",\"\",VLOOKUP(B138,'Spisak FSS izložbi'!$B$6:$H$318,3,FALSE))","v":""},null,{"$f":"IF(B138=\"\",\"\",VLOOKUP(B138,'Spisak FSS izložbi'!$B$6:$H$318,6,FALSE))","v":""},{"$f":"IF(B138=\"\",\"\",VLOOKUP(B138,'Spisak FSS izložbi'!$B$6:$H$318,5,FALSE))","v":""},null,null,null,null,null,0,0,{"$f":"IF(B138=\"\",1,VLOOKUP(B138,'Spisak FSS izložbi'!$B$6:$H$318,7,FALSE))","v":1},0]
[125,null,{"$f":"IF(B139=\"\",\"\",VLOOKUP(B139,'Spisak FSS izložbi'!$B$6:$H$318,3,FALSE))","v":""},null,{"$f":"IF(B139=\"\",\"\",VLOOKUP(B139,'Spisak FSS izložbi'!$B$6:$H$318,6,FALSE))","v":""},{"$f":"IF(B139=\"\",\"\",VLOOKUP(B139,'Spisak FSS izložbi'!$B$6:$H$318,5,FALSE))","v":""},null,null,null,null,null,0,0,{"$f":"IF(B139=\"\",1,VLOOKUP(B139,'Spisak FSS izložbi'!$B$6:$H$318,7,FALSE))","v":1},0]
[126,null,{"$f":"IF(B140=\"\",\"\",VLOOKUP(B140,'Spisak FSS izložbi'!$B$6:$H$318,3,FALSE))","v":""},null,{"$f":"IF(B140=\"\",\"\",VLOOKUP(B140,'Spisak FSS izložbi'!$B$6:$H$318,6,FALSE))","v":""},{"$f":"IF(B140=\"\",\"\",VLOOKUP(B140,'Spisak FSS izložbi'!$B$6:$H$318,5,FALSE))","v":""},null,null,null,null,null,0,0,{"$f":"IF(B140=\"\",1,VLOOKUP(B140,'Spisak FSS izložbi'!$B$6:$H$318,7,FALSE))","v":1},0]
[127,null,{"$f":"IF(B141=\"\",\"\",VLOOKUP(B141,'Spisak FSS izložbi'!$B$6:$H$318,3,FALSE))","v":""},null,{"$f":"IF(B141=\"\",\"\",VLOOKUP(B141,'Spisak FSS izložbi'!$B$6:$H$318,6,FALSE))","v":""},{"$f":"IF(B141=\"\",\"\",VLOOKUP(B141,'Spisak FSS izložbi'!$B$6:$H$318,5,FALSE))","v":""},null,null,null,null,null,0,0,{"$f":"IF(B141=\"\",1,VLOOKUP(B141,'Spisak FSS izložbi'!$B$6:$H$318,7,FALSE))","v":1},0]
[128,null,{"$f":"IF(B142=\"\",\"\",VLOOKUP(B142,'Spisak FSS izložbi'!$B$6:$H$318,3,FALSE))","v":""},null,{"$f":"IF(B142=\"\",\"\",VLOOKUP(B142,'Spisak FSS izložbi'!$B$6:$H$318,6,FALSE))","v":""},{"$f":"IF(B142=\"\",\"\",VLOOKUP(B142,'Spisak FSS izložbi'!$B$6:$H$318,5,FALSE))","v":""},null,null,null,null,null,0,0,{"$f":"IF(B142=\"\",1,VLOOKUP(B142,'Spisak FSS izložbi'!$B$6:$H$318,7,FALSE))","v":1},0]
[129,null,{"$f":"IF(B143=\"\",\"\",VLOOKUP(B143,'Spisak FSS izložbi'!$B$6:$H$318,3,FALSE))","v":""},null,{"$f":"IF(B143=\"\",\"\",VLOOKUP(B143,'Spisak FSS izložbi'!$B$6:$H$318,6,FALSE))","v":""},{"$f":"IF(B143=\"\",\"\",VLOOKUP(B143,'Spisak FSS izložbi'!$B$6:$H$318,5,FALSE))","v":""},null,null,null,null,null,0,0,{"$f":"IF(B143=\"\",1,VLOOKUP(B143,'Spisak FSS izložbi'!$B$6:$H$318,7,FALSE))","v":1},0]
[130,null,{"$f":"IF(B144=\"\",\"\",VLOOKUP(B144,'Spisak FSS izložbi'!$B$6:$H$318,3,FALSE))","v":""},null,{"$f":"IF(B144=\"\",\"\",VLOOKUP(B144,'Spisak FSS izložbi'!$B$6:$H$318,6,FALSE))","v":""},{"$f":"IF(B144=\"\",\"\",VLOOKUP(B144,'Spisak FSS izložbi'!$B$6:$H$318,5,FALSE))","v":""},null,null,null,null,null,{"$f":"IF(E144=$H$1,$H$6,IF(E144=$I$1,$I$6,IF(E144=$J$1,$J$6,IF(E144=$K$1,$K$6,IF(E144=$L$1,$L$6,IF(E144=$M$1,$M$6,IF(E144=$N$1,$N$6,IF(E144=$O$1,$O$6,0))))))))","v":0},{"$f":"IF(OR(E144=\"\",K144=\"\")=TRUE,0,VLOOKUP(K144,$G$1:$O$7,MATCH(E144,$G$1:$O$1,0),FALSE))","v":0},{"$f":"IF(B144=\"\",1,VLOOKUP(B144,'Spisak FSS izložbi'!$B$6:$H$318,7,FALSE))","v":1},{"$f":"(L144+M144)*N144","v":0}]
[131,null,{"$f":"IF(B145=\"\",\"\",VLOOKUP(B145,'Spisak FSS izložbi'!$B$6:$H$318,3,FALSE))","v":""},null,{"$f":"IF(B145=\"\",\"\",VLOOKUP(B145,'Spisak FSS izložbi'!$B$6:$H$318,6,FALSE))","v":""},{"$f":"IF(B145=\"\",\"\",VLOOKUP(B145,'Spisak FSS izložbi'!$B$6:$H$318,5,FALSE))","v":""},null,null,null,null,null,0,0,{"$f":"IF(B145=\"\",1,VLOOKUP(B145,'Spisak FSS izložbi'!$B$6:$H$318,7,FALSE))","v":1},0]
[132,null,{"$f":"IF(B146=\"\",\"\",VLOOKUP(B146,'Spisak FSS izložbi'!$B$6:$H$318,3,FALSE))","v":""},null,{"$f":"IF(B146=\"\",\"\",VLOOKUP(B146,'Spisak FSS izložbi'!$B$6:$H$318,6,FALSE))","v":""},{"$f":"IF(B146=\"\",\"\",VLOOKUP(B146,'Spisak FSS izložbi'!$B$6:$H$318,5,FALSE))","v":""},null,null,null,null,null,0,0,{"$f":"IF(B146=\"\",1,VLOOKUP(B146,'Spisak FSS izložbi'!$B$6:$H$318,7,FALSE))","v":1},0]
[133,null,{"$f":"IF(B147=\"\",\"\",VLOOKUP(B147,'Spisak FSS izložbi'!$B$6:$H$318,3,FALSE))","v":""},null,{"$f":"IF(B147=\"\",\"\",VLOOKUP(B147,'Spisak FSS izložbi'!$B$6:$H$318,6,FALSE))","v":""},{"$f":"IF(B147=\"\",\"\",VLOOKUP(B147,'Spisak FSS izložbi'!$B$6:$H$318,5,FALSE))","v":""},null,null,null,null,null,0,0,{"$f":"IF(B147=\"\",1,VLOOKUP(B147,'Spisak FSS izložbi'!$B$6:$H$318,7,FALSE))","v":1},0]
[134,null,{"$f":"IF(B148=\"\",\"\",VLOOKUP(B148,'Spisak FSS izložbi'!$B$6:$H$318,3,FALSE))","v":""},null,{"$f":"IF(B148=\"\",\"\",VLOOKUP(B148,'Spisak FSS izložbi'!$B$6:$H$318,6,FALSE))","v":""},{"$f":"IF(B148=\"\",\"\",VLOOKUP(B148,'Spisak FSS izložbi'!$B$6:$H$318,5,FALSE))","v":""},null,null,null,null,null,0,0,{"$f":"IF(B148=\"\",1,VLOOKUP(B148,'Spisak FSS izložbi'!$B$6:$H$318,7,FALSE))","v":1},0]
[135,null,{"$f":"IF(B149=\"\",\"\",VLOOKUP(B149,'Spisak FSS izložbi'!$B$6:$H$318,3,FALSE))","v":""},null,{"$f":"IF(B149=\"\",\"\",VLOOKUP(B149,'Spisak FSS izložbi'!$B$6:$H$318,6,FALSE))","v":""},{"$f":"IF(B149=\"\",\"\",VLOOKUP(B149,'Spisak FSS izložbi'!$B$6:$H$318,5,FALSE))","v":""},null,null,null,null,null,0,0,{"$f":"IF(B149=\"\",1,VLOOKUP(B149,'Spisak FSS izložbi'!$B$6:$H$318,7,FALSE))","v":1},0]
[136,null,{"$f":"IF(B150=\"\",\"\",VLOOKUP(B150,'Spisak FSS izložbi'!$B$6:$H$318,3,FALSE))","v":""},null,{"$f":"IF(B150=\"\",\"\",VLOOKUP(B150,'Spisak FSS izložbi'!$B$6:$H$318,6,FALSE))","v":""},{"$f":"IF(B150=\"\",\"\",VLOOKUP(B150,'Spisak FSS izložbi'!$B$6:$H$318,5,FALSE))","v":""},null,null,null,null,null,0,0,{"$f":"IF(B150=\"\",1,VLOOKUP(B150,'Spisak FSS izložbi'!$B$6:$H$318,7,FALSE))","v":1},0]
[137,null,{"$f":"IF(B151=\"\",\"\",VLOOKUP(B151,'Spisak FSS izložbi'!$B$6:$H$318,3,FALSE))","v":""},null,{"$f":"IF(B151=\"\",\"\",VLOOKUP(B151,'Spisak FSS izložbi'!$B$6:$H$318,6,FALSE))","v":""},{"$f":"IF(B151=\"\",\"\",VLOOKUP(B151,'Spisak FSS izložbi'!$B$6:$H$318,5,FALSE))","v":""},null,null,null,null,null,0,0,{"$f":"IF(B151=\"\",1,VLOOKUP(B151,'Spisak FSS izložbi'!$B$6:$H$318,7,FALSE))","v":1},0]
[138,null,{"$f":"IF(B152=\"\",\"\",VLOOKUP(B152,'Spisak FSS izložbi'!$B$6:$H$318,3,FALSE))","v":""},null,{"$f":"IF(B152=\"\",\"\",VLOOKUP(B152,'Spisak FSS izložbi'!$B$6:$H$318,6,FALSE))","v":""},{"$f":"IF(B152=\"\",\"\",VLOOKUP(B152,'Spisak FSS izložbi'!$B$6:$H$318,5,FALSE))","v":""},null,null,null,null,null,0,0,{"$f":"IF(B152=\"\",1,VLOOKUP(B152,'Spisak FSS izložbi'!$B$6:$H$318,7,FALSE))","v":1},0]
[139,null,{"$f":"IF(B153=\"\",\"\",VLOOKUP(B153,'Spisak FSS izložbi'!$B$6:$H$318,3,FALSE))","v":""},null,{"$f":"IF(B153=\"\",\"\",VLOOKUP(B153,'Spisak FSS izložbi'!$B$6:$H$318,6,FALSE))","v":""},{"$f":"IF(B153=\"\",\"\",VLOOKUP(B153,'Spisak FSS izložbi'!$B$6:$H$318,5,FALSE))","v":""},null,null,null,null,null,0,0,{"$f":"IF(B153=\"\",1,VLOOKUP(B153,'Spisak FSS izložbi'!$B$6:$H$318,7,FALSE))","v":1},0]
[140,null,{"$f":"IF(B154=\"\",\"\",VLOOKUP(B154,'Spisak FSS izložbi'!$B$6:$H$318,3,FALSE))","v":""},null,{"$f":"IF(B154=\"\",\"\",VLOOKUP(B154,'Spisak FSS izložbi'!$B$6:$H$318,6,FALSE))","v":""},{"$f":"IF(B154=\"\",\"\",VLOOKUP(B154,'Spisak FSS izložbi'!$B$6:$H$318,5,FALSE))","v":""},null,null,null,null,null,0,0,{"$f":"IF(B154=\"\",1,VLOOKUP(B154,'Spisak FSS izložbi'!$B$6:$H$318,7,FALSE))","v":1},0]
[141,null,{"$f":"IF(B155=\"\",\"\",VLOOKUP(B155,'Spisak FSS izložbi'!$B$6:$H$318,3,FALSE))","v":""},null,{"$f":"IF(B155=\"\",\"\",VLOOKUP(B155,'Spisak FSS izložbi'!$B$6:$H$318,6,FALSE))","v":""},{"$f":"IF(B155=\"\",\"\",VLOOKUP(B155,'Spisak FSS izložbi'!$B$6:$H$318,5,FALSE))","v":""},null,null,null,null,null,0,0,{"$f":"IF(B155=\"\",1,VLOOKUP(B155,'Spisak FSS izložbi'!$B$6:$H$318,7,FALSE))","v":1},0]
[142,null,{"$f":"IF(B156=\"\",\"\",VLOOKUP(B156,'Spisak FSS izložbi'!$B$6:$H$318,3,FALSE))","v":""},null,{"$f":"IF(B156=\"\",\"\",VLOOKUP(B156,'Spisak FSS izložbi'!$B$6:$H$318,6,FALSE))","v":""},{"$f":"IF(B156=\"\",\"\",VLOOKUP(B156,'Spisak FSS izložbi'!$B$6:$H$318,5,FALSE))","v":""},null,null,null,null,null,0,0,{"$f":"IF(B156=\"\",1,VLOOKUP(B156,'Spisak FSS izložbi'!$B$6:$H$318,7,FALSE))","v":1},0]
[143,null,{"$f":"IF(B157=\"\",\"\",VLOOKUP(B157,'Spisak FSS izložbi'!$B$6:$H$318,3,FALSE))","v":""},null,{"$f":"IF(B157=\"\",\"\",VLOOKUP(B157,'Spisak FSS izložbi'!$B$6:$H$318,6,FALSE))","v":""},{"$f":"IF(B157=\"\",\"\",VLOOKUP(B157,'Spisak FSS izložbi'!$B$6:$H$318,5,FALSE))","v":""},null,null,null,null,null,0,0,{"$f":"IF(B157=\"\",1,VLOOKUP(B157,'Spisak FSS izložbi'!$B$6:$H$318,7,FALSE))","v":1},0]
[144,null,{"$f":"IF(B158=\"\",\"\",VLOOKUP(B158,'Spisak FSS izložbi'!$B$6:$H$318,3,FALSE))","v":""},null,{"$f":"IF(B158=\"\",\"\",VLOOKUP(B158,'Spisak FSS izložbi'!$B$6:$H$318,6,FALSE))","v":""},{"$f":"IF(B158=\"\",\"\",VLOOKUP(B158,'Spisak FSS izložbi'!$B$6:$H$318,5,FALSE))","v":""},null,null,null,null,null,0,0,{"$f":"IF(B158=\"\",1,VLOOKUP(B158,'Spisak FSS izložbi'!$B$6:$H$318,7,FALSE))","v":1},0]
[145,null,{"$f":"IF(B159=\"\",\"\",VLOOKUP(B159,'Spisak FSS izložbi'!$B$6:$H$318,3,FALSE))","v":""},null,{"$f":"IF(B159=\"\",\"\",VLOOKUP(B159,'Spisak FSS izložbi'!$B$6:$H$318,6,FALSE))","v":""},{"$f":"IF(B159=\"\",\"\",VLOOKUP(B159,'Spisak FSS izložbi'!$B$6:$H$318,5,FALSE))","v":""},null,null,null,null,null,0,0,{"$f":"IF(B159=\"\",1,VLOOKUP(B159,'Spisak FSS izložbi'!$B$6:$H$318,7,FALSE))","v":1},0]
[146,null,{"$f":"IF(B160=\"\",\"\",VLOOKUP(B160,'Spisak FSS izložbi'!$B$6:$H$318,3,FALSE))","v":""},null,{"$f":"IF(B160=\"\",\"\",VLOOKUP(B160,'Spisak FSS izložbi'!$B$6:$H$318,6,FALSE))","v":""},{"$f":"IF(B160=\"\",\"\",VLOOKUP(B160,'Spisak FSS izložbi'!$B$6:$H$318,5,FALSE))","v":""},null,null,null,null,null,0,0,{"$f":"IF(B160=\"\",1,VLOOKUP(B160,'Spisak FSS izložbi'!$B$6:$H$318,7,FALSE))","v":1},0]
[147,null,{"$f":"IF(B161=\"\",\"\",VLOOKUP(B161,'Spisak FSS izložbi'!$B$6:$H$318,3,FALSE))","v":""},null,{"$f":"IF(B161=\"\",\"\",VLOOKUP(B161,'Spisak FSS izložbi'!$B$6:$H$318,6,FALSE))","v":""},{"$f":"IF(B161=\"\",\"\",VLOOKUP(B161,'Spisak FSS izložbi'!$B$6:$H$318,5,FALSE))","v":""},null,null,null,null,null,0,0,{"$f":"IF(B161=\"\",1,VLOOKUP(B161,'Spisak FSS izložbi'!$B$6:$H$318,7,FALSE))","v":1},0]
[148,null,{"$f":"IF(B162=\"\",\"\",VLOOKUP(B162,'Spisak FSS izložbi'!$B$6:$H$318,3,FALSE))","v":""},null,{"$f":"IF(B162=\"\",\"\",VLOOKUP(B162,'Spisak FSS izložbi'!$B$6:$H$318,6,FALSE))","v":""},{"$f":"IF(B162=\"\",\"\",VLOOKUP(B162,'Spisak FSS izložbi'!$B$6:$H$318,5,FALSE))","v":""},null,null,null,null,null,0,0,{"$f":"IF(B162=\"\",1,VLOOKUP(B162,'Spisak FSS izložbi'!$B$6:$H$318,7,FALSE))","v":1},0]
[149,null,{"$f":"IF(B163=\"\",\"\",VLOOKUP(B163,'Spisak FSS izložbi'!$B$6:$H$318,3,FALSE))","v":""},null,{"$f":"IF(B163=\"\",\"\",VLOOKUP(B163,'Spisak FSS izložbi'!$B$6:$H$318,6,FALSE))","v":""},{"$f":"IF(B163=\"\",\"\",VLOOKUP(B163,'Spisak FSS izložbi'!$B$6:$H$318,5,FALSE))","v":""},null,null,null,null,null,0,0,{"$f":"IF(B163=\"\",1,VLOOKUP(B163,'Spisak FSS izložbi'!$B$6:$H$318,7,FALSE))","v":1},0]
[150,null,{"$f":"IF(B164=\"\",\"\",VLOOKUP(B164,'Spisak FSS izložbi'!$B$6:$H$318,3,FALSE))","v":""},null,{"$f":"IF(B164=\"\",\"\",VLOOKUP(B164,'Spisak FSS izložbi'!$B$6:$H$318,6,FALSE))","v":""},{"$f":"IF(B164=\"\",\"\",VLOOKUP(B164,'Spisak FSS izložbi'!$B$6:$H$318,5,FALSE))","v":""},null,null,null,null,null,0,0,{"$f":"IF(B164=\"\",1,VLOOKUP(B164,'Spisak FSS izložbi'!$B$6:$H$318,7,FALSE))","v":1},0]
[151,null,{"$f":"IF(B165=\"\",\"\",VLOOKUP(B165,'Spisak FSS izložbi'!$B$6:$H$318,3,FALSE))","v":""},null,{"$f":"IF(B165=\"\",\"\",VLOOKUP(B165,'Spisak FSS izložbi'!$B$6:$H$318,6,FALSE))","v":""},{"$f":"IF(B165=\"\",\"\",VLOOKUP(B165,'Spisak FSS izložbi'!$B$6:$H$318,5,FALSE))","v":""},null,null,null,null,null,0,0,{"$f":"IF(B165=\"\",1,VLOOKUP(B165,'Spisak FSS izložbi'!$B$6:$H$318,7,FALSE))","v":1},0]
[152,null,{"$f":"IF(B166=\"\",\"\",VLOOKUP(B166,'Spisak FSS izložbi'!$B$6:$H$318,3,FALSE))","v":""},null,{"$f":"IF(B166=\"\",\"\",VLOOKUP(B166,'Spisak FSS izložbi'!$B$6:$H$318,6,FALSE))","v":""},{"$f":"IF(B166=\"\",\"\",VLOOKUP(B166,'Spisak FSS izložbi'!$B$6:$H$318,5,FALSE))","v":""},null,null,null,null,null,0,0,{"$f":"IF(B166=\"\",1,VLOOKUP(B166,'Spisak FSS izložbi'!$B$6:$H$318,7,FALSE))","v":1},0]
[153,null,{"$f":"IF(B167=\"\",\"\",VLOOKUP(B167,'Spisak FSS izložbi'!$B$6:$H$318,3,FALSE))","v":""},null,{"$f":"IF(B167=\"\",\"\",VLOOKUP(B167,'Spisak FSS izložbi'!$B$6:$H$318,6,FALSE))","v":""},{"$f":"IF(B167=\"\",\"\",VLOOKUP(B167,'Spisak FSS izložbi'!$B$6:$H$318,5,FALSE))","v":""},null,null,null,null,null,0,0,{"$f":"IF(B167=\"\",1,VLOOKUP(B167,'Spisak FSS izložbi'!$B$6:$H$318,7,FALSE))","v":1},0]
[154,null,{"$f":"IF(B168=\"\",\"\",VLOOKUP(B168,'Spisak FSS izložbi'!$B$6:$H$318,3,FALSE))","v":""},null,{"$f":"IF(B168=\"\",\"\",VLOOKUP(B168,'Spisak FSS izložbi'!$B$6:$H$318,6,FALSE))","v":""},{"$f":"IF(B168=\"\",\"\",VLOOKUP(B168,'Spisak FSS izložbi'!$B$6:$H$318,5,FALSE))","v":""},null,null,null,null,null,0,0,{"$f":"IF(B168=\"\",1,VLOOKUP(B168,'Spisak FSS izložbi'!$B$6:$H$318,7,FALSE))","v":1},0]
[155,null,{"$f":"IF(B169=\"\",\"\",VLOOKUP(B169,'Spisak FSS izložbi'!$B$6:$H$318,3,FALSE))","v":""},null,{"$f":"IF(B169=\"\",\"\",VLOOKUP(B169,'Spisak FSS izložbi'!$B$6:$H$318,6,FALSE))","v":""},{"$f":"IF(B169=\"\",\"\",VLOOKUP(B169,'Spisak FSS izložbi'!$B$6:$H$318,5,FALSE))","v":""},null,null,null,null,null,0,0,{"$f":"IF(B169=\"\",1,VLOOKUP(B169,'Spisak FSS izložbi'!$B$6:$H$318,7,FALSE))","v":1},0]
[156,null,{"$f":"IF(B170=\"\",\"\",VLOOKUP(B170,'Spisak FSS izložbi'!$B$6:$H$318,3,FALSE))","v":""},null,{"$f":"IF(B170=\"\",\"\",VLOOKUP(B170,'Spisak FSS izložbi'!$B$6:$H$318,6,FALSE))","v":""},{"$f":"IF(B170=\"\",\"\",VLOOKUP(B170,'Spisak FSS izložbi'!$B$6:$H$318,5,FALSE))","v":""},null,null,null,null,null,0,0,{"$f":"IF(B170=\"\",1,VLOOKUP(B170,'Spisak FSS izložbi'!$B$6:$H$318,7,FALSE))","v":1},0]
[157,null,{"$f":"IF(B171=\"\",\"\",VLOOKUP(B171,'Spisak FSS izložbi'!$B$6:$H$318,3,FALSE))","v":""},null,{"$f":"IF(B171=\"\",\"\",VLOOKUP(B171,'Spisak FSS izložbi'!$B$6:$H$318,6,FALSE))","v":""},{"$f":"IF(B171=\"\",\"\",VLOOKUP(B171,'Spisak FSS izložbi'!$B$6:$H$318,5,FALSE))","v":""},null,null,null,null,null,0,0,{"$f":"IF(B171=\"\",1,VLOOKUP(B171,'Spisak FSS izložbi'!$B$6:$H$318,7,FALSE))","v":1},0]
[158,null,{"$f":"IF(B172=\"\",\"\",VLOOKUP(B172,'Spisak FSS izložbi'!$B$6:$H$318,3,FALSE))","v":""},null,{"$f":"IF(B172=\"\",\"\",VLOOKUP(B172,'Spisak FSS izložbi'!$B$6:$H$318,6,FALSE))","v":""},{"$f":"IF(B172=\"\",\"\",VLOOKUP(B172,'Spisak FSS izložbi'!$B$6:$H$318,5,FALSE))","v":""},null,null,null,null,null,0,0,{"$f":"IF(B172=\"\",1,VLOOKUP(B172,'Spisak FSS izložbi'!$B$6:$H$318,7,FALSE))","v":1},0]
[159,null,{"$f":"IF(B173=\"\",\"\",VLOOKUP(B173,'Spisak FSS izložbi'!$B$6:$H$318,3,FALSE))","v":""},null,{"$f":"IF(B173=\"\",\"\",VLOOKUP(B173,'Spisak FSS izložbi'!$B$6:$H$318,6,FALSE))","v":""},{"$f":"IF(B173=\"\",\"\",VLOOKUP(B173,'Spisak FSS izložbi'!$B$6:$H$318,5,FALSE))","v":""},null,null,null,null,null,0,0,{"$f":"IF(B173=\"\",1,VLOOKUP(B173,'Spisak FSS izložbi'!$B$6:$H$318,7,FALSE))","v":1},0]
[160,null,{"$f":"IF(B174=\"\",\"\",VLOOKUP(B174,'Spisak FSS izložbi'!$B$6:$H$318,3,FALSE))","v":""},null,{"$f":"IF(B174=\"\",\"\",VLOOKUP(B174,'Spisak FSS izložbi'!$B$6:$H$318,6,FALSE))","v":""},{"$f":"IF(B174=\"\",\"\",VLOOKUP(B174,'Spisak FSS izložbi'!$B$6:$H$318,5,FALSE))","v":""},null,null,null,null,null,0,0,{"$f":"IF(B174=\"\",1,VLOOKUP(B174,'Spisak FSS izložbi'!$B$6:$H$318,7,FALSE))","v":1},0]
[161,null,{"$f":"IF(B175=\"\",\"\",VLOOKUP(B175,'Spisak FSS izložbi'!$B$6:$H$318,3,FALSE))","v":""},null,{"$f":"IF(B175=\"\",\"\",VLOOKUP(B175,'Spisak FSS izložbi'!$B$6:$H$318,6,FALSE))","v":""},{"$f":"IF(B175=\"\",\"\",VLOOKUP(B175,'Spisak FSS izložbi'!$B$6:$H$318,5,FALSE))","v":""},null,null,null,null,null,0,0,{"$f":"IF(B175=\"\",1,VLOOKUP(B175,'Spisak FSS izložbi'!$B$6:$H$318,7,FALSE))","v":1},0]
[162,null,{"$f":"IF(B176=\"\",\"\",VLOOKUP(B176,'Spisak FSS izložbi'!$B$6:$H$318,3,FALSE))","v":""},null,{"$f":"IF(B176=\"\",\"\",VLOOKUP(B176,'Spisak FSS izložbi'!$B$6:$H$318,6,FALSE))","v":""},{"$f":"IF(B176=\"\",\"\",VLOOKUP(B176,'Spisak FSS izložbi'!$B$6:$H$318,5,FALSE))","v":""},null,null,null,null,null,0,0,{"$f":"IF(B176=\"\",1,VLOOKUP(B176,'Spisak FSS izložbi'!$B$6:$H$318,7,FALSE))","v":1},0]
[163,null,{"$f":"IF(B177=\"\",\"\",VLOOKUP(B177,'Spisak FSS izložbi'!$B$6:$H$318,3,FALSE))","v":""},null,{"$f":"IF(B177=\"\",\"\",VLOOKUP(B177,'Spisak FSS izložbi'!$B$6:$H$318,6,FALSE))","v":""},{"$f":"IF(B177=\"\",\"\",VLOOKUP(B177,'Spisak FSS izložbi'!$B$6:$H$318,5,FALSE))","v":""},null,null,null,null,null,0,0,{"$f":"IF(B177=\"\",1,VLOOKUP(B177,'Spisak FSS izložbi'!$B$6:$H$318,7,FALSE))","v":1},0]
[164,null,{"$f":"IF(B178=\"\",\"\",VLOOKUP(B178,'Spisak FSS izložbi'!$B$6:$H$318,3,FALSE))","v":""},null,{"$f":"IF(B178=\"\",\"\",VLOOKUP(B178,'Spisak FSS izložbi'!$B$6:$H$318,6,FALSE))","v":""},{"$f":"IF(B178=\"\",\"\",VLOOKUP(B178,'Spisak FSS izložbi'!$B$6:$H$318,5,FALSE))","v":""},null,null,null,null,null,0,0,{"$f":"IF(B178=\"\",1,VLOOKUP(B178,'Spisak FSS izložbi'!$B$6:$H$318,7,FALSE))","v":1},0]
[165,null,{"$f":"IF(B179=\"\",\"\",VLOOKUP(B179,'Spisak FSS izložbi'!$B$6:$H$318,3,FALSE))","v":""},null,{"$f":"IF(B179=\"\",\"\",VLOOKUP(B179,'Spisak FSS izložbi'!$B$6:$H$318,6,FALSE))","v":""},{"$f":"IF(B179=\"\",\"\",VLOOKUP(B179,'Spisak FSS izložbi'!$B$6:$H$318,5,FALSE))","v":""},null,null,null,null,null,0,0,{"$f":"IF(B179=\"\",1,VLOOKUP(B179,'Spisak FSS izložbi'!$B$6:$H$318,7,FALSE))","v":1},0]
[166,null,{"$f":"IF(B180=\"\",\"\",VLOOKUP(B180,'Spisak FSS izložbi'!$B$6:$H$318,3,FALSE))","v":""},null,{"$f":"IF(B180=\"\",\"\",VLOOKUP(B180,'Spisak FSS izložbi'!$B$6:$H$318,6,FALSE))","v":""},{"$f":"IF(B180=\"\",\"\",VLOOKUP(B180,'Spisak FSS izložbi'!$B$6:$H$318,5,FALSE))","v":""},null,null,null,null,null,0,0,{"$f":"IF(B180=\"\",1,VLOOKUP(B180,'Spisak FSS izložbi'!$B$6:$H$318,7,FALSE))","v":1},0]
[167,null,{"$f":"IF(B181=\"\",\"\",VLOOKUP(B181,'Spisak FSS izložbi'!$B$6:$H$318,3,FALSE))","v":""},null,{"$f":"IF(B181=\"\",\"\",VLOOKUP(B181,'Spisak FSS izložbi'!$B$6:$H$318,6,FALSE))","v":""},{"$f":"IF(B181=\"\",\"\",VLOOKUP(B181,'Spisak FSS izložbi'!$B$6:$H$318,5,FALSE))","v":""},null,null,null,null,null,0,0,{"$f":"IF(B181=\"\",1,VLOOKUP(B181,'Spisak FSS izložbi'!$B$6:$H$318,7,FALSE))","v":1},0]
[168,null,{"$f":"IF(B182=\"\",\"\",VLOOKUP(B182,'Spisak FSS izložbi'!$B$6:$H$318,3,FALSE))","v":""},null,{"$f":"IF(B182=\"\",\"\",VLOOKUP(B182,'Spisak FSS izložbi'!$B$6:$H$318,6,FALSE))","v":""},{"$f":"IF(B182=\"\",\"\",VLOOKUP(B182,'Spisak FSS izložbi'!$B$6:$H$318,5,FALSE))","v":""},null,null,null,null,null,0,0,{"$f":"IF(B182=\"\",1,VLOOKUP(B182,'Spisak FSS izložbi'!$B$6:$H$318,7,FALSE))","v":1},0]
[169,null,{"$f":"IF(B183=\"\",\"\",VLOOKUP(B183,'Spisak FSS izložbi'!$B$6:$H$318,3,FALSE))","v":""},null,{"$f":"IF(B183=\"\",\"\",VLOOKUP(B183,'Spisak FSS izložbi'!$B$6:$H$318,6,FALSE))","v":""},{"$f":"IF(B183=\"\",\"\",VLOOKUP(B183,'Spisak FSS izložbi'!$B$6:$H$318,5,FALSE))","v":""},null,null,null,null,null,0,0,{"$f":"IF(B183=\"\",1,VLOOKUP(B183,'Spisak FSS izložbi'!$B$6:$H$318,7,FALSE))","v":1},0]
[170,null,{"$f":"IF(B184=\"\",\"\",VLOOKUP(B184,'Spisak FSS izložbi'!$B$6:$H$318,3,FALSE))","v":""},null,{"$f":"IF(B184=\"\",\"\",VLOOKUP(B184,'Spisak FSS izložbi'!$B$6:$H$318,6,FALSE))","v":""},{"$f":"IF(B184=\"\",\"\",VLOOKUP(B184,'Spisak FSS izložbi'!$B$6:$H$318,5,FALSE))","v":""},null,null,null,null,null,0,0,{"$f":"IF(B184=\"\",1,VLOOKUP(B184,'Spisak FSS izložbi'!$B$6:$H$318,7,FALSE))","v":1},0]
[171,null,{"$f":"IF(B185=\"\",\"\",VLOOKUP(B185,'Spisak FSS izložbi'!$B$6:$H$318,3,FALSE))","v":""},null,{"$f":"IF(B185=\"\",\"\",VLOOKUP(B185,'Spisak FSS izložbi'!$B$6:$H$318,6,FALSE))","v":""},{"$f":"IF(B185=\"\",\"\",VLOOKUP(B185,'Spisak FSS izložbi'!$B$6:$H$318,5,FALSE))","v":""},null,null,null,null,null,0,0,{"$f":"IF(B185=\"\",1,VLOOKUP(B185,'Spisak FSS izložbi'!$B$6:$H$318,7,FALSE))","v":1},0]
[172,null,{"$f":"IF(B186=\"\",\"\",VLOOKUP(B186,'Spisak FSS izložbi'!$B$6:$H$318,3,FALSE))","v":""},null,{"$f":"IF(B186=\"\",\"\",VLOOKUP(B186,'Spisak FSS izložbi'!$B$6:$H$318,6,FALSE))","v":""},{"$f":"IF(B186=\"\",\"\",VLOOKUP(B186,'Spisak FSS izložbi'!$B$6:$H$318,5,FALSE))","v":""},null,null,null,null,null,0,0,{"$f":"IF(B186=\"\",1,VLOOKUP(B186,'Spisak FSS izložbi'!$B$6:$H$318,7,FALSE))","v":1},0]
[173,null,{"$f":"IF(B187=\"\",\"\",VLOOKUP(B187,'Spisak FSS izložbi'!$B$6:$H$318,3,FALSE))","v":""},null,{"$f":"IF(B187=\"\",\"\",VLOOKUP(B187,'Spisak FSS izložbi'!$B$6:$H$318,6,FALSE))","v":""},{"$f":"IF(B187=\"\",\"\",VLOOKUP(B187,'Spisak FSS izložbi'!$B$6:$H$318,5,FALSE))","v":""},null,null,null,null,null,0,0,{"$f":"IF(B187=\"\",1,VLOOKUP(B187,'Spisak FSS izložbi'!$B$6:$H$318,7,FALSE))","v":1},0]
[174,null,{"$f":"IF(B188=\"\",\"\",VLOOKUP(B188,'Spisak FSS izložbi'!$B$6:$H$318,3,FALSE))","v":""},null,{"$f":"IF(B188=\"\",\"\",VLOOKUP(B188,'Spisak FSS izložbi'!$B$6:$H$318,6,FALSE))","v":""},{"$f":"IF(B188=\"\",\"\",VLOOKUP(B188,'Spisak FSS izložbi'!$B$6:$H$318,5,FALSE))","v":""},null,null,null,null,null,0,0,{"$f":"IF(B188=\"\",1,VLOOKUP(B188,'Spisak FSS izložbi'!$B$6:$H$318,7,FALSE))","v":1},0]
[175,null,{"$f":"IF(B189=\"\",\"\",VLOOKUP(B189,'Spisak FSS izložbi'!$B$6:$H$318,3,FALSE))","v":""},null,{"$f":"IF(B189=\"\",\"\",VLOOKUP(B189,'Spisak FSS izložbi'!$B$6:$H$318,6,FALSE))","v":""},{"$f":"IF(B189=\"\",\"\",VLOOKUP(B189,'Spisak FSS izložbi'!$B$6:$H$318,5,FALSE))","v":""},null,null,null,null,null,0,0,{"$f":"IF(B189=\"\",1,VLOOKUP(B189,'Spisak FSS izložbi'!$B$6:$H$318,7,FALSE))","v":1},0]
[176,null,{"$f":"IF(B190=\"\",\"\",VLOOKUP(B190,'Spisak FSS izložbi'!$B$6:$H$318,3,FALSE))","v":""},null,{"$f":"IF(B190=\"\",\"\",VLOOKUP(B190,'Spisak FSS izložbi'!$B$6:$H$318,6,FALSE))","v":""},{"$f":"IF(B190=\"\",\"\",VLOOKUP(B190,'Spisak FSS izložbi'!$B$6:$H$318,5,FALSE))","v":""},null,null,null,null,null,0,0,{"$f":"IF(B190=\"\",1,VLOOKUP(B190,'Spisak FSS izložbi'!$B$6:$H$318,7,FALSE))","v":1},0]
[177,null,{"$f":"IF(B191=\"\",\"\",VLOOKUP(B191,'Spisak FSS izložbi'!$B$6:$H$318,3,FALSE))","v":""},null,{"$f":"IF(B191=\"\",\"\",VLOOKUP(B191,'Spisak FSS izložbi'!$B$6:$H$318,6,FALSE))","v":""},{"$f":"IF(B191=\"\",\"\",VLOOKUP(B191,'Spisak FSS izložbi'!$B$6:$H$318,5,FALSE))","v":""},null,null,null,null,null,0,0,{"$f":"IF(B191=\"\",1,VLOOKUP(B191,'Spisak FSS izložbi'!$B$6:$H$318,7,FALSE))","v":1},0]
[178,null,{"$f":"IF(B192=\"\",\"\",VLOOKUP(B192,'Spisak FSS izložbi'!$B$6:$H$318,3,FALSE))","v":""},null,{"$f":"IF(B192=\"\",\"\",VLOOKUP(B192,'Spisak FSS izložbi'!$B$6:$H$318,6,FALSE))","v":""},{"$f":"IF(B192=\"\",\"\",VLOOKUP(B192,'Spisak FSS izložbi'!$B$6:$H$318,5,FALSE))","v":""},null,null,null,null,null,0,0,{"$f":"IF(B192=\"\",1,VLOOKUP(B192,'Spisak FSS izložbi'!$B$6:$H$318,7,FALSE))","v":1},0]
[179,null,{"$f":"IF(B193=\"\",\"\",VLOOKUP(B193,'Spisak FSS izložbi'!$B$6:$H$318,3,FALSE))","v":""},null,{"$f":"IF(B193=\"\",\"\",VLOOKUP(B193,'Spisak FSS izložbi'!$B$6:$H$318,6,FALSE))","v":""},{"$f":"IF(B193=\"\",\"\",VLOOKUP(B193,'Spisak FSS izložbi'!$B$6:$H$318,5,FALSE))","v":""},null,null,null,null,null,0,0,{"$f":"IF(B193=\"\",1,VLOOKUP(B193,'Spisak FSS izložbi'!$B$6:$H$318,7,FALSE))","v":1},0]
[180,null,{"$f":"IF(B194=\"\",\"\",VLOOKUP(B194,'Spisak FSS izložbi'!$B$6:$H$318,3,FALSE))","v":""},null,{"$f":"IF(B194=\"\",\"\",VLOOKUP(B194,'Spisak FSS izložbi'!$B$6:$H$318,6,FALSE))","v":""},{"$f":"IF(B194=\"\",\"\",VLOOKUP(B194,'Spisak FSS izložbi'!$B$6:$H$318,5,FALSE))","v":""},null,null,null,null,null,0,0,{"$f":"IF(B194=\"\",1,VLOOKUP(B194,'Spisak FSS izložbi'!$B$6:$H$318,7,FALSE))","v":1},0]
[181,null,{"$f":"IF(B195=\"\",\"\",VLOOKUP(B195,'Spisak FSS izložbi'!$B$6:$H$318,3,FALSE))","v":""},null,{"$f":"IF(B195=\"\",\"\",VLOOKUP(B195,'Spisak FSS izložbi'!$B$6:$H$318,6,FALSE))","v":""},{"$f":"IF(B195=\"\",\"\",VLOOKUP(B195,'Spisak FSS izložbi'!$B$6:$H$318,5,FALSE))","v":""},null,null,null,null,null,0,0,{"$f":"IF(B195=\"\",1,VLOOKUP(B195,'Spisak FSS izložbi'!$B$6:$H$318,7,FALSE))","v":1},0]
[182,null,{"$f":"IF(B196=\"\",\"\",VLOOKUP(B196,'Spisak FSS izložbi'!$B$6:$H$318,3,FALSE))","v":""},null,{"$f":"IF(B196=\"\",\"\",VLOOKUP(B196,'Spisak FSS izložbi'!$B$6:$H$318,6,FALSE))","v":""},{"$f":"IF(B196=\"\",\"\",VLOOKUP(B196,'Spisak FSS izložbi'!$B$6:$H$318,5,FALSE))","v":""},null,null,null,null,null,0,0,{"$f":"IF(B196=\"\",1,VLOOKUP(B196,'Spisak FSS izložbi'!$B$6:$H$318,7,FALSE))","v":1},0]
[183,null,{"$f":"IF(B197=\"\",\"\",VLOOKUP(B197,'Spisak FSS izložbi'!$B$6:$H$318,3,FALSE))","v":""},null,{"$f":"IF(B197=\"\",\"\",VLOOKUP(B197,'Spisak FSS izložbi'!$B$6:$H$318,6,FALSE))","v":""},{"$f":"IF(B197=\"\",\"\",VLOOKUP(B197,'Spisak FSS izložbi'!$B$6:$H$318,5,FALSE))","v":""},null,null,null,null,null,0,0,{"$f":"IF(B197=\"\",1,VLOOKUP(B197,'Spisak FSS izložbi'!$B$6:$H$318,7,FALSE))","v":1},0]
[184,null,{"$f":"IF(B198=\"\",\"\",VLOOKUP(B198,'Spisak FSS izložbi'!$B$6:$H$318,3,FALSE))","v":""},null,{"$f":"IF(B198=\"\",\"\",VLOOKUP(B198,'Spisak FSS izložbi'!$B$6:$H$318,6,FALSE))","v":""},{"$f":"IF(B198=\"\",\"\",VLOOKUP(B198,'Spisak FSS izložbi'!$B$6:$H$318,5,FALSE))","v":""},null,null,null,null,null,0,0,{"$f":"IF(B198=\"\",1,VLOOKUP(B198,'Spisak FSS izložbi'!$B$6:$H$318,7,FALSE))","v":1},0]
[185,null,{"$f":"IF(B199=\"\",\"\",VLOOKUP(B199,'Spisak FSS izložbi'!$B$6:$H$318,3,FALSE))","v":""},null,{"$f":"IF(B199=\"\",\"\",VLOOKUP(B199,'Spisak FSS izložbi'!$B$6:$H$318,6,FALSE))","v":""},{"$f":"IF(B199=\"\",\"\",VLOOKUP(B199,'Spisak FSS izložbi'!$B$6:$H$318,5,FALSE))","v":""},null,null,null,null,null,0,0,{"$f":"IF(B199=\"\",1,VLOOKUP(B199,'Spisak FSS izložbi'!$B$6:$H$318,7,FALSE))","v":1},0]
[186,null,{"$f":"IF(B200=\"\",\"\",VLOOKUP(B200,'Spisak FSS izložbi'!$B$6:$H$318,3,FALSE))","v":""},null,{"$f":"IF(B200=\"\",\"\",VLOOKUP(B200,'Spisak FSS izložbi'!$B$6:$H$318,6,FALSE))","v":""},{"$f":"IF(B200=\"\",\"\",VLOOKUP(B200,'Spisak FSS izložbi'!$B$6:$H$318,5,FALSE))","v":""},null,null,null,null,null,0,0,{"$f":"IF(B200=\"\",1,VLOOKUP(B200,'Spisak FSS izložbi'!$B$6:$H$318,7,FALSE))","v":1},0]
[187,null,{"$f":"IF(B201=\"\",\"\",VLOOKUP(B201,'Spisak FSS izložbi'!$B$6:$H$318,3,FALSE))","v":""},null,{"$f":"IF(B201=\"\",\"\",VLOOKUP(B201,'Spisak FSS izložbi'!$B$6:$H$318,6,FALSE))","v":""},{"$f":"IF(B201=\"\",\"\",VLOOKUP(B201,'Spisak FSS izložbi'!$B$6:$H$318,5,FALSE))","v":""},null,null,null,null,null,0,0,{"$f":"IF(B201=\"\",1,VLOOKUP(B201,'Spisak FSS izložbi'!$B$6:$H$318,7,FALSE))","v":1},0]
[188,null,{"$f":"IF(B202=\"\",\"\",VLOOKUP(B202,'Spisak FSS izložbi'!$B$6:$H$318,3,FALSE))","v":""},null,{"$f":"IF(B202=\"\",\"\",VLOOKUP(B202,'Spisak FSS izložbi'!$B$6:$H$318,6,FALSE))","v":""},{"$f":"IF(B202=\"\",\"\",VLOOKUP(B202,'Spisak FSS izložbi'!$B$6:$H$318,5,FALSE))","v":""},null,null,null,null,null,0,0,{"$f":"IF(B202=\"\",1,VLOOKUP(B202,'Spisak FSS izložbi'!$B$6:$H$318,7,FALSE))","v":1},0]
[189,null,{"$f":"IF(B203=\"\",\"\",VLOOKUP(B203,'Spisak FSS izložbi'!$B$6:$H$318,3,FALSE))","v":""},null,{"$f":"IF(B203=\"\",\"\",VLOOKUP(B203,'Spisak FSS izložbi'!$B$6:$H$318,6,FALSE))","v":""},{"$f":"IF(B203=\"\",\"\",VLOOKUP(B203,'Spisak FSS izložbi'!$B$6:$H$318,5,FALSE))","v":""},null,null,null,null,null,0,0,{"$f":"IF(B203=\"\",1,VLOOKUP(B203,'Spisak FSS izložbi'!$B$6:$H$318,7,FALSE))","v":1},0]
[190,null,{"$f":"IF(B204=\"\",\"\",VLOOKUP(B204,'Spisak FSS izložbi'!$B$6:$H$318,3,FALSE))","v":""},null,{"$f":"IF(B204=\"\",\"\",VLOOKUP(B204,'Spisak FSS izložbi'!$B$6:$H$318,6,FALSE))","v":""},{"$f":"IF(B204=\"\",\"\",VLOOKUP(B204,'Spisak FSS izložbi'!$B$6:$H$318,5,FALSE))","v":""},null,null,null,null,null,0,0,{"$f":"IF(B204=\"\",1,VLOOKUP(B204,'Spisak FSS izložbi'!$B$6:$H$318,7,FALSE))","v":1},0]
[191,null,{"$f":"IF(B205=\"\",\"\",VLOOKUP(B205,'Spisak FSS izložbi'!$B$6:$H$318,3,FALSE))","v":""},null,{"$f":"IF(B205=\"\",\"\",VLOOKUP(B205,'Spisak FSS izložbi'!$B$6:$H$318,6,FALSE))","v":""},{"$f":"IF(B205=\"\",\"\",VLOOKUP(B205,'Spisak FSS izložbi'!$B$6:$H$318,5,FALSE))","v":""},null,null,null,null,null,0,0,{"$f":"IF(B205=\"\",1,VLOOKUP(B205,'Spisak FSS izložbi'!$B$6:$H$318,7,FALSE))","v":1},0]
[192,null,{"$f":"IF(B206=\"\",\"\",VLOOKUP(B206,'Spisak FSS izložbi'!$B$6:$H$318,3,FALSE))","v":""},null,{"$f":"IF(B206=\"\",\"\",VLOOKUP(B206,'Spisak FSS izložbi'!$B$6:$H$318,6,FALSE))","v":""},{"$f":"IF(B206=\"\",\"\",VLOOKUP(B206,'Spisak FSS izložbi'!$B$6:$H$318,5,FALSE))","v":""},null,null,null,null,null,0,0,{"$f":"IF(B206=\"\",1,VLOOKUP(B206,'Spisak FSS izložbi'!$B$6:$H$318,7,FALSE))","v":1},0]
[193,null,{"$f":"IF(B207=\"\",\"\",VLOOKUP(B207,'Spisak FSS izložbi'!$B$6:$H$318,3,FALSE))","v":""},null,{"$f":"IF(B207=\"\",\"\",VLOOKUP(B207,'Spisak FSS izložbi'!$B$6:$H$318,6,FALSE))","v":""},{"$f":"IF(B207=\"\",\"\",VLOOKUP(B207,'Spisak FSS izložbi'!$B$6:$H$318,5,FALSE))","v":""},null,null,null,null,null,0,0,{"$f":"IF(B207=\"\",1,VLOOKUP(B207,'Spisak FSS izložbi'!$B$6:$H$318,7,FALSE))","v":1},0]
[194,null,{"$f":"IF(B208=\"\",\"\",VLOOKUP(B208,'Spisak FSS izložbi'!$B$6:$H$318,3,FALSE))","v":""},null,{"$f":"IF(B208=\"\",\"\",VLOOKUP(B208,'Spisak FSS izložbi'!$B$6:$H$318,6,FALSE))","v":""},{"$f":"IF(B208=\"\",\"\",VLOOKUP(B208,'Spisak FSS izložbi'!$B$6:$H$318,5,FALSE))","v":""},null,null,null,null,null,{"$f":"IF(E208=$H$1,$H$6,IF(E208=$I$1,$I$6,IF(E208=$J$1,$J$6,IF(E208=$K$1,$K$6,IF(E208=$L$1,$L$6,IF(E208=$M$1,$M$6,IF(E208=$N$1,$N$6,IF(E208=$O$1,$O$6,0))))))))","v":0},{"$f":"IF(OR(E208=\"\",K208=\"\")=TRUE,0,VLOOKUP(K208,$G$1:$O$7,MATCH(E208,$G$1:$O$1,0),FALSE))","v":0},{"$f":"IF(B208=\"\",1,VLOOKUP(B208,'Spisak FSS izložbi'!$B$6:$H$318,7,FALSE))","v":1},{"$f":"(L208+M208)*N208","v":0}]
[195,null,{"$f":"IF(B209=\"\",\"\",VLOOKUP(B209,'Spisak FSS izložbi'!$B$6:$H$318,3,FALSE))","v":""},null,{"$f":"IF(B209=\"\",\"\",VLOOKUP(B209,'Spisak FSS izložbi'!$B$6:$H$318,6,FALSE))","v":""},{"$f":"IF(B209=\"\",\"\",VLOOKUP(B209,'Spisak FSS izložbi'!$B$6:$H$318,5,FALSE))","v":""},null,null,null,null,null,0,0,{"$f":"IF(B209=\"\",1,VLOOKUP(B209,'Spisak FSS izložbi'!$B$6:$H$318,7,FALSE))","v":1},0]
[196,null,{"$f":"IF(B210=\"\",\"\",VLOOKUP(B210,'Spisak FSS izložbi'!$B$6:$H$318,3,FALSE))","v":""},null,{"$f":"IF(B210=\"\",\"\",VLOOKUP(B210,'Spisak FSS izložbi'!$B$6:$H$318,6,FALSE))","v":""},{"$f":"IF(B210=\"\",\"\",VLOOKUP(B210,'Spisak FSS izložbi'!$B$6:$H$318,5,FALSE))","v":""},null,null,null,null,null,0,0,{"$f":"IF(B210=\"\",1,VLOOKUP(B210,'Spisak FSS izložbi'!$B$6:$H$318,7,FALSE))","v":1},0]
[197,null,{"$f":"IF(B211=\"\",\"\",VLOOKUP(B211,'Spisak FSS izložbi'!$B$6:$H$318,3,FALSE))","v":""},null,{"$f":"IF(B211=\"\",\"\",VLOOKUP(B211,'Spisak FSS izložbi'!$B$6:$H$318,6,FALSE))","v":""},{"$f":"IF(B211=\"\",\"\",VLOOKUP(B211,'Spisak FSS izložbi'!$B$6:$H$318,5,FALSE))","v":""},null,null,null,null,null,0,0,{"$f":"IF(B211=\"\",1,VLOOKUP(B211,'Spisak FSS izložbi'!$B$6:$H$318,7,FALSE))","v":1},0]
[198,null,{"$f":"IF(B212=\"\",\"\",VLOOKUP(B212,'Spisak FSS izložbi'!$B$6:$H$318,3,FALSE))","v":""},null,{"$f":"IF(B212=\"\",\"\",VLOOKUP(B212,'Spisak FSS izložbi'!$B$6:$H$318,6,FALSE))","v":""},{"$f":"IF(B212=\"\",\"\",VLOOKUP(B212,'Spisak FSS izložbi'!$B$6:$H$318,5,FALSE))","v":""},null,null,null,null,null,0,0,{"$f":"IF(B212=\"\",1,VLOOKUP(B212,'Spisak FSS izložbi'!$B$6:$H$318,7,FALSE))","v":1},0]
[199,null,{"$f":"IF(B213=\"\",\"\",VLOOKUP(B213,'Spisak FSS izložbi'!$B$6:$H$318,3,FALSE))","v":""},null,{"$f":"IF(B213=\"\",\"\",VLOOKUP(B213,'Spisak FSS izložbi'!$B$6:$H$318,6,FALSE))","v":""},{"$f":"IF(B213=\"\",\"\",VLOOKUP(B213,'Spisak FSS izložbi'!$B$6:$H$318,5,FALSE))","v":""},null,null,null,null,null,0,0,{"$f":"IF(B213=\"\",1,VLOOKUP(B213,'Spisak FSS izložbi'!$B$6:$H$318,7,FALSE))","v":1},0]
[200,null,{"$f":"IF(B214=\"\",\"\",VLOOKUP(B214,'Spisak FSS izložbi'!$B$6:$H$318,3,FALSE))","v":""},null,{"$f":"IF(B214=\"\",\"\",VLOOKUP(B214,'Spisak FSS izložbi'!$B$6:$H$318,6,FALSE))","v":""},{"$f":"IF(B214=\"\",\"\",VLOOKUP(B214,'Spisak FSS izložbi'!$B$6:$H$318,5,FALSE))","v":""},null,null,null,null,null,0,0,{"$f":"IF(B214=\"\",1,VLOOKUP(B214,'Spisak FSS izložbi'!$B$6:$H$318,7,FALSE))","v":1},0]
[201,null,{"$f":"IF(B215=\"\",\"\",VLOOKUP(B215,'Spisak FSS izložbi'!$B$6:$H$318,3,FALSE))","v":""},null,{"$f":"IF(B215=\"\",\"\",VLOOKUP(B215,'Spisak FSS izložbi'!$B$6:$H$318,6,FALSE))","v":""},{"$f":"IF(B215=\"\",\"\",VLOOKUP(B215,'Spisak FSS izložbi'!$B$6:$H$318,5,FALSE))","v":""},null,null,null,null,null,0,0,{"$f":"IF(B215=\"\",1,VLOOKUP(B215,'Spisak FSS izložbi'!$B$6:$H$318,7,FALSE))","v":1},0]
[202,null,{"$f":"IF(B216=\"\",\"\",VLOOKUP(B216,'Spisak FSS izložbi'!$B$6:$H$318,3,FALSE))","v":""},null,{"$f":"IF(B216=\"\",\"\",VLOOKUP(B216,'Spisak FSS izložbi'!$B$6:$H$318,6,FALSE))","v":""},{"$f":"IF(B216=\"\",\"\",VLOOKUP(B216,'Spisak FSS izložbi'!$B$6:$H$318,5,FALSE))","v":""},null,null,null,null,null,0,0,{"$f":"IF(B216=\"\",1,VLOOKUP(B216,'Spisak FSS izložbi'!$B$6:$H$318,7,FALSE))","v":1},0]
[203,null,{"$f":"IF(B217=\"\",\"\",VLOOKUP(B217,'Spisak FSS izložbi'!$B$6:$H$318,3,FALSE))","v":""},null,{"$f":"IF(B217=\"\",\"\",VLOOKUP(B217,'Spisak FSS izložbi'!$B$6:$H$318,6,FALSE))","v":""},{"$f":"IF(B217=\"\",\"\",VLOOKUP(B217,'Spisak FSS izložbi'!$B$6:$H$318,5,FALSE))","v":""},null,null,null,null,null,0,0,{"$f":"IF(B217=\"\",1,VLOOKUP(B217,'Spisak FSS izložbi'!$B$6:$H$318,7,FALSE))","v":1},0]
[204,null,{"$f":"IF(B218=\"\",\"\",VLOOKUP(B218,'Spisak FSS izložbi'!$B$6:$H$318,3,FALSE))","v":""},null,{"$f":"IF(B218=\"\",\"\",VLOOKUP(B218,'Spisak FSS izložbi'!$B$6:$H$318,6,FALSE))","v":""},{"$f":"IF(B218=\"\",\"\",VLOOKUP(B218,'Spisak FSS izložbi'!$B$6:$H$318,5,FALSE))","v":""},null,null,null,null,null,0,0,{"$f":"IF(B218=\"\",1,VLOOKUP(B218,'Spisak FSS izložbi'!$B$6:$H$318,7,FALSE))","v":1},0]
[205,null,{"$f":"IF(B219=\"\",\"\",VLOOKUP(B219,'Spisak FSS izložbi'!$B$6:$H$318,3,FALSE))","v":""},null,{"$f":"IF(B219=\"\",\"\",VLOOKUP(B219,'Spisak FSS izložbi'!$B$6:$H$318,6,FALSE))","v":""},{"$f":"IF(B219=\"\",\"\",VLOOKUP(B219,'Spisak FSS izložbi'!$B$6:$H$318,5,FALSE))","v":""},null,null,null,null,null,0,0,{"$f":"IF(B219=\"\",1,VLOOKUP(B219,'Spisak FSS izložbi'!$B$6:$H$318,7,FALSE))","v":1},0]
[206,null,{"$f":"IF(B220=\"\",\"\",VLOOKUP(B220,'Spisak FSS izložbi'!$B$6:$H$318,3,FALSE))","v":""},null,{"$f":"IF(B220=\"\",\"\",VLOOKUP(B220,'Spisak FSS izložbi'!$B$6:$H$318,6,FALSE))","v":""},{"$f":"IF(B220=\"\",\"\",VLOOKUP(B220,'Spisak FSS izložbi'!$B$6:$H$318,5,FALSE))","v":""},null,null,null,null,null,0,0,{"$f":"IF(B220=\"\",1,VLOOKUP(B220,'Spisak FSS izložbi'!$B$6:$H$318,7,FALSE))","v":1},0]
[207,null,{"$f":"IF(B221=\"\",\"\",VLOOKUP(B221,'Spisak FSS izložbi'!$B$6:$H$318,3,FALSE))","v":""},null,{"$f":"IF(B221=\"\",\"\",VLOOKUP(B221,'Spisak FSS izložbi'!$B$6:$H$318,6,FALSE))","v":""},{"$f":"IF(B221=\"\",\"\",VLOOKUP(B221,'Spisak FSS izložbi'!$B$6:$H$318,5,FALSE))","v":""},null,null,null,null,null,0,0,{"$f":"IF(B221=\"\",1,VLOOKUP(B221,'Spisak FSS izložbi'!$B$6:$H$318,7,FALSE))","v":1},0]
[208,null,{"$f":"IF(B222=\"\",\"\",VLOOKUP(B222,'Spisak FSS izložbi'!$B$6:$H$318,3,FALSE))","v":""},null,{"$f":"IF(B222=\"\",\"\",VLOOKUP(B222,'Spisak FSS izložbi'!$B$6:$H$318,6,FALSE))","v":""},{"$f":"IF(B222=\"\",\"\",VLOOKUP(B222,'Spisak FSS izložbi'!$B$6:$H$318,5,FALSE))","v":""},null,null,null,null,null,0,0,{"$f":"IF(B222=\"\",1,VLOOKUP(B222,'Spisak FSS izložbi'!$B$6:$H$318,7,FALSE))","v":1},0]
[209,null,{"$f":"IF(B223=\"\",\"\",VLOOKUP(B223,'Spisak FSS izložbi'!$B$6:$H$318,3,FALSE))","v":""},null,{"$f":"IF(B223=\"\",\"\",VLOOKUP(B223,'Spisak FSS izložbi'!$B$6:$H$318,6,FALSE))","v":""},{"$f":"IF(B223=\"\",\"\",VLOOKUP(B223,'Spisak FSS izložbi'!$B$6:$H$318,5,FALSE))","v":""},null,null,null,null,null,0,0,{"$f":"IF(B223=\"\",1,VLOOKUP(B223,'Spisak FSS izložbi'!$B$6:$H$318,7,FALSE))","v":1},0]
[210,null,{"$f":"IF(B224=\"\",\"\",VLOOKUP(B224,'Spisak FSS izložbi'!$B$6:$H$318,3,FALSE))","v":""},null,{"$f":"IF(B224=\"\",\"\",VLOOKUP(B224,'Spisak FSS izložbi'!$B$6:$H$318,6,FALSE))","v":""},{"$f":"IF(B224=\"\",\"\",VLOOKUP(B224,'Spisak FSS izložbi'!$B$6:$H$318,5,FALSE))","v":""},null,null,null,null,null,0,0,{"$f":"IF(B224=\"\",1,VLOOKUP(B224,'Spisak FSS izložbi'!$B$6:$H$318,7,FALSE))","v":1},0]
[211,null,{"$f":"IF(B225=\"\",\"\",VLOOKUP(B225,'Spisak FSS izložbi'!$B$6:$H$318,3,FALSE))","v":""},null,{"$f":"IF(B225=\"\",\"\",VLOOKUP(B225,'Spisak FSS izložbi'!$B$6:$H$318,6,FALSE))","v":""},{"$f":"IF(B225=\"\",\"\",VLOOKUP(B225,'Spisak FSS izložbi'!$B$6:$H$318,5,FALSE))","v":""},null,null,null,null,null,0,0,{"$f":"IF(B225=\"\",1,VLOOKUP(B225,'Spisak FSS izložbi'!$B$6:$H$318,7,FALSE))","v":1},0]
[212,null,{"$f":"IF(B226=\"\",\"\",VLOOKUP(B226,'Spisak FSS izložbi'!$B$6:$H$318,3,FALSE))","v":""},null,{"$f":"IF(B226=\"\",\"\",VLOOKUP(B226,'Spisak FSS izložbi'!$B$6:$H$318,6,FALSE))","v":""},{"$f":"IF(B226=\"\",\"\",VLOOKUP(B226,'Spisak FSS izložbi'!$B$6:$H$318,5,FALSE))","v":""},null,null,null,null,null,0,0,{"$f":"IF(B226=\"\",1,VLOOKUP(B226,'Spisak FSS izložbi'!$B$6:$H$318,7,FALSE))","v":1},0]
[213,null,{"$f":"IF(B227=\"\",\"\",VLOOKUP(B227,'Spisak FSS izložbi'!$B$6:$H$318,3,FALSE))","v":""},null,{"$f":"IF(B227=\"\",\"\",VLOOKUP(B227,'Spisak FSS izložbi'!$B$6:$H$318,6,FALSE))","v":""},{"$f":"IF(B227=\"\",\"\",VLOOKUP(B227,'Spisak FSS izložbi'!$B$6:$H$318,5,FALSE))","v":""},null,null,null,null,null,0,0,{"$f":"IF(B227=\"\",1,VLOOKUP(B227,'Spisak FSS izložbi'!$B$6:$H$318,7,FALSE))","v":1},0]
[214,null,{"$f":"IF(B228=\"\",\"\",VLOOKUP(B228,'Spisak FSS izložbi'!$B$6:$H$318,3,FALSE))","v":""},null,{"$f":"IF(B228=\"\",\"\",VLOOKUP(B228,'Spisak FSS izložbi'!$B$6:$H$318,6,FALSE))","v":""},{"$f":"IF(B228=\"\",\"\",VLOOKUP(B228,'Spisak FSS izložbi'!$B$6:$H$318,5,FALSE))","v":""},null,null,null,null,null,0,0,{"$f":"IF(B228=\"\",1,VLOOKUP(B228,'Spisak FSS izložbi'!$B$6:$H$318,7,FALSE))","v":1},0]
[215,null,{"$f":"IF(B229=\"\",\"\",VLOOKUP(B229,'Spisak FSS izložbi'!$B$6:$H$318,3,FALSE))","v":""},null,{"$f":"IF(B229=\"\",\"\",VLOOKUP(B229,'Spisak FSS izložbi'!$B$6:$H$318,6,FALSE))","v":""},{"$f":"IF(B229=\"\",\"\",VLOOKUP(B229,'Spisak FSS izložbi'!$B$6:$H$318,5,FALSE))","v":""},null,null,null,null,null,0,0,{"$f":"IF(B229=\"\",1,VLOOKUP(B229,'Spisak FSS izložbi'!$B$6:$H$318,7,FALSE))","v":1},0]
[216,null,{"$f":"IF(B230=\"\",\"\",VLOOKUP(B230,'Spisak FSS izložbi'!$B$6:$H$318,3,FALSE))","v":""},null,{"$f":"IF(B230=\"\",\"\",VLOOKUP(B230,'Spisak FSS izložbi'!$B$6:$H$318,6,FALSE))","v":""},{"$f":"IF(B230=\"\",\"\",VLOOKUP(B230,'Spisak FSS izložbi'!$B$6:$H$318,5,FALSE))","v":""},null,null,null,null,null,0,0,{"$f":"IF(B230=\"\",1,VLOOKUP(B230,'Spisak FSS izložbi'!$B$6:$H$318,7,FALSE))","v":1},0]
[217,null,{"$f":"IF(B231=\"\",\"\",VLOOKUP(B231,'Spisak FSS izložbi'!$B$6:$H$318,3,FALSE))","v":""},null,{"$f":"IF(B231=\"\",\"\",VLOOKUP(B231,'Spisak FSS izložbi'!$B$6:$H$318,6,FALSE))","v":""},{"$f":"IF(B231=\"\",\"\",VLOOKUP(B231,'Spisak FSS izložbi'!$B$6:$H$318,5,FALSE))","v":""},null,null,null,null,null,0,0,{"$f":"IF(B231=\"\",1,VLOOKUP(B231,'Spisak FSS izložbi'!$B$6:$H$318,7,FALSE))","v":1},0]
[218,null,{"$f":"IF(B232=\"\",\"\",VLOOKUP(B232,'Spisak FSS izložbi'!$B$6:$H$318,3,FALSE))","v":""},null,{"$f":"IF(B232=\"\",\"\",VLOOKUP(B232,'Spisak FSS izložbi'!$B$6:$H$318,6,FALSE))","v":""},{"$f":"IF(B232=\"\",\"\",VLOOKUP(B232,'Spisak FSS izložbi'!$B$6:$H$318,5,FALSE))","v":""},null,null,null,null,null,0,0,{"$f":"IF(B232=\"\",1,VLOOKUP(B232,'Spisak FSS izložbi'!$B$6:$H$318,7,FALSE))","v":1},0]
[219,null,{"$f":"IF(B233=\"\",\"\",VLOOKUP(B233,'Spisak FSS izložbi'!$B$6:$H$318,3,FALSE))","v":""},null,{"$f":"IF(B233=\"\",\"\",VLOOKUP(B233,'Spisak FSS izložbi'!$B$6:$H$318,6,FALSE))","v":""},{"$f":"IF(B233=\"\",\"\",VLOOKUP(B233,'Spisak FSS izložbi'!$B$6:$H$318,5,FALSE))","v":""},null,null,null,null,null,0,0,{"$f":"IF(B233=\"\",1,VLOOKUP(B233,'Spisak FSS izložbi'!$B$6:$H$318,7,FALSE))","v":1},0]
[220,null,{"$f":"IF(B234=\"\",\"\",VLOOKUP(B234,'Spisak FSS izložbi'!$B$6:$H$318,3,FALSE))","v":""},null,{"$f":"IF(B234=\"\",\"\",VLOOKUP(B234,'Spisak FSS izložbi'!$B$6:$H$318,6,FALSE))","v":""},{"$f":"IF(B234=\"\",\"\",VLOOKUP(B234,'Spisak FSS izložbi'!$B$6:$H$318,5,FALSE))","v":""},null,null,null,null,null,0,0,{"$f":"IF(B234=\"\",1,VLOOKUP(B234,'Spisak FSS izložbi'!$B$6:$H$318,7,FALSE))","v":1},0]
[221,null,{"$f":"IF(B235=\"\",\"\",VLOOKUP(B235,'Spisak FSS izložbi'!$B$6:$H$318,3,FALSE))","v":""},null,{"$f":"IF(B235=\"\",\"\",VLOOKUP(B235,'Spisak FSS izložbi'!$B$6:$H$318,6,FALSE))","v":""},{"$f":"IF(B235=\"\",\"\",VLOOKUP(B235,'Spisak FSS izložbi'!$B$6:$H$318,5,FALSE))","v":""},null,null,null,null,null,0,0,{"$f":"IF(B235=\"\",1,VLOOKUP(B235,'Spisak FSS izložbi'!$B$6:$H$318,7,FALSE))","v":1},0]
[222,null,{"$f":"IF(B236=\"\",\"\",VLOOKUP(B236,'Spisak FSS izložbi'!$B$6:$H$318,3,FALSE))","v":""},null,{"$f":"IF(B236=\"\",\"\",VLOOKUP(B236,'Spisak FSS izložbi'!$B$6:$H$318,6,FALSE))","v":""},{"$f":"IF(B236=\"\",\"\",VLOOKUP(B236,'Spisak FSS izložbi'!$B$6:$H$318,5,FALSE))","v":""},null,null,null,null,null,0,0,{"$f":"IF(B236=\"\",1,VLOOKUP(B236,'Spisak FSS izložbi'!$B$6:$H$318,7,FALSE))","v":1},0]
[223,null,{"$f":"IF(B237=\"\",\"\",VLOOKUP(B237,'Spisak FSS izložbi'!$B$6:$H$318,3,FALSE))","v":""},null,{"$f":"IF(B237=\"\",\"\",VLOOKUP(B237,'Spisak FSS izložbi'!$B$6:$H$318,6,FALSE))","v":""},{"$f":"IF(B237=\"\",\"\",VLOOKUP(B237,'Spisak FSS izložbi'!$B$6:$H$318,5,FALSE))","v":""},null,null,null,null,null,0,0,{"$f":"IF(B237=\"\",1,VLOOKUP(B237,'Spisak FSS izložbi'!$B$6:$H$318,7,FALSE))","v":1},0]
[224,null,{"$f":"IF(B238=\"\",\"\",VLOOKUP(B238,'Spisak FSS izložbi'!$B$6:$H$318,3,FALSE))","v":""},null,{"$f":"IF(B238=\"\",\"\",VLOOKUP(B238,'Spisak FSS izložbi'!$B$6:$H$318,6,FALSE))","v":""},{"$f":"IF(B238=\"\",\"\",VLOOKUP(B238,'Spisak FSS izložbi'!$B$6:$H$318,5,FALSE))","v":""},null,null,null,null,null,0,0,{"$f":"IF(B238=\"\",1,VLOOKUP(B238,'Spisak FSS izložbi'!$B$6:$H$318,7,FALSE))","v":1},0]
[225,null,{"$f":"IF(B239=\"\",\"\",VLOOKUP(B239,'Spisak FSS izložbi'!$B$6:$H$318,3,FALSE))","v":""},null,{"$f":"IF(B239=\"\",\"\",VLOOKUP(B239,'Spisak FSS izložbi'!$B$6:$H$318,6,FALSE))","v":""},{"$f":"IF(B239=\"\",\"\",VLOOKUP(B239,'Spisak FSS izložbi'!$B$6:$H$318,5,FALSE))","v":""},null,null,null,null,null,0,0,{"$f":"IF(B239=\"\",1,VLOOKUP(B239,'Spisak FSS izložbi'!$B$6:$H$318,7,FALSE))","v":1},0]
[226,null,{"$f":"IF(B240=\"\",\"\",VLOOKUP(B240,'Spisak FSS izložbi'!$B$6:$H$318,3,FALSE))","v":""},null,{"$f":"IF(B240=\"\",\"\",VLOOKUP(B240,'Spisak FSS izložbi'!$B$6:$H$318,6,FALSE))","v":""},{"$f":"IF(B240=\"\",\"\",VLOOKUP(B240,'Spisak FSS izložbi'!$B$6:$H$318,5,FALSE))","v":""},null,null,null,null,null,0,0,{"$f":"IF(B240=\"\",1,VLOOKUP(B240,'Spisak FSS izložbi'!$B$6:$H$318,7,FALSE))","v":1},0]
[227,null,{"$f":"IF(B241=\"\",\"\",VLOOKUP(B241,'Spisak FSS izložbi'!$B$6:$H$318,3,FALSE))","v":""},null,{"$f":"IF(B241=\"\",\"\",VLOOKUP(B241,'Spisak FSS izložbi'!$B$6:$H$318,6,FALSE))","v":""},{"$f":"IF(B241=\"\",\"\",VLOOKUP(B241,'Spisak FSS izložbi'!$B$6:$H$318,5,FALSE))","v":""},null,null,null,null,null,0,0,{"$f":"IF(B241=\"\",1,VLOOKUP(B241,'Spisak FSS izložbi'!$B$6:$H$318,7,FALSE))","v":1},0]
[228,null,{"$f":"IF(B242=\"\",\"\",VLOOKUP(B242,'Spisak FSS izložbi'!$B$6:$H$318,3,FALSE))","v":""},null,{"$f":"IF(B242=\"\",\"\",VLOOKUP(B242,'Spisak FSS izložbi'!$B$6:$H$318,6,FALSE))","v":""},{"$f":"IF(B242=\"\",\"\",VLOOKUP(B242,'Spisak FSS izložbi'!$B$6:$H$318,5,FALSE))","v":""},null,null,null,null,null,0,0,{"$f":"IF(B242=\"\",1,VLOOKUP(B242,'Spisak FSS izložbi'!$B$6:$H$318,7,FALSE))","v":1},0]
[229,null,{"$f":"IF(B243=\"\",\"\",VLOOKUP(B243,'Spisak FSS izložbi'!$B$6:$H$318,3,FALSE))","v":""},null,{"$f":"IF(B243=\"\",\"\",VLOOKUP(B243,'Spisak FSS izložbi'!$B$6:$H$318,6,FALSE))","v":""},{"$f":"IF(B243=\"\",\"\",VLOOKUP(B243,'Spisak FSS izložbi'!$B$6:$H$318,5,FALSE))","v":""},null,null,null,null,null,0,0,{"$f":"IF(B243=\"\",1,VLOOKUP(B243,'Spisak FSS izložbi'!$B$6:$H$318,7,FALSE))","v":1},0]
[230,null,{"$f":"IF(B244=\"\",\"\",VLOOKUP(B244,'Spisak FSS izložbi'!$B$6:$H$318,3,FALSE))","v":""},null,{"$f":"IF(B244=\"\",\"\",VLOOKUP(B244,'Spisak FSS izložbi'!$B$6:$H$318,6,FALSE))","v":""},{"$f":"IF(B244=\"\",\"\",VLOOKUP(B244,'Spisak FSS izložbi'!$B$6:$H$318,5,FALSE))","v":""},null,null,null,null,null,0,0,{"$f":"IF(B244=\"\",1,VLOOKUP(B244,'Spisak FSS izložbi'!$B$6:$H$318,7,FALSE))","v":1},0]
[231,null,{"$f":"IF(B245=\"\",\"\",VLOOKUP(B245,'Spisak FSS izložbi'!$B$6:$H$318,3,FALSE))","v":""},null,{"$f":"IF(B245=\"\",\"\",VLOOKUP(B245,'Spisak FSS izložbi'!$B$6:$H$318,6,FALSE))","v":""},{"$f":"IF(B245=\"\",\"\",VLOOKUP(B245,'Spisak FSS izložbi'!$B$6:$H$318,5,FALSE))","v":""},null,null,null,null,null,0,0,{"$f":"IF(B245=\"\",1,VLOOKUP(B245,'Spisak FSS izložbi'!$B$6:$H$318,7,FALSE))","v":1},0]
[232,null,{"$f":"IF(B246=\"\",\"\",VLOOKUP(B246,'Spisak FSS izložbi'!$B$6:$H$318,3,FALSE))","v":""},null,{"$f":"IF(B246=\"\",\"\",VLOOKUP(B246,'Spisak FSS izložbi'!$B$6:$H$318,6,FALSE))","v":""},{"$f":"IF(B246=\"\",\"\",VLOOKUP(B246,'Spisak FSS izložbi'!$B$6:$H$318,5,FALSE))","v":""},null,null,null,null,null,0,0,{"$f":"IF(B246=\"\",1,VLOOKUP(B246,'Spisak FSS izložbi'!$B$6:$H$318,7,FALSE))","v":1},0]
[233,null,{"$f":"IF(B247=\"\",\"\",VLOOKUP(B247,'Spisak FSS izložbi'!$B$6:$H$318,3,FALSE))","v":""},null,{"$f":"IF(B247=\"\",\"\",VLOOKUP(B247,'Spisak FSS izložbi'!$B$6:$H$318,6,FALSE))","v":""},{"$f":"IF(B247=\"\",\"\",VLOOKUP(B247,'Spisak FSS izložbi'!$B$6:$H$318,5,FALSE))","v":""},null,null,null,null,null,0,0,{"$f":"IF(B247=\"\",1,VLOOKUP(B247,'Spisak FSS izložbi'!$B$6:$H$318,7,FALSE))","v":1},0]
[234,null,{"$f":"IF(B248=\"\",\"\",VLOOKUP(B248,'Spisak FSS izložbi'!$B$6:$H$318,3,FALSE))","v":""},null,{"$f":"IF(B248=\"\",\"\",VLOOKUP(B248,'Spisak FSS izložbi'!$B$6:$H$318,6,FALSE))","v":""},{"$f":"IF(B248=\"\",\"\",VLOOKUP(B248,'Spisak FSS izložbi'!$B$6:$H$318,5,FALSE))","v":""},null,null,null,null,null,0,0,{"$f":"IF(B248=\"\",1,VLOOKUP(B248,'Spisak FSS izložbi'!$B$6:$H$318,7,FALSE))","v":1},0]
[235,null,{"$f":"IF(B249=\"\",\"\",VLOOKUP(B249,'Spisak FSS izložbi'!$B$6:$H$318,3,FALSE))","v":""},null,{"$f":"IF(B249=\"\",\"\",VLOOKUP(B249,'Spisak FSS izložbi'!$B$6:$H$318,6,FALSE))","v":""},{"$f":"IF(B249=\"\",\"\",VLOOKUP(B249,'Spisak FSS izložbi'!$B$6:$H$318,5,FALSE))","v":""},null,null,null,null,null,0,0,{"$f":"IF(B249=\"\",1,VLOOKUP(B249,'Spisak FSS izložbi'!$B$6:$H$318,7,FALSE))","v":1},0]
[236,null,{"$f":"IF(B250=\"\",\"\",VLOOKUP(B250,'Spisak FSS izložbi'!$B$6:$H$318,3,FALSE))","v":""},null,{"$f":"IF(B250=\"\",\"\",VLOOKUP(B250,'Spisak FSS izložbi'!$B$6:$H$318,6,FALSE))","v":""},{"$f":"IF(B250=\"\",\"\",VLOOKUP(B250,'Spisak FSS izložbi'!$B$6:$H$318,5,FALSE))","v":""},null,null,null,null,null,0,0,{"$f":"IF(B250=\"\",1,VLOOKUP(B250,'Spisak FSS izložbi'!$B$6:$H$318,7,FALSE))","v":1},0]
[237,null,{"$f":"IF(B251=\"\",\"\",VLOOKUP(B251,'Spisak FSS izložbi'!$B$6:$H$318,3,FALSE))","v":""},null,{"$f":"IF(B251=\"\",\"\",VLOOKUP(B251,'Spisak FSS izložbi'!$B$6:$H$318,6,FALSE))","v":""},{"$f":"IF(B251=\"\",\"\",VLOOKUP(B251,'Spisak FSS izložbi'!$B$6:$H$318,5,FALSE))","v":""},null,null,null,null,null,0,0,{"$f":"IF(B251=\"\",1,VLOOKUP(B251,'Spisak FSS izložbi'!$B$6:$H$318,7,FALSE))","v":1},0]
[238,null,{"$f":"IF(B252=\"\",\"\",VLOOKUP(B252,'Spisak FSS izložbi'!$B$6:$H$318,3,FALSE))","v":""},null,{"$f":"IF(B252=\"\",\"\",VLOOKUP(B252,'Spisak FSS izložbi'!$B$6:$H$318,6,FALSE))","v":""},{"$f":"IF(B252=\"\",\"\",VLOOKUP(B252,'Spisak FSS izložbi'!$B$6:$H$318,5,FALSE))","v":""},null,null,null,null,null,0,0,{"$f":"IF(B252=\"\",1,VLOOKUP(B252,'Spisak FSS izložbi'!$B$6:$H$318,7,FALSE))","v":1},0]
[239,null,{"$f":"IF(B253=\"\",\"\",VLOOKUP(B253,'Spisak FSS izložbi'!$B$6:$H$318,3,FALSE))","v":""},null,{"$f":"IF(B253=\"\",\"\",VLOOKUP(B253,'Spisak FSS izložbi'!$B$6:$H$318,6,FALSE))","v":""},{"$f":"IF(B253=\"\",\"\",VLOOKUP(B253,'Spisak FSS izložbi'!$B$6:$H$318,5,FALSE))","v":""},null,null,null,null,null,0,0,{"$f":"IF(B253=\"\",1,VLOOKUP(B253,'Spisak FSS izložbi'!$B$6:$H$318,7,FALSE))","v":1},0]
[240,null,{"$f":"IF(B254=\"\",\"\",VLOOKUP(B254,'Spisak FSS izložbi'!$B$6:$H$318,3,FALSE))","v":""},null,{"$f":"IF(B254=\"\",\"\",VLOOKUP(B254,'Spisak FSS izložbi'!$B$6:$H$318,6,FALSE))","v":""},{"$f":"IF(B254=\"\",\"\",VLOOKUP(B254,'Spisak FSS izložbi'!$B$6:$H$318,5,FALSE))","v":""},null,null,null,null,null,0,0,{"$f":"IF(B254=\"\",1,VLOOKUP(B254,'Spisak FSS izložbi'!$B$6:$H$318,7,FALSE))","v":1},0]
[241,null,{"$f":"IF(B255=\"\",\"\",VLOOKUP(B255,'Spisak FSS izložbi'!$B$6:$H$318,3,FALSE))","v":""},null,{"$f":"IF(B255=\"\",\"\",VLOOKUP(B255,'Spisak FSS izložbi'!$B$6:$H$318,6,FALSE))","v":""},{"$f":"IF(B255=\"\",\"\",VLOOKUP(B255,'Spisak FSS izložbi'!$B$6:$H$318,5,FALSE))","v":""},null,null,null,null,null,0,0,{"$f":"IF(B255=\"\",1,VLOOKUP(B255,'Spisak FSS izložbi'!$B$6:$H$318,7,FALSE))","v":1},0]
[242,null,{"$f":"IF(B256=\"\",\"\",VLOOKUP(B256,'Spisak FSS izložbi'!$B$6:$H$318,3,FALSE))","v":""},null,{"$f":"IF(B256=\"\",\"\",VLOOKUP(B256,'Spisak FSS izložbi'!$B$6:$H$318,6,FALSE))","v":""},{"$f":"IF(B256=\"\",\"\",VLOOKUP(B256,'Spisak FSS izložbi'!$B$6:$H$318,5,FALSE))","v":""},null,null,null,null,null,0,0,{"$f":"IF(B256=\"\",1,VLOOKUP(B256,'Spisak FSS izložbi'!$B$6:$H$318,7,FALSE))","v":1},0]
[243,null,{"$f":"IF(B257=\"\",\"\",VLOOKUP(B257,'Spisak FSS izložbi'!$B$6:$H$318,3,FALSE))","v":""},null,{"$f":"IF(B257=\"\",\"\",VLOOKUP(B257,'Spisak FSS izložbi'!$B$6:$H$318,6,FALSE))","v":""},{"$f":"IF(B257=\"\",\"\",VLOOKUP(B257,'Spisak FSS izložbi'!$B$6:$H$318,5,FALSE))","v":""},null,null,null,null,null,0,0,{"$f":"IF(B257=\"\",1,VLOOKUP(B257,'Spisak FSS izložbi'!$B$6:$H$318,7,FALSE))","v":1},0]
[244,null,{"$f":"IF(B258=\"\",\"\",VLOOKUP(B258,'Spisak FSS izložbi'!$B$6:$H$318,3,FALSE))","v":""},null,{"$f":"IF(B258=\"\",\"\",VLOOKUP(B258,'Spisak FSS izložbi'!$B$6:$H$318,6,FALSE))","v":""},{"$f":"IF(B258=\"\",\"\",VLOOKUP(B258,'Spisak FSS izložbi'!$B$6:$H$318,5,FALSE))","v":""},null,null,null,null,null,0,0,{"$f":"IF(B258=\"\",1,VLOOKUP(B258,'Spisak FSS izložbi'!$B$6:$H$318,7,FALSE))","v":1},0]
[245,null,{"$f":"IF(B259=\"\",\"\",VLOOKUP(B259,'Spisak FSS izložbi'!$B$6:$H$318,3,FALSE))","v":""},null,{"$f":"IF(B259=\"\",\"\",VLOOKUP(B259,'Spisak FSS izložbi'!$B$6:$H$318,6,FALSE))","v":""},{"$f":"IF(B259=\"\",\"\",VLOOKUP(B259,'Spisak FSS izložbi'!$B$6:$H$318,5,FALSE))","v":""},null,null,null,null,null,0,0,{"$f":"IF(B259=\"\",1,VLOOKUP(B259,'Spisak FSS izložbi'!$B$6:$H$318,7,FALSE))","v":1},0]
[246,null,{"$f":"IF(B260=\"\",\"\",VLOOKUP(B260,'Spisak FSS izložbi'!$B$6:$H$318,3,FALSE))","v":""},null,{"$f":"IF(B260=\"\",\"\",VLOOKUP(B260,'Spisak FSS izložbi'!$B$6:$H$318,6,FALSE))","v":""},{"$f":"IF(B260=\"\",\"\",VLOOKUP(B260,'Spisak FSS izložbi'!$B$6:$H$318,5,FALSE))","v":""},null,null,null,null,null,0,0,{"$f":"IF(B260=\"\",1,VLOOKUP(B260,'Spisak FSS izložbi'!$B$6:$H$318,7,FALSE))","v":1},0]
[247,null,{"$f":"IF(B261=\"\",\"\",VLOOKUP(B261,'Spisak FSS izložbi'!$B$6:$H$318,3,FALSE))","v":""},null,{"$f":"IF(B261=\"\",\"\",VLOOKUP(B261,'Spisak FSS izložbi'!$B$6:$H$318,6,FALSE))","v":""},{"$f":"IF(B261=\"\",\"\",VLOOKUP(B261,'Spisak FSS izložbi'!$B$6:$H$318,5,FALSE))","v":""},null,null,null,null,null,0,0,{"$f":"IF(B261=\"\",1,VLOOKUP(B261,'Spisak FSS izložbi'!$B$6:$H$318,7,FALSE))","v":1},0]
[248,null,{"$f":"IF(B262=\"\",\"\",VLOOKUP(B262,'Spisak FSS izložbi'!$B$6:$H$318,3,FALSE))","v":""},null,{"$f":"IF(B262=\"\",\"\",VLOOKUP(B262,'Spisak FSS izložbi'!$B$6:$H$318,6,FALSE))","v":""},{"$f":"IF(B262=\"\",\"\",VLOOKUP(B262,'Spisak FSS izložbi'!$B$6:$H$318,5,FALSE))","v":""},null,null,null,null,null,0,0,{"$f":"IF(B262=\"\",1,VLOOKUP(B262,'Spisak FSS izložbi'!$B$6:$H$318,7,FALSE))","v":1},0]
[249,null,{"$f":"IF(B263=\"\",\"\",VLOOKUP(B263,'Spisak FSS izložbi'!$B$6:$H$318,3,FALSE))","v":""},null,{"$f":"IF(B263=\"\",\"\",VLOOKUP(B263,'Spisak FSS izložbi'!$B$6:$H$318,6,FALSE))","v":""},{"$f":"IF(B263=\"\",\"\",VLOOKUP(B263,'Spisak FSS izložbi'!$B$6:$H$318,5,FALSE))","v":""},null,null,null,null,null,0,0,{"$f":"IF(B263=\"\",1,VLOOKUP(B263,'Spisak FSS izložbi'!$B$6:$H$318,7,FALSE))","v":1},0]
[250,null,{"$f":"IF(B264=\"\",\"\",VLOOKUP(B264,'Spisak FSS izložbi'!$B$6:$H$318,3,FALSE))","v":""},null,{"$f":"IF(B264=\"\",\"\",VLOOKUP(B264,'Spisak FSS izložbi'!$B$6:$H$318,6,FALSE))","v":""},{"$f":"IF(B264=\"\",\"\",VLOOKUP(B264,'Spisak FSS izložbi'!$B$6:$H$318,5,FALSE))","v":""},null,null,null,null,null,0,0,{"$f":"IF(B264=\"\",1,VLOOKUP(B264,'Spisak FSS izložbi'!$B$6:$H$318,7,FALSE))","v":1},0]
[251,null,{"$f":"IF(B265=\"\",\"\",VLOOKUP(B265,'Spisak FSS izložbi'!$B$6:$H$318,3,FALSE))","v":""},null,{"$f":"IF(B265=\"\",\"\",VLOOKUP(B265,'Spisak FSS izložbi'!$B$6:$H$318,6,FALSE))","v":""},{"$f":"IF(B265=\"\",\"\",VLOOKUP(B265,'Spisak FSS izložbi'!$B$6:$H$318,5,FALSE))","v":""},null,null,null,null,null,0,0,{"$f":"IF(B265=\"\",1,VLOOKUP(B265,'Spisak FSS izložbi'!$B$6:$H$318,7,FALSE))","v":1},0]
[252,null,{"$f":"IF(B266=\"\",\"\",VLOOKUP(B266,'Spisak FSS izložbi'!$B$6:$H$318,3,FALSE))","v":""},null,{"$f":"IF(B266=\"\",\"\",VLOOKUP(B266,'Spisak FSS izložbi'!$B$6:$H$318,6,FALSE))","v":""},{"$f":"IF(B266=\"\",\"\",VLOOKUP(B266,'Spisak FSS izložbi'!$B$6:$H$318,5,FALSE))","v":""},null,null,null,null,null,0,0,{"$f":"IF(B266=\"\",1,VLOOKUP(B266,'Spisak FSS izložbi'!$B$6:$H$318,7,FALSE))","v":1},0]
[253,null,{"$f":"IF(B267=\"\",\"\",VLOOKUP(B267,'Spisak FSS izložbi'!$B$6:$H$318,3,FALSE))","v":""},null,{"$f":"IF(B267=\"\",\"\",VLOOKUP(B267,'Spisak FSS izložbi'!$B$6:$H$318,6,FALSE))","v":""},{"$f":"IF(B267=\"\",\"\",VLOOKUP(B267,'Spisak FSS izložbi'!$B$6:$H$318,5,FALSE))","v":""},null,null,null,null,null,0,0,{"$f":"IF(B267=\"\",1,VLOOKUP(B267,'Spisak FSS izložbi'!$B$6:$H$318,7,FALSE))","v":1},0]
[254,null,{"$f":"IF(B268=\"\",\"\",VLOOKUP(B268,'Spisak FSS izložbi'!$B$6:$H$318,3,FALSE))","v":""},null,{"$f":"IF(B268=\"\",\"\",VLOOKUP(B268,'Spisak FSS izložbi'!$B$6:$H$318,6,FALSE))","v":""},{"$f":"IF(B268=\"\",\"\",VLOOKUP(B268,'Spisak FSS izložbi'!$B$6:$H$318,5,FALSE))","v":""},null,null,null,null,null,0,0,{"$f":"IF(B268=\"\",1,VLOOKUP(B268,'Spisak FSS izložbi'!$B$6:$H$318,7,FALSE))","v":1},0]
[255,null,{"$f":"IF(B269=\"\",\"\",VLOOKUP(B269,'Spisak FSS izložbi'!$B$6:$H$318,3,FALSE))","v":""},null,{"$f":"IF(B269=\"\",\"\",VLOOKUP(B269,'Spisak FSS izložbi'!$B$6:$H$318,6,FALSE))","v":""},{"$f":"IF(B269=\"\",\"\",VLOOKUP(B269,'Spisak FSS izložbi'!$B$6:$H$318,5,FALSE))","v":""},null,null,null,null,null,0,0,{"$f":"IF(B269=\"\",1,VLOOKUP(B269,'Spisak FSS izložbi'!$B$6:$H$318,7,FALSE))","v":1},0]
[256,null,{"$f":"IF(B270=\"\",\"\",VLOOKUP(B270,'Spisak FSS izložbi'!$B$6:$H$318,3,FALSE))","v":""},null,{"$f":"IF(B270=\"\",\"\",VLOOKUP(B270,'Spisak FSS izložbi'!$B$6:$H$318,6,FALSE))","v":""},{"$f":"IF(B270=\"\",\"\",VLOOKUP(B270,'Spisak FSS izložbi'!$B$6:$H$318,5,FALSE))","v":""},null,null,null,null,null,0,0,{"$f":"IF(B270=\"\",1,VLOOKUP(B270,'Spisak FSS izložbi'!$B$6:$H$318,7,FALSE))","v":1},0]
[257,null,{"$f":"IF(B271=\"\",\"\",VLOOKUP(B271,'Spisak FSS izložbi'!$B$6:$H$318,3,FALSE))","v":""},null,{"$f":"IF(B271=\"\",\"\",VLOOKUP(B271,'Spisak FSS izložbi'!$B$6:$H$318,6,FALSE))","v":""},{"$f":"IF(B271=\"\",\"\",VLOOKUP(B271,'Spisak FSS izložbi'!$B$6:$H$318,5,FALSE))","v":""},null,null,null,null,null,0,0,{"$f":"IF(B271=\"\",1,VLOOKUP(B271,'Spisak FSS izložbi'!$B$6:$H$318,7,FALSE))","v":1},0]
[258,null,{"$f":"IF(B272=\"\",\"\",VLOOKUP(B272,'Spisak FSS izložbi'!$B$6:$H$318,3,FALSE))","v":""},null,{"$f":"IF(B272=\"\",\"\",VLOOKUP(B272,'Spisak FSS izložbi'!$B$6:$H$318,6,FALSE))","v":""},{"$f":"IF(B272=\"\",\"\",VLOOKUP(B272,'Spisak FSS izložbi'!$B$6:$H$318,5,FALSE))","v":""},null,null,null,null,null,{"$f":"IF(E272=$H$1,$H$6,IF(E272=$I$1,$I$6,IF(E272=$J$1,$J$6,IF(E272=$K$1,$K$6,IF(E272=$L$1,$L$6,IF(E272=$M$1,$M$6,IF(E272=$N$1,$N$6,IF(E272=$O$1,$O$6,0))))))))","v":0},{"$f":"IF(OR(E272=\"\",K272=\"\")=TRUE,0,VLOOKUP(K272,$G$1:$O$7,MATCH(E272,$G$1:$O$1,0),FALSE))","v":0},{"$f":"IF(B272=\"\",1,VLOOKUP(B272,'Spisak FSS izložbi'!$B$6:$H$318,7,FALSE))","v":1},{"$f":"(L272+M272)*N272","v":0}]
[259,null,{"$f":"IF(B273=\"\",\"\",VLOOKUP(B273,'Spisak FSS izložbi'!$B$6:$H$318,3,FALSE))","v":""},null,{"$f":"IF(B273=\"\",\"\",VLOOKUP(B273,'Spisak FSS izložbi'!$B$6:$H$318,6,FALSE))","v":""},{"$f":"IF(B273=\"\",\"\",VLOOKUP(B273,'Spisak FSS izložbi'!$B$6:$H$318,5,FALSE))","v":""},null,null,null,null,null,0,0,{"$f":"IF(B273=\"\",1,VLOOKUP(B273,'Spisak FSS izložbi'!$B$6:$H$318,7,FALSE))","v":1},0]
[260,null,{"$f":"IF(B274=\"\",\"\",VLOOKUP(B274,'Spisak FSS izložbi'!$B$6:$H$318,3,FALSE))","v":""},null,{"$f":"IF(B274=\"\",\"\",VLOOKUP(B274,'Spisak FSS izložbi'!$B$6:$H$318,6,FALSE))","v":""},{"$f":"IF(B274=\"\",\"\",VLOOKUP(B274,'Spisak FSS izložbi'!$B$6:$H$318,5,FALSE))","v":""},null,null,null,null,null,0,0,{"$f":"IF(B274=\"\",1,VLOOKUP(B274,'Spisak FSS izložbi'!$B$6:$H$318,7,FALSE))","v":1},0]
[261,null,{"$f":"IF(B275=\"\",\"\",VLOOKUP(B275,'Spisak FSS izložbi'!$B$6:$H$318,3,FALSE))","v":""},null,{"$f":"IF(B275=\"\",\"\",VLOOKUP(B275,'Spisak FSS izložbi'!$B$6:$H$318,6,FALSE))","v":""},{"$f":"IF(B275=\"\",\"\",VLOOKUP(B275,'Spisak FSS izložbi'!$B$6:$H$318,5,FALSE))","v":""},null,null,null,null,null,0,0,{"$f":"IF(B275=\"\",1,VLOOKUP(B275,'Spisak FSS izložbi'!$B$6:$H$318,7,FALSE))","v":1},0]
[262,null,{"$f":"IF(B276=\"\",\"\",VLOOKUP(B276,'Spisak FSS izložbi'!$B$6:$H$318,3,FALSE))","v":""},null,{"$f":"IF(B276=\"\",\"\",VLOOKUP(B276,'Spisak FSS izložbi'!$B$6:$H$318,6,FALSE))","v":""},{"$f":"IF(B276=\"\",\"\",VLOOKUP(B276,'Spisak FSS izložbi'!$B$6:$H$318,5,FALSE))","v":""},null,null,null,null,null,0,0,{"$f":"IF(B276=\"\",1,VLOOKUP(B276,'Spisak FSS izložbi'!$B$6:$H$318,7,FALSE))","v":1},0]
[263,null,{"$f":"IF(B277=\"\",\"\",VLOOKUP(B277,'Spisak FSS izložbi'!$B$6:$H$318,3,FALSE))","v":""},null,{"$f":"IF(B277=\"\",\"\",VLOOKUP(B277,'Spisak FSS izložbi'!$B$6:$H$318,6,FALSE))","v":""},{"$f":"IF(B277=\"\",\"\",VLOOKUP(B277,'Spisak FSS izložbi'!$B$6:$H$318,5,FALSE))","v":""},null,null,null,null,null,0,0,{"$f":"IF(B277=\"\",1,VLOOKUP(B277,'Spisak FSS izložbi'!$B$6:$H$318,7,FALSE))","v":1},0]
[264,null,{"$f":"IF(B278=\"\",\"\",VLOOKUP(B278,'Spisak FSS izložbi'!$B$6:$H$318,3,FALSE))","v":""},null,{"$f":"IF(B278=\"\",\"\",VLOOKUP(B278,'Spisak FSS izložbi'!$B$6:$H$318,6,FALSE))","v":""},{"$f":"IF(B278=\"\",\"\",VLOOKUP(B278,'Spisak FSS izložbi'!$B$6:$H$318,5,FALSE))","v":""},null,null,null,null,null,0,0,{"$f":"IF(B278=\"\",1,VLOOKUP(B278,'Spisak FSS izložbi'!$B$6:$H$318,7,FALSE))","v":1},0]
[265,null,{"$f":"IF(B279=\"\",\"\",VLOOKUP(B279,'Spisak FSS izložbi'!$B$6:$H$318,3,FALSE))","v":""},null,{"$f":"IF(B279=\"\",\"\",VLOOKUP(B279,'Spisak FSS izložbi'!$B$6:$H$318,6,FALSE))","v":""},{"$f":"IF(B279=\"\",\"\",VLOOKUP(B279,'Spisak FSS izložbi'!$B$6:$H$318,5,FALSE))","v":""},null,null,null,null,null,0,0,{"$f":"IF(B279=\"\",1,VLOOKUP(B279,'Spisak FSS izložbi'!$B$6:$H$318,7,FALSE))","v":1},0]
[266,null,{"$f":"IF(B280=\"\",\"\",VLOOKUP(B280,'Spisak FSS izložbi'!$B$6:$H$318,3,FALSE))","v":""},null,{"$f":"IF(B280=\"\",\"\",VLOOKUP(B280,'Spisak FSS izložbi'!$B$6:$H$318,6,FALSE))","v":""},{"$f":"IF(B280=\"\",\"\",VLOOKUP(B280,'Spisak FSS izložbi'!$B$6:$H$318,5,FALSE))","v":""},null,null,null,null,null,0,0,{"$f":"IF(B280=\"\",1,VLOOKUP(B280,'Spisak FSS izložbi'!$B$6:$H$318,7,FALSE))","v":1},0]
[267,null,{"$f":"IF(B281=\"\",\"\",VLOOKUP(B281,'Spisak FSS izložbi'!$B$6:$H$318,3,FALSE))","v":""},null,{"$f":"IF(B281=\"\",\"\",VLOOKUP(B281,'Spisak FSS izložbi'!$B$6:$H$318,6,FALSE))","v":""},{"$f":"IF(B281=\"\",\"\",VLOOKUP(B281,'Spisak FSS izložbi'!$B$6:$H$318,5,FALSE))","v":""},null,null,null,null,null,0,0,{"$f":"IF(B281=\"\",1,VLOOKUP(B281,'Spisak FSS izložbi'!$B$6:$H$318,7,FALSE))","v":1},0]
[268,null,{"$f":"IF(B282=\"\",\"\",VLOOKUP(B282,'Spisak FSS izložbi'!$B$6:$H$318,3,FALSE))","v":""},null,{"$f":"IF(B282=\"\",\"\",VLOOKUP(B282,'Spisak FSS izložbi'!$B$6:$H$318,6,FALSE))","v":""},{"$f":"IF(B282=\"\",\"\",VLOOKUP(B282,'Spisak FSS izložbi'!$B$6:$H$318,5,FALSE))","v":""},null,null,null,null,null,0,0,{"$f":"IF(B282=\"\",1,VLOOKUP(B282,'Spisak FSS izložbi'!$B$6:$H$318,7,FALSE))","v":1},0]
[269,null,{"$f":"IF(B283=\"\",\"\",VLOOKUP(B283,'Spisak FSS izložbi'!$B$6:$H$318,3,FALSE))","v":""},null,{"$f":"IF(B283=\"\",\"\",VLOOKUP(B283,'Spisak FSS izložbi'!$B$6:$H$318,6,FALSE))","v":""},{"$f":"IF(B283=\"\",\"\",VLOOKUP(B283,'Spisak FSS izložbi'!$B$6:$H$318,5,FALSE))","v":""},null,null,null,null,null,0,0,{"$f":"IF(B283=\"\",1,VLOOKUP(B283,'Spisak FSS izložbi'!$B$6:$H$318,7,FALSE))","v":1},0]
[270,null,{"$f":"IF(B284=\"\",\"\",VLOOKUP(B284,'Spisak FSS izložbi'!$B$6:$H$318,3,FALSE))","v":""},null,{"$f":"IF(B284=\"\",\"\",VLOOKUP(B284,'Spisak FSS izložbi'!$B$6:$H$318,6,FALSE))","v":""},{"$f":"IF(B284=\"\",\"\",VLOOKUP(B284,'Spisak FSS izložbi'!$B$6:$H$318,5,FALSE))","v":""},null,null,null,null,null,0,0,{"$f":"IF(B284=\"\",1,VLOOKUP(B284,'Spisak FSS izložbi'!$B$6:$H$318,7,FALSE))","v":1},0]
[271,null,{"$f":"IF(B285=\"\",\"\",VLOOKUP(B285,'Spisak FSS izložbi'!$B$6:$H$318,3,FALSE))","v":""},null,{"$f":"IF(B285=\"\",\"\",VLOOKUP(B285,'Spisak FSS izložbi'!$B$6:$H$318,6,FALSE))","v":""},{"$f":"IF(B285=\"\",\"\",VLOOKUP(B285,'Spisak FSS izložbi'!$B$6:$H$318,5,FALSE))","v":""},null,null,null,null,null,0,0,{"$f":"IF(B285=\"\",1,VLOOKUP(B285,'Spisak FSS izložbi'!$B$6:$H$318,7,FALSE))","v":1},0]
[272,null,{"$f":"IF(B286=\"\",\"\",VLOOKUP(B286,'Spisak FSS izložbi'!$B$6:$H$318,3,FALSE))","v":""},null,{"$f":"IF(B286=\"\",\"\",VLOOKUP(B286,'Spisak FSS izložbi'!$B$6:$H$318,6,FALSE))","v":""},{"$f":"IF(B286=\"\",\"\",VLOOKUP(B286,'Spisak FSS izložbi'!$B$6:$H$318,5,FALSE))","v":""},null,null,null,null,null,0,0,{"$f":"IF(B286=\"\",1,VLOOKUP(B286,'Spisak FSS izložbi'!$B$6:$H$318,7,FALSE))","v":1},0]
[273,null,{"$f":"IF(B287=\"\",\"\",VLOOKUP(B287,'Spisak FSS izložbi'!$B$6:$H$318,3,FALSE))","v":""},null,{"$f":"IF(B287=\"\",\"\",VLOOKUP(B287,'Spisak FSS izložbi'!$B$6:$H$318,6,FALSE))","v":""},{"$f":"IF(B287=\"\",\"\",VLOOKUP(B287,'Spisak FSS izložbi'!$B$6:$H$318,5,FALSE))","v":""},null,null,null,null,null,0,0,{"$f":"IF(B287=\"\",1,VLOOKUP(B287,'Spisak FSS izložbi'!$B$6:$H$318,7,FALSE))","v":1},0]
[274,null,{"$f":"IF(B288=\"\",\"\",VLOOKUP(B288,'Spisak FSS izložbi'!$B$6:$H$318,3,FALSE))","v":""},null,{"$f":"IF(B288=\"\",\"\",VLOOKUP(B288,'Spisak FSS izložbi'!$B$6:$H$318,6,FALSE))","v":""},{"$f":"IF(B288=\"\",\"\",VLOOKUP(B288,'Spisak FSS izložbi'!$B$6:$H$318,5,FALSE))","v":""},null,null,null,null,null,0,0,{"$f":"IF(B288=\"\",1,VLOOKUP(B288,'Spisak FSS izložbi'!$B$6:$H$318,7,FALSE))","v":1},0]
[275,null,{"$f":"IF(B289=\"\",\"\",VLOOKUP(B289,'Spisak FSS izložbi'!$B$6:$H$318,3,FALSE))","v":""},null,{"$f":"IF(B289=\"\",\"\",VLOOKUP(B289,'Spisak FSS izložbi'!$B$6:$H$318,6,FALSE))","v":""},{"$f":"IF(B289=\"\",\"\",VLOOKUP(B289,'Spisak FSS izložbi'!$B$6:$H$318,5,FALSE))","v":""},null,null,null,null,null,0,0,{"$f":"IF(B289=\"\",1,VLOOKUP(B289,'Spisak FSS izložbi'!$B$6:$H$318,7,FALSE))","v":1},0]
[276,null,{"$f":"IF(B290=\"\",\"\",VLOOKUP(B290,'Spisak FSS izložbi'!$B$6:$H$318,3,FALSE))","v":""},null,{"$f":"IF(B290=\"\",\"\",VLOOKUP(B290,'Spisak FSS izložbi'!$B$6:$H$318,6,FALSE))","v":""},{"$f":"IF(B290=\"\",\"\",VLOOKUP(B290,'Spisak FSS izložbi'!$B$6:$H$318,5,FALSE))","v":""},null,null,null,null,null,0,0,{"$f":"IF(B290=\"\",1,VLOOKUP(B290,'Spisak FSS izložbi'!$B$6:$H$318,7,FALSE))","v":1},0]
[277,null,{"$f":"IF(B291=\"\",\"\",VLOOKUP(B291,'Spisak FSS izložbi'!$B$6:$H$318,3,FALSE))","v":""},null,{"$f":"IF(B291=\"\",\"\",VLOOKUP(B291,'Spisak FSS izložbi'!$B$6:$H$318,6,FALSE))","v":""},{"$f":"IF(B291=\"\",\"\",VLOOKUP(B291,'Spisak FSS izložbi'!$B$6:$H$318,5,FALSE))","v":""},null,null,null,null,null,0,0,{"$f":"IF(B291=\"\",1,VLOOKUP(B291,'Spisak FSS izložbi'!$B$6:$H$318,7,FALSE))","v":1},0]
[278,null,{"$f":"IF(B292=\"\",\"\",VLOOKUP(B292,'Spisak FSS izložbi'!$B$6:$H$318,3,FALSE))","v":""},null,{"$f":"IF(B292=\"\",\"\",VLOOKUP(B292,'Spisak FSS izložbi'!$B$6:$H$318,6,FALSE))","v":""},{"$f":"IF(B292=\"\",\"\",VLOOKUP(B292,'Spisak FSS izložbi'!$B$6:$H$318,5,FALSE))","v":""},null,null,null,null,null,0,0,{"$f":"IF(B292=\"\",1,VLOOKUP(B292,'Spisak FSS izložbi'!$B$6:$H$318,7,FALSE))","v":1},0]
[279,null,{"$f":"IF(B293=\"\",\"\",VLOOKUP(B293,'Spisak FSS izložbi'!$B$6:$H$318,3,FALSE))","v":""},null,{"$f":"IF(B293=\"\",\"\",VLOOKUP(B293,'Spisak FSS izložbi'!$B$6:$H$318,6,FALSE))","v":""},{"$f":"IF(B293=\"\",\"\",VLOOKUP(B293,'Spisak FSS izložbi'!$B$6:$H$318,5,FALSE))","v":""},null,null,null,null,null,0,0,{"$f":"IF(B293=\"\",1,VLOOKUP(B293,'Spisak FSS izložbi'!$B$6:$H$318,7,FALSE))","v":1},0]
[280,null,{"$f":"IF(B294=\"\",\"\",VLOOKUP(B294,'Spisak FSS izložbi'!$B$6:$H$318,3,FALSE))","v":""},null,{"$f":"IF(B294=\"\",\"\",VLOOKUP(B294,'Spisak FSS izložbi'!$B$6:$H$318,6,FALSE))","v":""},{"$f":"IF(B294=\"\",\"\",VLOOKUP(B294,'Spisak FSS izložbi'!$B$6:$H$318,5,FALSE))","v":""},null,null,null,null,null,0,0,{"$f":"IF(B294=\"\",1,VLOOKUP(B294,'Spisak FSS izložbi'!$B$6:$H$318,7,FALSE))","v":1},0]
[281,null,{"$f":"IF(B295=\"\",\"\",VLOOKUP(B295,'Spisak FSS izložbi'!$B$6:$H$318,3,FALSE))","v":""},null,{"$f":"IF(B295=\"\",\"\",VLOOKUP(B295,'Spisak FSS izložbi'!$B$6:$H$318,6,FALSE))","v":""},{"$f":"IF(B295=\"\",\"\",VLOOKUP(B295,'Spisak FSS izložbi'!$B$6:$H$318,5,FALSE))","v":""},null,null,null,null,null,0,0,{"$f":"IF(B295=\"\",1,VLOOKUP(B295,'Spisak FSS izložbi'!$B$6:$H$318,7,FALSE))","v":1},0]
[282,null,{"$f":"IF(B296=\"\",\"\",VLOOKUP(B296,'Spisak FSS izložbi'!$B$6:$H$318,3,FALSE))","v":""},null,{"$f":"IF(B296=\"\",\"\",VLOOKUP(B296,'Spisak FSS izložbi'!$B$6:$H$318,6,FALSE))","v":""},{"$f":"IF(B296=\"\",\"\",VLOOKUP(B296,'Spisak FSS izložbi'!$B$6:$H$318,5,FALSE))","v":""},null,null,null,null,null,0,0,{"$f":"IF(B296=\"\",1,VLOOKUP(B296,'Spisak FSS izložbi'!$B$6:$H$318,7,FALSE))","v":1},0]
[283,null,{"$f":"IF(B297=\"\",\"\",VLOOKUP(B297,'Spisak FSS izložbi'!$B$6:$H$318,3,FALSE))","v":""},null,{"$f":"IF(B297=\"\",\"\",VLOOKUP(B297,'Spisak FSS izložbi'!$B$6:$H$318,6,FALSE))","v":""},{"$f":"IF(B297=\"\",\"\",VLOOKUP(B297,'Spisak FSS izložbi'!$B$6:$H$318,5,FALSE))","v":""},null,null,null,null,null,0,0,{"$f":"IF(B297=\"\",1,VLOOKUP(B297,'Spisak FSS izložbi'!$B$6:$H$318,7,FALSE))","v":1},0]
[284,null,{"$f":"IF(B298=\"\",\"\",VLOOKUP(B298,'Spisak FSS izložbi'!$B$6:$H$318,3,FALSE))","v":""},null,{"$f":"IF(B298=\"\",\"\",VLOOKUP(B298,'Spisak FSS izložbi'!$B$6:$H$318,6,FALSE))","v":""},{"$f":"IF(B298=\"\",\"\",VLOOKUP(B298,'Spisak FSS izložbi'!$B$6:$H$318,5,FALSE))","v":""},null,null,null,null,null,0,0,{"$f":"IF(B298=\"\",1,VLOOKUP(B298,'Spisak FSS izložbi'!$B$6:$H$318,7,FALSE))","v":1},0]
[285,null,{"$f":"IF(B299=\"\",\"\",VLOOKUP(B299,'Spisak FSS izložbi'!$B$6:$H$318,3,FALSE))","v":""},null,{"$f":"IF(B299=\"\",\"\",VLOOKUP(B299,'Spisak FSS izložbi'!$B$6:$H$318,6,FALSE))","v":""},{"$f":"IF(B299=\"\",\"\",VLOOKUP(B299,'Spisak FSS izložbi'!$B$6:$H$318,5,FALSE))","v":""},null,null,null,null,null,0,0,{"$f":"IF(B299=\"\",1,VLOOKUP(B299,'Spisak FSS izložbi'!$B$6:$H$318,7,FALSE))","v":1},0]
[286,null,{"$f":"IF(B300=\"\",\"\",VLOOKUP(B300,'Spisak FSS izložbi'!$B$6:$H$318,3,FALSE))","v":""},null,{"$f":"IF(B300=\"\",\"\",VLOOKUP(B300,'Spisak FSS izložbi'!$B$6:$H$318,6,FALSE))","v":""},{"$f":"IF(B300=\"\",\"\",VLOOKUP(B300,'Spisak FSS izložbi'!$B$6:$H$318,5,FALSE))","v":""},null,null,null,null,null,0,0,{"$f":"IF(B300=\"\",1,VLOOKUP(B300,'Spisak FSS izložbi'!$B$6:$H$318,7,FALSE))","v":1},0]
[287,null,{"$f":"IF(B301=\"\",\"\",VLOOKUP(B301,'Spisak FSS izložbi'!$B$6:$H$318,3,FALSE))","v":""},null,{"$f":"IF(B301=\"\",\"\",VLOOKUP(B301,'Spisak FSS izložbi'!$B$6:$H$318,6,FALSE))","v":""},{"$f":"IF(B301=\"\",\"\",VLOOKUP(B301,'Spisak FSS izložbi'!$B$6:$H$318,5,FALSE))","v":""},null,null,null,null,null,0,0,{"$f":"IF(B301=\"\",1,VLOOKUP(B301,'Spisak FSS izložbi'!$B$6:$H$318,7,FALSE))","v":1},0]
[288,null,{"$f":"IF(B302=\"\",\"\",VLOOKUP(B302,'Spisak FSS izložbi'!$B$6:$H$318,3,FALSE))","v":""},null,{"$f":"IF(B302=\"\",\"\",VLOOKUP(B302,'Spisak FSS izložbi'!$B$6:$H$318,6,FALSE))","v":""},{"$f":"IF(B302=\"\",\"\",VLOOKUP(B302,'Spisak FSS izložbi'!$B$6:$H$318,5,FALSE))","v":""},null,null,null,null,null,0,0,{"$f":"IF(B302=\"\",1,VLOOKUP(B302,'Spisak FSS izložbi'!$B$6:$H$318,7,FALSE))","v":1},0]
[289,null,{"$f":"IF(B303=\"\",\"\",VLOOKUP(B303,'Spisak FSS izložbi'!$B$6:$H$318,3,FALSE))","v":""},null,{"$f":"IF(B303=\"\",\"\",VLOOKUP(B303,'Spisak FSS izložbi'!$B$6:$H$318,6,FALSE))","v":""},{"$f":"IF(B303=\"\",\"\",VLOOKUP(B303,'Spisak FSS izložbi'!$B$6:$H$318,5,FALSE))","v":""},null,null,null,null,null,0,0,{"$f":"IF(B303=\"\",1,VLOOKUP(B303,'Spisak FSS izložbi'!$B$6:$H$318,7,FALSE))","v":1},0]
[290,null,{"$f":"IF(B304=\"\",\"\",VLOOKUP(B304,'Spisak FSS izložbi'!$B$6:$H$318,3,FALSE))","v":""},null,{"$f":"IF(B304=\"\",\"\",VLOOKUP(B304,'Spisak FSS izložbi'!$B$6:$H$318,6,FALSE))","v":""},{"$f":"IF(B304=\"\",\"\",VLOOKUP(B304,'Spisak FSS izložbi'!$B$6:$H$318,5,FALSE))","v":""},null,null,null,null,null,0,0,{"$f":"IF(B304=\"\",1,VLOOKUP(B304,'Spisak FSS izložbi'!$B$6:$H$318,7,FALSE))","v":1},0]
[291,null,{"$f":"IF(B305=\"\",\"\",VLOOKUP(B305,'Spisak FSS izložbi'!$B$6:$H$318,3,FALSE))","v":""},null,{"$f":"IF(B305=\"\",\"\",VLOOKUP(B305,'Spisak FSS izložbi'!$B$6:$H$318,6,FALSE))","v":""},{"$f":"IF(B305=\"\",\"\",VLOOKUP(B305,'Spisak FSS izložbi'!$B$6:$H$318,5,FALSE))","v":""},null,null,null,null,null,0,0,{"$f":"IF(B305=\"\",1,VLOOKUP(B305,'Spisak FSS izložbi'!$B$6:$H$318,7,FALSE))","v":1},0]
[292,null,{"$f":"IF(B306=\"\",\"\",VLOOKUP(B306,'Spisak FSS izložbi'!$B$6:$H$318,3,FALSE))","v":""},null,{"$f":"IF(B306=\"\",\"\",VLOOKUP(B306,'Spisak FSS izložbi'!$B$6:$H$318,6,FALSE))","v":""},{"$f":"IF(B306=\"\",\"\",VLOOKUP(B306,'Spisak FSS izložbi'!$B$6:$H$318,5,FALSE))","v":""},null,null,null,null,null,0,0,{"$f":"IF(B306=\"\",1,VLOOKUP(B306,'Spisak FSS izložbi'!$B$6:$H$318,7,FALSE))","v":1},0]
[293,null,{"$f":"IF(B307=\"\",\"\",VLOOKUP(B307,'Spisak FSS izložbi'!$B$6:$H$318,3,FALSE))","v":""},null,{"$f":"IF(B307=\"\",\"\",VLOOKUP(B307,'Spisak FSS izložbi'!$B$6:$H$318,6,FALSE))","v":""},{"$f":"IF(B307=\"\",\"\",VLOOKUP(B307,'Spisak FSS izložbi'!$B$6:$H$318,5,FALSE))","v":""},null,null,null,null,null,0,0,{"$f":"IF(B307=\"\",1,VLOOKUP(B307,'Spisak FSS izložbi'!$B$6:$H$318,7,FALSE))","v":1},0]
[294,null,{"$f":"IF(B308=\"\",\"\",VLOOKUP(B308,'Spisak FSS izložbi'!$B$6:$H$318,3,FALSE))","v":""},null,{"$f":"IF(B308=\"\",\"\",VLOOKUP(B308,'Spisak FSS izložbi'!$B$6:$H$318,6,FALSE))","v":""},{"$f":"IF(B308=\"\",\"\",VLOOKUP(B308,'Spisak FSS izložbi'!$B$6:$H$318,5,FALSE))","v":""},null,null,null,null,null,0,0,{"$f":"IF(B308=\"\",1,VLOOKUP(B308,'Spisak FSS izložbi'!$B$6:$H$318,7,FALSE))","v":1},0]
[295,null,{"$f":"IF(B309=\"\",\"\",VLOOKUP(B309,'Spisak FSS izložbi'!$B$6:$H$318,3,FALSE))","v":""},null,{"$f":"IF(B309=\"\",\"\",VLOOKUP(B309,'Spisak FSS izložbi'!$B$6:$H$318,6,FALSE))","v":""},{"$f":"IF(B309=\"\",\"\",VLOOKUP(B309,'Spisak FSS izložbi'!$B$6:$H$318,5,FALSE))","v":""},null,null,null,null,null,0,0,{"$f":"IF(B309=\"\",1,VLOOKUP(B309,'Spisak FSS izložbi'!$B$6:$H$318,7,FALSE))","v":1},0]
[296,null,{"$f":"IF(B310=\"\",\"\",VLOOKUP(B310,'Spisak FSS izložbi'!$B$6:$H$318,3,FALSE))","v":""},null,{"$f":"IF(B310=\"\",\"\",VLOOKUP(B310,'Spisak FSS izložbi'!$B$6:$H$318,6,FALSE))","v":""},{"$f":"IF(B310=\"\",\"\",VLOOKUP(B310,'Spisak FSS izložbi'!$B$6:$H$318,5,FALSE))","v":""},null,null,null,null,null,0,0,{"$f":"IF(B310=\"\",1,VLOOKUP(B310,'Spisak FSS izložbi'!$B$6:$H$318,7,FALSE))","v":1},0]
[297,null,{"$f":"IF(B311=\"\",\"\",VLOOKUP(B311,'Spisak FSS izložbi'!$B$6:$H$318,3,FALSE))","v":""},null,{"$f":"IF(B311=\"\",\"\",VLOOKUP(B311,'Spisak FSS izložbi'!$B$6:$H$318,6,FALSE))","v":""},{"$f":"IF(B311=\"\",\"\",VLOOKUP(B311,'Spisak FSS izložbi'!$B$6:$H$318,5,FALSE))","v":""},null,null,null,null,null,0,0,{"$f":"IF(B311=\"\",1,VLOOKUP(B311,'Spisak FSS izložbi'!$B$6:$H$318,7,FALSE))","v":1},0]
[298,null,{"$f":"IF(B312=\"\",\"\",VLOOKUP(B312,'Spisak FSS izložbi'!$B$6:$H$318,3,FALSE))","v":""},null,{"$f":"IF(B312=\"\",\"\",VLOOKUP(B312,'Spisak FSS izložbi'!$B$6:$H$318,6,FALSE))","v":""},{"$f":"IF(B312=\"\",\"\",VLOOKUP(B312,'Spisak FSS izložbi'!$B$6:$H$318,5,FALSE))","v":""},null,null,null,null,null,0,0,{"$f":"IF(B312=\"\",1,VLOOKUP(B312,'Spisak FSS izložbi'!$B$6:$H$318,7,FALSE))","v":1},0]
[299,null,{"$f":"IF(B313=\"\",\"\",VLOOKUP(B313,'Spisak FSS izložbi'!$B$6:$H$318,3,FALSE))","v":""},null,{"$f":"IF(B313=\"\",\"\",VLOOKUP(B313,'Spisak FSS izložbi'!$B$6:$H$318,6,FALSE))","v":""},{"$f":"IF(B313=\"\",\"\",VLOOKUP(B313,'Spisak FSS izložbi'!$B$6:$H$318,5,FALSE))","v":""},null,null,null,null,null,0,0,{"$f":"IF(B313=\"\",1,VLOOKUP(B313,'Spisak FSS izložbi'!$B$6:$H$318,7,FALSE))","v":1},0]
[300,null,{"$f":"IF(B314=\"\",\"\",VLOOKUP(B314,'Spisak FSS izložbi'!$B$6:$H$318,3,FALSE))","v":""},null,{"$f":"IF(B314=\"\",\"\",VLOOKUP(B314,'Spisak FSS izložbi'!$B$6:$H$318,6,FALSE))","v":""},{"$f":"IF(B314=\"\",\"\",VLOOKUP(B314,'Spisak FSS izložbi'!$B$6:$H$318,5,FALSE))","v":""},null,null,null,null,null,0,0,{"$f":"IF(B314=\"\",1,VLOOKUP(B314,'Spisak FSS izložbi'!$B$6:$H$318,7,FALSE))","v":1},0]
[301,null,{"$f":"IF(B315=\"\",\"\",VLOOKUP(B315,'Spisak FSS izložbi'!$B$6:$H$318,3,FALSE))","v":""},null,{"$f":"IF(B315=\"\",\"\",VLOOKUP(B315,'Spisak FSS izložbi'!$B$6:$H$318,6,FALSE))","v":""},{"$f":"IF(B315=\"\",\"\",VLOOKUP(B315,'Spisak FSS izložbi'!$B$6:$H$318,5,FALSE))","v":""},null,null,null,null,null,0,0,{"$f":"IF(B315=\"\",1,VLOOKUP(B315,'Spisak FSS izložbi'!$B$6:$H$318,7,FALSE))","v":1},0]
[302,null,{"$f":"IF(B316=\"\",\"\",VLOOKUP(B316,'Spisak FSS izložbi'!$B$6:$H$318,3,FALSE))","v":""},null,{"$f":"IF(B316=\"\",\"\",VLOOKUP(B316,'Spisak FSS izložbi'!$B$6:$H$318,6,FALSE))","v":""},{"$f":"IF(B316=\"\",\"\",VLOOKUP(B316,'Spisak FSS izložbi'!$B$6:$H$318,5,FALSE))","v":""},null,null,null,null,null,0,0,{"$f":"IF(B316=\"\",1,VLOOKUP(B316,'Spisak FSS izložbi'!$B$6:$H$318,7,FALSE))","v":1},0]
[303,null,{"$f":"IF(B317=\"\",\"\",VLOOKUP(B317,'Spisak FSS izložbi'!$B$6:$H$318,3,FALSE))","v":""},null,{"$f":"IF(B317=\"\",\"\",VLOOKUP(B317,'Spisak FSS izložbi'!$B$6:$H$318,6,FALSE))","v":""},{"$f":"IF(B317=\"\",\"\",VLOOKUP(B317,'Spisak FSS izložbi'!$B$6:$H$318,5,FALSE))","v":""},null,null,null,null,null,0,0,{"$f":"IF(B317=\"\",1,VLOOKUP(B317,'Spisak FSS izložbi'!$B$6:$H$318,7,FALSE))","v":1},0]
[304,null,{"$f":"IF(B318=\"\",\"\",VLOOKUP(B318,'Spisak FSS izložbi'!$B$6:$H$318,3,FALSE))","v":""},null,{"$f":"IF(B318=\"\",\"\",VLOOKUP(B318,'Spisak FSS izložbi'!$B$6:$H$318,6,FALSE))","v":""},{"$f":"IF(B318=\"\",\"\",VLOOKUP(B318,'Spisak FSS izložbi'!$B$6:$H$318,5,FALSE))","v":""},null,null,null,null,null,0,0,{"$f":"IF(B318=\"\",1,VLOOKUP(B318,'Spisak FSS izložbi'!$B$6:$H$318,7,FALSE))","v":1},0]
[305,null,{"$f":"IF(B319=\"\",\"\",VLOOKUP(B319,'Spisak FSS izložbi'!$B$6:$H$318,3,FALSE))","v":""},null,{"$f":"IF(B319=\"\",\"\",VLOOKUP(B319,'Spisak FSS izložbi'!$B$6:$H$318,6,FALSE))","v":""},{"$f":"IF(B319=\"\",\"\",VLOOKUP(B319,'Spisak FSS izložbi'!$B$6:$H$318,5,FALSE))","v":""},null,null,null,null,null,0,0,{"$f":"IF(B319=\"\",1,VLOOKUP(B319,'Spisak FSS izložbi'!$B$6:$H$318,7,FALSE))","v":1},0]
[306,null,{"$f":"IF(B320=\"\",\"\",VLOOKUP(B320,'Spisak FSS izložbi'!$B$6:$H$318,3,FALSE))","v":""},null,{"$f":"IF(B320=\"\",\"\",VLOOKUP(B320,'Spisak FSS izložbi'!$B$6:$H$318,6,FALSE))","v":""},{"$f":"IF(B320=\"\",\"\",VLOOKUP(B320,'Spisak FSS izložbi'!$B$6:$H$318,5,FALSE))","v":""},null,null,null,null,null,0,0,{"$f":"IF(B320=\"\",1,VLOOKUP(B320,'Spisak FSS izložbi'!$B$6:$H$318,7,FALSE))","v":1},0]
[307,null,{"$f":"IF(B321=\"\",\"\",VLOOKUP(B321,'Spisak FSS izložbi'!$B$6:$H$318,3,FALSE))","v":""},null,{"$f":"IF(B321=\"\",\"\",VLOOKUP(B321,'Spisak FSS izložbi'!$B$6:$H$318,6,FALSE))","v":""},{"$f":"IF(B321=\"\",\"\",VLOOKUP(B321,'Spisak FSS izložbi'!$B$6:$H$318,5,FALSE))","v":""},null,null,null,null,null,0,0,{"$f":"IF(B321=\"\",1,VLOOKUP(B321,'Spisak FSS izložbi'!$B$6:$H$318,7,FALSE))","v":1},0]
[308,null,{"$f":"IF(B322=\"\",\"\",VLOOKUP(B322,'Spisak FSS izložbi'!$B$6:$H$318,3,FALSE))","v":""},null,{"$f":"IF(B322=\"\",\"\",VLOOKUP(B322,'Spisak FSS izložbi'!$B$6:$H$318,6,FALSE))","v":""},{"$f":"IF(B322=\"\",\"\",VLOOKUP(B322,'Spisak FSS izložbi'!$B$6:$H$318,5,FALSE))","v":""},null,null,null,null,null,0,0,{"$f":"IF(B322=\"\",1,VLOOKUP(B322,'Spisak FSS izložbi'!$B$6:$H$318,7,FALSE))","v":1},0]
[309,null,{"$f":"IF(B323=\"\",\"\",VLOOKUP(B323,'Spisak FSS izložbi'!$B$6:$H$318,3,FALSE))","v":""},null,{"$f":"IF(B323=\"\",\"\",VLOOKUP(B323,'Spisak FSS izložbi'!$B$6:$H$318,6,FALSE))","v":""},{"$f":"IF(B323=\"\",\"\",VLOOKUP(B323,'Spisak FSS izložbi'!$B$6:$H$318,5,FALSE))","v":""},null,null,null,null,null,0,0,{"$f":"IF(B323=\"\",1,VLOOKUP(B323,'Spisak FSS izložbi'!$B$6:$H$318,7,FALSE))","v":1},0]
[310,null,{"$f":"IF(B324=\"\",\"\",VLOOKUP(B324,'Spisak FSS izložbi'!$B$6:$H$318,3,FALSE))","v":""},null,{"$f":"IF(B324=\"\",\"\",VLOOKUP(B324,'Spisak FSS izložbi'!$B$6:$H$318,6,FALSE))","v":""},{"$f":"IF(B324=\"\",\"\",VLOOKUP(B324,'Spisak FSS izložbi'!$B$6:$H$318,5,FALSE))","v":""},null,null,null,null,null,0,0,{"$f":"IF(B324=\"\",1,VLOOKUP(B324,'Spisak FSS izložbi'!$B$6:$H$318,7,FALSE))","v":1},0]
[311,null,{"$f":"IF(B325=\"\",\"\",VLOOKUP(B325,'Spisak FSS izložbi'!$B$6:$H$318,3,FALSE))","v":""},null,{"$f":"IF(B325=\"\",\"\",VLOOKUP(B325,'Spisak FSS izložbi'!$B$6:$H$318,6,FALSE))","v":""},{"$f":"IF(B325=\"\",\"\",VLOOKUP(B325,'Spisak FSS izložbi'!$B$6:$H$318,5,FALSE))","v":""},null,null,null,null,null,0,0,{"$f":"IF(B325=\"\",1,VLOOKUP(B325,'Spisak FSS izložbi'!$B$6:$H$318,7,FALSE))","v":1},0]
[312,null,{"$f":"IF(B326=\"\",\"\",VLOOKUP(B326,'Spisak FSS izložbi'!$B$6:$H$318,3,FALSE))","v":""},null,{"$f":"IF(B326=\"\",\"\",VLOOKUP(B326,'Spisak FSS izložbi'!$B$6:$H$318,6,FALSE))","v":""},{"$f":"IF(B326=\"\",\"\",VLOOKUP(B326,'Spisak FSS izložbi'!$B$6:$H$318,5,FALSE))","v":""},null,null,null,null,null,0,0,{"$f":"IF(B326=\"\",1,VLOOKUP(B326,'Spisak FSS izložbi'!$B$6:$H$318,7,FALSE))","v":1},0]
[313,null,{"$f":"IF(B327=\"\",\"\",VLOOKUP(B327,'Spisak FSS izložbi'!$B$6:$H$318,3,FALSE))","v":""},null,{"$f":"IF(B327=\"\",\"\",VLOOKUP(B327,'Spisak FSS izložbi'!$B$6:$H$318,6,FALSE))","v":""},{"$f":"IF(B327=\"\",\"\",VLOOKUP(B327,'Spisak FSS izložbi'!$B$6:$H$318,5,FALSE))","v":""},null,null,null,null,null,0,0,{"$f":"IF(B327=\"\",1,VLOOKUP(B327,'Spisak FSS izložbi'!$B$6:$H$318,7,FALSE))","v":1},0]
[314,null,{"$f":"IF(B328=\"\",\"\",VLOOKUP(B328,'Spisak FSS izložbi'!$B$6:$H$318,3,FALSE))","v":""},null,{"$f":"IF(B328=\"\",\"\",VLOOKUP(B328,'Spisak FSS izložbi'!$B$6:$H$318,6,FALSE))","v":""},{"$f":"IF(B328=\"\",\"\",VLOOKUP(B328,'Spisak FSS izložbi'!$B$6:$H$318,5,FALSE))","v":""},null,null,null,null,null,0,0,{"$f":"IF(B328=\"\",1,VLOOKUP(B328,'Spisak FSS izložbi'!$B$6:$H$318,7,FALSE))","v":1},0]
[315,null,{"$f":"IF(B329=\"\",\"\",VLOOKUP(B329,'Spisak FSS izložbi'!$B$6:$H$318,3,FALSE))","v":""},null,{"$f":"IF(B329=\"\",\"\",VLOOKUP(B329,'Spisak FSS izložbi'!$B$6:$H$318,6,FALSE))","v":""},{"$f":"IF(B329=\"\",\"\",VLOOKUP(B329,'Spisak FSS izložbi'!$B$6:$H$318,5,FALSE))","v":""},null,null,null,null,null,0,0,{"$f":"IF(B329=\"\",1,VLOOKUP(B329,'Spisak FSS izložbi'!$B$6:$H$318,7,FALSE))","v":1},0]
[316,null,{"$f":"IF(B330=\"\",\"\",VLOOKUP(B330,'Spisak FSS izložbi'!$B$6:$H$318,3,FALSE))","v":""},null,{"$f":"IF(B330=\"\",\"\",VLOOKUP(B330,'Spisak FSS izložbi'!$B$6:$H$318,6,FALSE))","v":""},{"$f":"IF(B330=\"\",\"\",VLOOKUP(B330,'Spisak FSS izložbi'!$B$6:$H$318,5,FALSE))","v":""},null,null,null,null,null,0,0,{"$f":"IF(B330=\"\",1,VLOOKUP(B330,'Spisak FSS izložbi'!$B$6:$H$318,7,FALSE))","v":1},0]
[317,null,{"$f":"IF(B331=\"\",\"\",VLOOKUP(B331,'Spisak FSS izložbi'!$B$6:$H$318,3,FALSE))","v":""},null,{"$f":"IF(B331=\"\",\"\",VLOOKUP(B331,'Spisak FSS izložbi'!$B$6:$H$318,6,FALSE))","v":""},{"$f":"IF(B331=\"\",\"\",VLOOKUP(B331,'Spisak FSS izložbi'!$B$6:$H$318,5,FALSE))","v":""},null,null,null,null,null,0,0,{"$f":"IF(B331=\"\",1,VLOOKUP(B331,'Spisak FSS izložbi'!$B$6:$H$318,7,FALSE))","v":1},0]
[318,null,{"$f":"IF(B332=\"\",\"\",VLOOKUP(B332,'Spisak FSS izložbi'!$B$6:$H$318,3,FALSE))","v":""},null,{"$f":"IF(B332=\"\",\"\",VLOOKUP(B332,'Spisak FSS izložbi'!$B$6:$H$318,6,FALSE))","v":""},{"$f":"IF(B332=\"\",\"\",VLOOKUP(B332,'Spisak FSS izložbi'!$B$6:$H$318,5,FALSE))","v":""},null,null,null,null,null,0,0,{"$f":"IF(B332=\"\",1,VLOOKUP(B332,'Spisak FSS izložbi'!$B$6:$H$318,7,FALSE))","v":1},0]
[319,null,{"$f":"IF(B333=\"\",\"\",VLOOKUP(B333,'Spisak FSS izložbi'!$B$6:$H$318,3,FALSE))","v":""},null,{"$f":"IF(B333=\"\",\"\",VLOOKUP(B333,'Spisak FSS izložbi'!$B$6:$H$318,6,FALSE))","v":""},{"$f":"IF(B333=\"\",\"\",VLOOKUP(B333,'Spisak FSS izložbi'!$B$6:$H$318,5,FALSE))","v":""},null,null,null,null,null,0,0,{"$f":"IF(B333=\"\",1,VLOOKUP(B333,'Spisak FSS izložbi'!$B$6:$H$318,7,FALSE))","v":1},0]
[320,null,{"$f":"IF(B334=\"\",\"\",VLOOKUP(B334,'Spisak FSS izložbi'!$B$6:$H$318,3,FALSE))","v":""},null,{"$f":"IF(B334=\"\",\"\",VLOOKUP(B334,'Spisak FSS izložbi'!$B$6:$H$318,6,FALSE))","v":""},{"$f":"IF(B334=\"\",\"\",VLOOKUP(B334,'Spisak FSS izložbi'!$B$6:$H$318,5,FALSE))","v":""},null,null,null,null,null,0,0,{"$f":"IF(B334=\"\",1,VLOOKUP(B334,'Spisak FSS izložbi'!$B$6:$H$318,7,FALSE))","v":1},0]
[321,null,{"$f":"IF(B335=\"\",\"\",VLOOKUP(B335,'Spisak FSS izložbi'!$B$6:$H$318,3,FALSE))","v":""},null,{"$f":"IF(B335=\"\",\"\",VLOOKUP(B335,'Spisak FSS izložbi'!$B$6:$H$318,6,FALSE))","v":""},{"$f":"IF(B335=\"\",\"\",VLOOKUP(B335,'Spisak FSS izložbi'!$B$6:$H$318,5,FALSE))","v":""},null,null,null,null,null,0,0,{"$f":"IF(B335=\"\",1,VLOOKUP(B335,'Spisak FSS izložbi'!$B$6:$H$318,7,FALSE))","v":1},0]
[322,null,{"$f":"IF(B336=\"\",\"\",VLOOKUP(B336,'Spisak FSS izložbi'!$B$6:$H$318,3,FALSE))","v":""},null,{"$f":"IF(B336=\"\",\"\",VLOOKUP(B336,'Spisak FSS izložbi'!$B$6:$H$318,6,FALSE))","v":""},{"$f":"IF(B336=\"\",\"\",VLOOKUP(B336,'Spisak FSS izložbi'!$B$6:$H$318,5,FALSE))","v":""},null,null,null,null,null,{"$f":"IF(E336=$H$1,$H$6,IF(E336=$I$1,$I$6,IF(E336=$J$1,$J$6,IF(E336=$K$1,$K$6,IF(E336=$L$1,$L$6,IF(E336=$M$1,$M$6,IF(E336=$N$1,$N$6,IF(E336=$O$1,$O$6,0))))))))","v":0},{"$f":"IF(OR(E336=\"\",K336=\"\")=TRUE,0,VLOOKUP(K336,$G$1:$O$7,MATCH(E336,$G$1:$O$1,0),FALSE))","v":0},{"$f":"IF(B336=\"\",1,VLOOKUP(B336,'Spisak FSS izložbi'!$B$6:$H$318,7,FALSE))","v":1},{"$f":"(L336+M336)*N336","v":0}]
[323,null,{"$f":"IF(B337=\"\",\"\",VLOOKUP(B337,'Spisak FSS izložbi'!$B$6:$H$318,3,FALSE))","v":""},null,{"$f":"IF(B337=\"\",\"\",VLOOKUP(B337,'Spisak FSS izložbi'!$B$6:$H$318,6,FALSE))","v":""},{"$f":"IF(B337=\"\",\"\",VLOOKUP(B337,'Spisak FSS izložbi'!$B$6:$H$318,5,FALSE))","v":""},null,null,null,null,null,0,0,{"$f":"IF(B337=\"\",1,VLOOKUP(B337,'Spisak FSS izložbi'!$B$6:$H$318,7,FALSE))","v":1},0]
[324,null,{"$f":"IF(B338=\"\",\"\",VLOOKUP(B338,'Spisak FSS izložbi'!$B$6:$H$318,3,FALSE))","v":""},null,{"$f":"IF(B338=\"\",\"\",VLOOKUP(B338,'Spisak FSS izložbi'!$B$6:$H$318,6,FALSE))","v":""},{"$f":"IF(B338=\"\",\"\",VLOOKUP(B338,'Spisak FSS izložbi'!$B$6:$H$318,5,FALSE))","v":""},null,null,null,null,null,0,0,{"$f":"IF(B338=\"\",1,VLOOKUP(B338,'Spisak FSS izložbi'!$B$6:$H$318,7,FALSE))","v":1},0]
[325,null,{"$f":"IF(B339=\"\",\"\",VLOOKUP(B339,'Spisak FSS izložbi'!$B$6:$H$318,3,FALSE))","v":""},null,{"$f":"IF(B339=\"\",\"\",VLOOKUP(B339,'Spisak FSS izložbi'!$B$6:$H$318,6,FALSE))","v":""},{"$f":"IF(B339=\"\",\"\",VLOOKUP(B339,'Spisak FSS izložbi'!$B$6:$H$318,5,FALSE))","v":""},null,null,null,null,null,0,0,{"$f":"IF(B339=\"\",1,VLOOKUP(B339,'Spisak FSS izložbi'!$B$6:$H$318,7,FALSE))","v":1},0]
[326,null,{"$f":"IF(B340=\"\",\"\",VLOOKUP(B340,'Spisak FSS izložbi'!$B$6:$H$318,3,FALSE))","v":""},null,{"$f":"IF(B340=\"\",\"\",VLOOKUP(B340,'Spisak FSS izložbi'!$B$6:$H$318,6,FALSE))","v":""},{"$f":"IF(B340=\"\",\"\",VLOOKUP(B340,'Spisak FSS izložbi'!$B$6:$H$318,5,FALSE))","v":""},null,null,null,null,null,0,0,{"$f":"IF(B340=\"\",1,VLOOKUP(B340,'Spisak FSS izložbi'!$B$6:$H$318,7,FALSE))","v":1},0]
[327,null,{"$f":"IF(B341=\"\",\"\",VLOOKUP(B341,'Spisak FSS izložbi'!$B$6:$H$318,3,FALSE))","v":""},null,{"$f":"IF(B341=\"\",\"\",VLOOKUP(B341,'Spisak FSS izložbi'!$B$6:$H$318,6,FALSE))","v":""},{"$f":"IF(B341=\"\",\"\",VLOOKUP(B341,'Spisak FSS izložbi'!$B$6:$H$318,5,FALSE))","v":""},null,null,null,null,null,0,0,{"$f":"IF(B341=\"\",1,VLOOKUP(B341,'Spisak FSS izložbi'!$B$6:$H$318,7,FALSE))","v":1},0]
[328,null,{"$f":"IF(B342=\"\",\"\",VLOOKUP(B342,'Spisak FSS izložbi'!$B$6:$H$318,3,FALSE))","v":""},null,{"$f":"IF(B342=\"\",\"\",VLOOKUP(B342,'Spisak FSS izložbi'!$B$6:$H$318,6,FALSE))","v":""},{"$f":"IF(B342=\"\",\"\",VLOOKUP(B342,'Spisak FSS izložbi'!$B$6:$H$318,5,FALSE))","v":""},null,null,null,null,null,0,0,{"$f":"IF(B342=\"\",1,VLOOKUP(B342,'Spisak FSS izložbi'!$B$6:$H$318,7,FALSE))","v":1},0]
[329,null,{"$f":"IF(B343=\"\",\"\",VLOOKUP(B343,'Spisak FSS izložbi'!$B$6:$H$318,3,FALSE))","v":""},null,{"$f":"IF(B343=\"\",\"\",VLOOKUP(B343,'Spisak FSS izložbi'!$B$6:$H$318,6,FALSE))","v":""},{"$f":"IF(B343=\"\",\"\",VLOOKUP(B343,'Spisak FSS izložbi'!$B$6:$H$318,5,FALSE))","v":""},null,null,null,null,null,0,0,{"$f":"IF(B343=\"\",1,VLOOKUP(B343,'Spisak FSS izložbi'!$B$6:$H$318,7,FALSE))","v":1},0]
[330,null,{"$f":"IF(B344=\"\",\"\",VLOOKUP(B344,'Spisak FSS izložbi'!$B$6:$H$318,3,FALSE))","v":""},null,{"$f":"IF(B344=\"\",\"\",VLOOKUP(B344,'Spisak FSS izložbi'!$B$6:$H$318,6,FALSE))","v":""},{"$f":"IF(B344=\"\",\"\",VLOOKUP(B344,'Spisak FSS izložbi'!$B$6:$H$318,5,FALSE))","v":""},null,null,null,null,null,0,0,{"$f":"IF(B344=\"\",1,VLOOKUP(B344,'Spisak FSS izložbi'!$B$6:$H$318,7,FALSE))","v":1},0]
[331,null,{"$f":"IF(B345=\"\",\"\",VLOOKUP(B345,'Spisak FSS izložbi'!$B$6:$H$318,3,FALSE))","v":""},null,{"$f":"IF(B345=\"\",\"\",VLOOKUP(B345,'Spisak FSS izložbi'!$B$6:$H$318,6,FALSE))","v":""},{"$f":"IF(B345=\"\",\"\",VLOOKUP(B345,'Spisak FSS izložbi'!$B$6:$H$318,5,FALSE))","v":""},null,null,null,null,null,0,0,{"$f":"IF(B345=\"\",1,VLOOKUP(B345,'Spisak FSS izložbi'!$B$6:$H$318,7,FALSE))","v":1},0]
[332,null,{"$f":"IF(B346=\"\",\"\",VLOOKUP(B346,'Spisak FSS izložbi'!$B$6:$H$318,3,FALSE))","v":""},null,{"$f":"IF(B346=\"\",\"\",VLOOKUP(B346,'Spisak FSS izložbi'!$B$6:$H$318,6,FALSE))","v":""},{"$f":"IF(B346=\"\",\"\",VLOOKUP(B346,'Spisak FSS izložbi'!$B$6:$H$318,5,FALSE))","v":""},null,null,null,null,null,0,0,{"$f":"IF(B346=\"\",1,VLOOKUP(B346,'Spisak FSS izložbi'!$B$6:$H$318,7,FALSE))","v":1},0]
[333,null,{"$f":"IF(B347=\"\",\"\",VLOOKUP(B347,'Spisak FSS izložbi'!$B$6:$H$318,3,FALSE))","v":""},null,{"$f":"IF(B347=\"\",\"\",VLOOKUP(B347,'Spisak FSS izložbi'!$B$6:$H$318,6,FALSE))","v":""},{"$f":"IF(B347=\"\",\"\",VLOOKUP(B347,'Spisak FSS izložbi'!$B$6:$H$318,5,FALSE))","v":""},null,null,null,null,null,0,0,{"$f":"IF(B347=\"\",1,VLOOKUP(B347,'Spisak FSS izložbi'!$B$6:$H$318,7,FALSE))","v":1},0]
[334,null,{"$f":"IF(B348=\"\",\"\",VLOOKUP(B348,'Spisak FSS izložbi'!$B$6:$H$318,3,FALSE))","v":""},null,{"$f":"IF(B348=\"\",\"\",VLOOKUP(B348,'Spisak FSS izložbi'!$B$6:$H$318,6,FALSE))","v":""},{"$f":"IF(B348=\"\",\"\",VLOOKUP(B348,'Spisak FSS izložbi'!$B$6:$H$318,5,FALSE))","v":""},null,null,null,null,null,0,0,{"$f":"IF(B348=\"\",1,VLOOKUP(B348,'Spisak FSS izložbi'!$B$6:$H$318,7,FALSE))","v":1},0]
[335,null,{"$f":"IF(B349=\"\",\"\",VLOOKUP(B349,'Spisak FSS izložbi'!$B$6:$H$318,3,FALSE))","v":""},null,{"$f":"IF(B349=\"\",\"\",VLOOKUP(B349,'Spisak FSS izložbi'!$B$6:$H$318,6,FALSE))","v":""},{"$f":"IF(B349=\"\",\"\",VLOOKUP(B349,'Spisak FSS izložbi'!$B$6:$H$318,5,FALSE))","v":""},null,null,null,null,null,0,0,{"$f":"IF(B349=\"\",1,VLOOKUP(B349,'Spisak FSS izložbi'!$B$6:$H$318,7,FALSE))","v":1},0]
[336,null,{"$f":"IF(B350=\"\",\"\",VLOOKUP(B350,'Spisak FSS izložbi'!$B$6:$H$318,3,FALSE))","v":""},null,{"$f":"IF(B350=\"\",\"\",VLOOKUP(B350,'Spisak FSS izložbi'!$B$6:$H$318,6,FALSE))","v":""},{"$f":"IF(B350=\"\",\"\",VLOOKUP(B350,'Spisak FSS izložbi'!$B$6:$H$318,5,FALSE))","v":""},null,null,null,null,null,0,0,{"$f":"IF(B350=\"\",1,VLOOKUP(B350,'Spisak FSS izložbi'!$B$6:$H$318,7,FALSE))","v":1},0]
[337,null,{"$f":"IF(B351=\"\",\"\",VLOOKUP(B351,'Spisak FSS izložbi'!$B$6:$H$318,3,FALSE))","v":""},null,{"$f":"IF(B351=\"\",\"\",VLOOKUP(B351,'Spisak FSS izložbi'!$B$6:$H$318,6,FALSE))","v":""},{"$f":"IF(B351=\"\",\"\",VLOOKUP(B351,'Spisak FSS izložbi'!$B$6:$H$318,5,FALSE))","v":""},null,null,null,null,null,0,0,{"$f":"IF(B351=\"\",1,VLOOKUP(B351,'Spisak FSS izložbi'!$B$6:$H$318,7,FALSE))","v":1},0]
[338,null,{"$f":"IF(B352=\"\",\"\",VLOOKUP(B352,'Spisak FSS izložbi'!$B$6:$H$318,3,FALSE))","v":""},null,{"$f":"IF(B352=\"\",\"\",VLOOKUP(B352,'Spisak FSS izložbi'!$B$6:$H$318,6,FALSE))","v":""},{"$f":"IF(B352=\"\",\"\",VLOOKUP(B352,'Spisak FSS izložbi'!$B$6:$H$318,5,FALSE))","v":""},null,null,null,null,null,0,0,{"$f":"IF(B352=\"\",1,VLOOKUP(B352,'Spisak FSS izložbi'!$B$6:$H$318,7,FALSE))","v":1},0]
[339,null,{"$f":"IF(B353=\"\",\"\",VLOOKUP(B353,'Spisak FSS izložbi'!$B$6:$H$318,3,FALSE))","v":""},null,{"$f":"IF(B353=\"\",\"\",VLOOKUP(B353,'Spisak FSS izložbi'!$B$6:$H$318,6,FALSE))","v":""},{"$f":"IF(B353=\"\",\"\",VLOOKUP(B353,'Spisak FSS izložbi'!$B$6:$H$318,5,FALSE))","v":""},null,null,null,null,null,0,0,{"$f":"IF(B353=\"\",1,VLOOKUP(B353,'Spisak FSS izložbi'!$B$6:$H$318,7,FALSE))","v":1},0]
[340,null,{"$f":"IF(B354=\"\",\"\",VLOOKUP(B354,'Spisak FSS izložbi'!$B$6:$H$318,3,FALSE))","v":""},null,{"$f":"IF(B354=\"\",\"\",VLOOKUP(B354,'Spisak FSS izložbi'!$B$6:$H$318,6,FALSE))","v":""},{"$f":"IF(B354=\"\",\"\",VLOOKUP(B354,'Spisak FSS izložbi'!$B$6:$H$318,5,FALSE))","v":""},null,null,null,null,null,0,0,{"$f":"IF(B354=\"\",1,VLOOKUP(B354,'Spisak FSS izložbi'!$B$6:$H$318,7,FALSE))","v":1},0]
[341,null,{"$f":"IF(B355=\"\",\"\",VLOOKUP(B355,'Spisak FSS izložbi'!$B$6:$H$318,3,FALSE))","v":""},null,{"$f":"IF(B355=\"\",\"\",VLOOKUP(B355,'Spisak FSS izložbi'!$B$6:$H$318,6,FALSE))","v":""},{"$f":"IF(B355=\"\",\"\",VLOOKUP(B355,'Spisak FSS izložbi'!$B$6:$H$318,5,FALSE))","v":""},null,null,null,null,null,0,0,{"$f":"IF(B355=\"\",1,VLOOKUP(B355,'Spisak FSS izložbi'!$B$6:$H$318,7,FALSE))","v":1},0]
[342,null,{"$f":"IF(B356=\"\",\"\",VLOOKUP(B356,'Spisak FSS izložbi'!$B$6:$H$318,3,FALSE))","v":""},null,{"$f":"IF(B356=\"\",\"\",VLOOKUP(B356,'Spisak FSS izložbi'!$B$6:$H$318,6,FALSE))","v":""},{"$f":"IF(B356=\"\",\"\",VLOOKUP(B356,'Spisak FSS izložbi'!$B$6:$H$318,5,FALSE))","v":""},null,null,null,null,null,0,0,{"$f":"IF(B356=\"\",1,VLOOKUP(B356,'Spisak FSS izložbi'!$B$6:$H$318,7,FALSE))","v":1},0]
[343,null,{"$f":"IF(B357=\"\",\"\",VLOOKUP(B357,'Spisak FSS izložbi'!$B$6:$H$318,3,FALSE))","v":""},null,{"$f":"IF(B357=\"\",\"\",VLOOKUP(B357,'Spisak FSS izložbi'!$B$6:$H$318,6,FALSE))","v":""},{"$f":"IF(B357=\"\",\"\",VLOOKUP(B357,'Spisak FSS izložbi'!$B$6:$H$318,5,FALSE))","v":""},null,null,null,null,null,0,0,{"$f":"IF(B357=\"\",1,VLOOKUP(B357,'Spisak FSS izložbi'!$B$6:$H$318,7,FALSE))","v":1},0]
[344,null,{"$f":"IF(B358=\"\",\"\",VLOOKUP(B358,'Spisak FSS izložbi'!$B$6:$H$318,3,FALSE))","v":""},null,{"$f":"IF(B358=\"\",\"\",VLOOKUP(B358,'Spisak FSS izložbi'!$B$6:$H$318,6,FALSE))","v":""},{"$f":"IF(B358=\"\",\"\",VLOOKUP(B358,'Spisak FSS izložbi'!$B$6:$H$318,5,FALSE))","v":""},null,null,null,null,null,0,0,{"$f":"IF(B358=\"\",1,VLOOKUP(B358,'Spisak FSS izložbi'!$B$6:$H$318,7,FALSE))","v":1},0]
[345,null,{"$f":"IF(B359=\"\",\"\",VLOOKUP(B359,'Spisak FSS izložbi'!$B$6:$H$318,3,FALSE))","v":""},null,{"$f":"IF(B359=\"\",\"\",VLOOKUP(B359,'Spisak FSS izložbi'!$B$6:$H$318,6,FALSE))","v":""},{"$f":"IF(B359=\"\",\"\",VLOOKUP(B359,'Spisak FSS izložbi'!$B$6:$H$318,5,FALSE))","v":""},null,null,null,null,null,0,0,{"$f":"IF(B359=\"\",1,VLOOKUP(B359,'Spisak FSS izložbi'!$B$6:$H$318,7,FALSE))","v":1},0]
[346,null,{"$f":"IF(B360=\"\",\"\",VLOOKUP(B360,'Spisak FSS izložbi'!$B$6:$H$318,3,FALSE))","v":""},null,{"$f":"IF(B360=\"\",\"\",VLOOKUP(B360,'Spisak FSS izložbi'!$B$6:$H$318,6,FALSE))","v":""},{"$f":"IF(B360=\"\",\"\",VLOOKUP(B360,'Spisak FSS izložbi'!$B$6:$H$318,5,FALSE))","v":""},null,null,null,null,null,0,0,{"$f":"IF(B360=\"\",1,VLOOKUP(B360,'Spisak FSS izložbi'!$B$6:$H$318,7,FALSE))","v":1},0]
[347,null,{"$f":"IF(B361=\"\",\"\",VLOOKUP(B361,'Spisak FSS izložbi'!$B$6:$H$318,3,FALSE))","v":""},null,{"$f":"IF(B361=\"\",\"\",VLOOKUP(B361,'Spisak FSS izložbi'!$B$6:$H$318,6,FALSE))","v":""},{"$f":"IF(B361=\"\",\"\",VLOOKUP(B361,'Spisak FSS izložbi'!$B$6:$H$318,5,FALSE))","v":""},null,null,null,null,null,0,0,{"$f":"IF(B361=\"\",1,VLOOKUP(B361,'Spisak FSS izložbi'!$B$6:$H$318,7,FALSE))","v":1},0]
[348,null,{"$f":"IF(B362=\"\",\"\",VLOOKUP(B362,'Spisak FSS izložbi'!$B$6:$H$318,3,FALSE))","v":""},null,{"$f":"IF(B362=\"\",\"\",VLOOKUP(B362,'Spisak FSS izložbi'!$B$6:$H$318,6,FALSE))","v":""},{"$f":"IF(B362=\"\",\"\",VLOOKUP(B362,'Spisak FSS izložbi'!$B$6:$H$318,5,FALSE))","v":""},null,null,null,null,null,0,0,{"$f":"IF(B362=\"\",1,VLOOKUP(B362,'Spisak FSS izložbi'!$B$6:$H$318,7,FALSE))","v":1},0]
[349,null,{"$f":"IF(B363=\"\",\"\",VLOOKUP(B363,'Spisak FSS izložbi'!$B$6:$H$318,3,FALSE))","v":""},null,{"$f":"IF(B363=\"\",\"\",VLOOKUP(B363,'Spisak FSS izložbi'!$B$6:$H$318,6,FALSE))","v":""},{"$f":"IF(B363=\"\",\"\",VLOOKUP(B363,'Spisak FSS izložbi'!$B$6:$H$318,5,FALSE))","v":""},null,null,null,null,null,0,0,{"$f":"IF(B363=\"\",1,VLOOKUP(B363,'Spisak FSS izložbi'!$B$6:$H$318,7,FALSE))","v":1},0]
[350,null,{"$f":"IF(B364=\"\",\"\",VLOOKUP(B364,'Spisak FSS izložbi'!$B$6:$H$318,3,FALSE))","v":""},null,{"$f":"IF(B364=\"\",\"\",VLOOKUP(B364,'Spisak FSS izložbi'!$B$6:$H$318,6,FALSE))","v":""},{"$f":"IF(B364=\"\",\"\",VLOOKUP(B364,'Spisak FSS izložbi'!$B$6:$H$318,5,FALSE))","v":""},null,null,null,null,null,0,0,{"$f":"IF(B364=\"\",1,VLOOKUP(B364,'Spisak FSS izložbi'!$B$6:$H$318,7,FALSE))","v":1},0]
[351,null,{"$f":"IF(B365=\"\",\"\",VLOOKUP(B365,'Spisak FSS izložbi'!$B$6:$H$318,3,FALSE))","v":""},null,{"$f":"IF(B365=\"\",\"\",VLOOKUP(B365,'Spisak FSS izložbi'!$B$6:$H$318,6,FALSE))","v":""},{"$f":"IF(B365=\"\",\"\",VLOOKUP(B365,'Spisak FSS izložbi'!$B$6:$H$318,5,FALSE))","v":""},null,null,null,null,null,0,0,{"$f":"IF(B365=\"\",1,VLOOKUP(B365,'Spisak FSS izložbi'!$B$6:$H$318,7,FALSE))","v":1},0]
[352,null,{"$f":"IF(B366=\"\",\"\",VLOOKUP(B366,'Spisak FSS izložbi'!$B$6:$H$318,3,FALSE))","v":""},null,{"$f":"IF(B366=\"\",\"\",VLOOKUP(B366,'Spisak FSS izložbi'!$B$6:$H$318,6,FALSE))","v":""},{"$f":"IF(B366=\"\",\"\",VLOOKUP(B366,'Spisak FSS izložbi'!$B$6:$H$318,5,FALSE))","v":""},null,null,null,null,null,0,0,{"$f":"IF(B366=\"\",1,VLOOKUP(B366,'Spisak FSS izložbi'!$B$6:$H$318,7,FALSE))","v":1},0]
[353,null,{"$f":"IF(B367=\"\",\"\",VLOOKUP(B367,'Spisak FSS izložbi'!$B$6:$H$318,3,FALSE))","v":""},null,{"$f":"IF(B367=\"\",\"\",VLOOKUP(B367,'Spisak FSS izložbi'!$B$6:$H$318,6,FALSE))","v":""},{"$f":"IF(B367=\"\",\"\",VLOOKUP(B367,'Spisak FSS izložbi'!$B$6:$H$318,5,FALSE))","v":""},null,null,null,null,null,0,0,{"$f":"IF(B367=\"\",1,VLOOKUP(B367,'Spisak FSS izložbi'!$B$6:$H$318,7,FALSE))","v":1},0]
[354,null,{"$f":"IF(B368=\"\",\"\",VLOOKUP(B368,'Spisak FSS izložbi'!$B$6:$H$318,3,FALSE))","v":""},null,{"$f":"IF(B368=\"\",\"\",VLOOKUP(B368,'Spisak FSS izložbi'!$B$6:$H$318,6,FALSE))","v":""},{"$f":"IF(B368=\"\",\"\",VLOOKUP(B368,'Spisak FSS izložbi'!$B$6:$H$318,5,FALSE))","v":""},null,null,null,null,null,0,0,{"$f":"IF(B368=\"\",1,VLOOKUP(B368,'Spisak FSS izložbi'!$B$6:$H$318,7,FALSE))","v":1},0]
[355,null,{"$f":"IF(B369=\"\",\"\",VLOOKUP(B369,'Spisak FSS izložbi'!$B$6:$H$318,3,FALSE))","v":""},null,{"$f":"IF(B369=\"\",\"\",VLOOKUP(B369,'Spisak FSS izložbi'!$B$6:$H$318,6,FALSE))","v":""},{"$f":"IF(B369=\"\",\"\",VLOOKUP(B369,'Spisak FSS izložbi'!$B$6:$H$318,5,FALSE))","v":""},null,null,null,null,null,0,0,{"$f":"IF(B369=\"\",1,VLOOKUP(B369,'Spisak FSS izložbi'!$B$6:$H$318,7,FALSE))","v":1},0]
[356,null,{"$f":"IF(B370=\"\",\"\",VLOOKUP(B370,'Spisak FSS izložbi'!$B$6:$H$318,3,FALSE))","v":""},null,{"$f":"IF(B370=\"\",\"\",VLOOKUP(B370,'Spisak FSS izložbi'!$B$6:$H$318,6,FALSE))","v":""},{"$f":"IF(B370=\"\",\"\",VLOOKUP(B370,'Spisak FSS izložbi'!$B$6:$H$318,5,FALSE))","v":""},null,null,null,null,null,0,0,{"$f":"IF(B370=\"\",1,VLOOKUP(B370,'Spisak FSS izložbi'!$B$6:$H$318,7,FALSE))","v":1},0]
[357,null,{"$f":"IF(B371=\"\",\"\",VLOOKUP(B371,'Spisak FSS izložbi'!$B$6:$H$318,3,FALSE))","v":""},null,{"$f":"IF(B371=\"\",\"\",VLOOKUP(B371,'Spisak FSS izložbi'!$B$6:$H$318,6,FALSE))","v":""},{"$f":"IF(B371=\"\",\"\",VLOOKUP(B371,'Spisak FSS izložbi'!$B$6:$H$318,5,FALSE))","v":""},null,null,null,null,null,0,0,{"$f":"IF(B371=\"\",1,VLOOKUP(B371,'Spisak FSS izložbi'!$B$6:$H$318,7,FALSE))","v":1},0]
[358,null,{"$f":"IF(B372=\"\",\"\",VLOOKUP(B372,'Spisak FSS izložbi'!$B$6:$H$318,3,FALSE))","v":""},null,{"$f":"IF(B372=\"\",\"\",VLOOKUP(B372,'Spisak FSS izložbi'!$B$6:$H$318,6,FALSE))","v":""},{"$f":"IF(B372=\"\",\"\",VLOOKUP(B372,'Spisak FSS izložbi'!$B$6:$H$318,5,FALSE))","v":""},null,null,null,null,null,0,0,{"$f":"IF(B372=\"\",1,VLOOKUP(B372,'Spisak FSS izložbi'!$B$6:$H$318,7,FALSE))","v":1},0]
[359,null,{"$f":"IF(B373=\"\",\"\",VLOOKUP(B373,'Spisak FSS izložbi'!$B$6:$H$318,3,FALSE))","v":""},null,{"$f":"IF(B373=\"\",\"\",VLOOKUP(B373,'Spisak FSS izložbi'!$B$6:$H$318,6,FALSE))","v":""},{"$f":"IF(B373=\"\",\"\",VLOOKUP(B373,'Spisak FSS izložbi'!$B$6:$H$318,5,FALSE))","v":""},null,null,null,null,null,0,0,{"$f":"IF(B373=\"\",1,VLOOKUP(B373,'Spisak FSS izložbi'!$B$6:$H$318,7,FALSE))","v":1},0]
[360,null,{"$f":"IF(B374=\"\",\"\",VLOOKUP(B374,'Spisak FSS izložbi'!$B$6:$H$318,3,FALSE))","v":""},null,{"$f":"IF(B374=\"\",\"\",VLOOKUP(B374,'Spisak FSS izložbi'!$B$6:$H$318,6,FALSE))","v":""},{"$f":"IF(B374=\"\",\"\",VLOOKUP(B374,'Spisak FSS izložbi'!$B$6:$H$318,5,FALSE))","v":""},null,null,null,null,null,0,0,{"$f":"IF(B374=\"\",1,VLOOKUP(B374,'Spisak FSS izložbi'!$B$6:$H$318,7,FALSE))","v":1},0]
[361,null,{"$f":"IF(B375=\"\",\"\",VLOOKUP(B375,'Spisak FSS izložbi'!$B$6:$H$318,3,FALSE))","v":""},null,{"$f":"IF(B375=\"\",\"\",VLOOKUP(B375,'Spisak FSS izložbi'!$B$6:$H$318,6,FALSE))","v":""},{"$f":"IF(B375=\"\",\"\",VLOOKUP(B375,'Spisak FSS izložbi'!$B$6:$H$318,5,FALSE))","v":""},null,null,null,null,null,0,0,{"$f":"IF(B375=\"\",1,VLOOKUP(B375,'Spisak FSS izložbi'!$B$6:$H$318,7,FALSE))","v":1},0]
[362,null,{"$f":"IF(B376=\"\",\"\",VLOOKUP(B376,'Spisak FSS izložbi'!$B$6:$H$318,3,FALSE))","v":""},null,{"$f":"IF(B376=\"\",\"\",VLOOKUP(B376,'Spisak FSS izložbi'!$B$6:$H$318,6,FALSE))","v":""},{"$f":"IF(B376=\"\",\"\",VLOOKUP(B376,'Spisak FSS izložbi'!$B$6:$H$318,5,FALSE))","v":""},null,null,null,null,null,0,0,{"$f":"IF(B376=\"\",1,VLOOKUP(B376,'Spisak FSS izložbi'!$B$6:$H$318,7,FALSE))","v":1},0]
[363,null,{"$f":"IF(B377=\"\",\"\",VLOOKUP(B377,'Spisak FSS izložbi'!$B$6:$H$318,3,FALSE))","v":""},null,{"$f":"IF(B377=\"\",\"\",VLOOKUP(B377,'Spisak FSS izložbi'!$B$6:$H$318,6,FALSE))","v":""},{"$f":"IF(B377=\"\",\"\",VLOOKUP(B377,'Spisak FSS izložbi'!$B$6:$H$318,5,FALSE))","v":""},null,null,null,null,null,0,0,{"$f":"IF(B377=\"\",1,VLOOKUP(B377,'Spisak FSS izložbi'!$B$6:$H$318,7,FALSE))","v":1},0]
[364,null,{"$f":"IF(B378=\"\",\"\",VLOOKUP(B378,'Spisak FSS izložbi'!$B$6:$H$318,3,FALSE))","v":""},null,{"$f":"IF(B378=\"\",\"\",VLOOKUP(B378,'Spisak FSS izložbi'!$B$6:$H$318,6,FALSE))","v":""},{"$f":"IF(B378=\"\",\"\",VLOOKUP(B378,'Spisak FSS izložbi'!$B$6:$H$318,5,FALSE))","v":""},null,null,null,null,null,0,0,{"$f":"IF(B378=\"\",1,VLOOKUP(B378,'Spisak FSS izložbi'!$B$6:$H$318,7,FALSE))","v":1},0]
[365,null,{"$f":"IF(B379=\"\",\"\",VLOOKUP(B379,'Spisak FSS izložbi'!$B$6:$H$318,3,FALSE))","v":""},null,{"$f":"IF(B379=\"\",\"\",VLOOKUP(B379,'Spisak FSS izložbi'!$B$6:$H$318,6,FALSE))","v":""},{"$f":"IF(B379=\"\",\"\",VLOOKUP(B379,'Spisak FSS izložbi'!$B$6:$H$318,5,FALSE))","v":""},null,null,null,null,null,0,0,{"$f":"IF(B379=\"\",1,VLOOKUP(B379,'Spisak FSS izložbi'!$B$6:$H$318,7,FALSE))","v":1},0]
[366,null,{"$f":"IF(B380=\"\",\"\",VLOOKUP(B380,'Spisak FSS izložbi'!$B$6:$H$318,3,FALSE))","v":""},null,{"$f":"IF(B380=\"\",\"\",VLOOKUP(B380,'Spisak FSS izložbi'!$B$6:$H$318,6,FALSE))","v":""},{"$f":"IF(B380=\"\",\"\",VLOOKUP(B380,'Spisak FSS izložbi'!$B$6:$H$318,5,FALSE))","v":""},null,null,null,null,null,0,0,{"$f":"IF(B380=\"\",1,VLOOKUP(B380,'Spisak FSS izložbi'!$B$6:$H$318,7,FALSE))","v":1},0]
[367,null,{"$f":"IF(B381=\"\",\"\",VLOOKUP(B381,'Spisak FSS izložbi'!$B$6:$H$318,3,FALSE))","v":""},null,{"$f":"IF(B381=\"\",\"\",VLOOKUP(B381,'Spisak FSS izložbi'!$B$6:$H$318,6,FALSE))","v":""},{"$f":"IF(B381=\"\",\"\",VLOOKUP(B381,'Spisak FSS izložbi'!$B$6:$H$318,5,FALSE))","v":""},null,null,null,null,null,0,0,{"$f":"IF(B381=\"\",1,VLOOKUP(B381,'Spisak FSS izložbi'!$B$6:$H$318,7,FALSE))","v":1},0]
[368,null,{"$f":"IF(B382=\"\",\"\",VLOOKUP(B382,'Spisak FSS izložbi'!$B$6:$H$318,3,FALSE))","v":""},null,{"$f":"IF(B382=\"\",\"\",VLOOKUP(B382,'Spisak FSS izložbi'!$B$6:$H$318,6,FALSE))","v":""},{"$f":"IF(B382=\"\",\"\",VLOOKUP(B382,'Spisak FSS izložbi'!$B$6:$H$318,5,FALSE))","v":""},null,null,null,null,null,0,0,{"$f":"IF(B382=\"\",1,VLOOKUP(B382,'Spisak FSS izložbi'!$B$6:$H$318,7,FALSE))","v":1},0]
[369,null,{"$f":"IF(B383=\"\",\"\",VLOOKUP(B383,'Spisak FSS izložbi'!$B$6:$H$318,3,FALSE))","v":""},null,{"$f":"IF(B383=\"\",\"\",VLOOKUP(B383,'Spisak FSS izložbi'!$B$6:$H$318,6,FALSE))","v":""},{"$f":"IF(B383=\"\",\"\",VLOOKUP(B383,'Spisak FSS izložbi'!$B$6:$H$318,5,FALSE))","v":""},null,null,null,null,null,0,0,{"$f":"IF(B383=\"\",1,VLOOKUP(B383,'Spisak FSS izložbi'!$B$6:$H$318,7,FALSE))","v":1},0]
[370,null,{"$f":"IF(B384=\"\",\"\",VLOOKUP(B384,'Spisak FSS izložbi'!$B$6:$H$318,3,FALSE))","v":""},null,{"$f":"IF(B384=\"\",\"\",VLOOKUP(B384,'Spisak FSS izložbi'!$B$6:$H$318,6,FALSE))","v":""},{"$f":"IF(B384=\"\",\"\",VLOOKUP(B384,'Spisak FSS izložbi'!$B$6:$H$318,5,FALSE))","v":""},null,null,null,null,null,0,0,{"$f":"IF(B384=\"\",1,VLOOKUP(B384,'Spisak FSS izložbi'!$B$6:$H$318,7,FALSE))","v":1},0]
[371,null,{"$f":"IF(B385=\"\",\"\",VLOOKUP(B385,'Spisak FSS izložbi'!$B$6:$H$318,3,FALSE))","v":""},null,{"$f":"IF(B385=\"\",\"\",VLOOKUP(B385,'Spisak FSS izložbi'!$B$6:$H$318,6,FALSE))","v":""},{"$f":"IF(B385=\"\",\"\",VLOOKUP(B385,'Spisak FSS izložbi'!$B$6:$H$318,5,FALSE))","v":""},null,null,null,null,null,0,0,{"$f":"IF(B385=\"\",1,VLOOKUP(B385,'Spisak FSS izložbi'!$B$6:$H$318,7,FALSE))","v":1},0]
[372,null,{"$f":"IF(B386=\"\",\"\",VLOOKUP(B386,'Spisak FSS izložbi'!$B$6:$H$318,3,FALSE))","v":""},null,{"$f":"IF(B386=\"\",\"\",VLOOKUP(B386,'Spisak FSS izložbi'!$B$6:$H$318,6,FALSE))","v":""},{"$f":"IF(B386=\"\",\"\",VLOOKUP(B386,'Spisak FSS izložbi'!$B$6:$H$318,5,FALSE))","v":""},null,null,null,null,null,0,0,{"$f":"IF(B386=\"\",1,VLOOKUP(B386,'Spisak FSS izložbi'!$B$6:$H$318,7,FALSE))","v":1},0]
[373,null,{"$f":"IF(B387=\"\",\"\",VLOOKUP(B387,'Spisak FSS izložbi'!$B$6:$H$318,3,FALSE))","v":""},null,{"$f":"IF(B387=\"\",\"\",VLOOKUP(B387,'Spisak FSS izložbi'!$B$6:$H$318,6,FALSE))","v":""},{"$f":"IF(B387=\"\",\"\",VLOOKUP(B387,'Spisak FSS izložbi'!$B$6:$H$318,5,FALSE))","v":""},null,null,null,null,null,0,0,{"$f":"IF(B387=\"\",1,VLOOKUP(B387,'Spisak FSS izložbi'!$B$6:$H$318,7,FALSE))","v":1},0]
[374,null,{"$f":"IF(B388=\"\",\"\",VLOOKUP(B388,'Spisak FSS izložbi'!$B$6:$H$318,3,FALSE))","v":""},null,{"$f":"IF(B388=\"\",\"\",VLOOKUP(B388,'Spisak FSS izložbi'!$B$6:$H$318,6,FALSE))","v":""},{"$f":"IF(B388=\"\",\"\",VLOOKUP(B388,'Spisak FSS izložbi'!$B$6:$H$318,5,FALSE))","v":""},null,null,null,null,null,0,0,{"$f":"IF(B388=\"\",1,VLOOKUP(B388,'Spisak FSS izložbi'!$B$6:$H$318,7,FALSE))","v":1},0]
[375,null,{"$f":"IF(B389=\"\",\"\",VLOOKUP(B389,'Spisak FSS izložbi'!$B$6:$H$318,3,FALSE))","v":""},null,{"$f":"IF(B389=\"\",\"\",VLOOKUP(B389,'Spisak FSS izložbi'!$B$6:$H$318,6,FALSE))","v":""},{"$f":"IF(B389=\"\",\"\",VLOOKUP(B389,'Spisak FSS izložbi'!$B$6:$H$318,5,FALSE))","v":""},null,null,null,null,null,0,0,{"$f":"IF(B389=\"\",1,VLOOKUP(B389,'Spisak FSS izložbi'!$B$6:$H$318,7,FALSE))","v":1},0]
[376,null,{"$f":"IF(B390=\"\",\"\",VLOOKUP(B390,'Spisak FSS izložbi'!$B$6:$H$318,3,FALSE))","v":""},null,{"$f":"IF(B390=\"\",\"\",VLOOKUP(B390,'Spisak FSS izložbi'!$B$6:$H$318,6,FALSE))","v":""},{"$f":"IF(B390=\"\",\"\",VLOOKUP(B390,'Spisak FSS izložbi'!$B$6:$H$318,5,FALSE))","v":""},null,null,null,null,null,0,0,{"$f":"IF(B390=\"\",1,VLOOKUP(B390,'Spisak FSS izložbi'!$B$6:$H$318,7,FALSE))","v":1},0]
[377,null,{"$f":"IF(B391=\"\",\"\",VLOOKUP(B391,'Spisak FSS izložbi'!$B$6:$H$318,3,FALSE))","v":""},null,{"$f":"IF(B391=\"\",\"\",VLOOKUP(B391,'Spisak FSS izložbi'!$B$6:$H$318,6,FALSE))","v":""},{"$f":"IF(B391=\"\",\"\",VLOOKUP(B391,'Spisak FSS izložbi'!$B$6:$H$318,5,FALSE))","v":""},null,null,null,null,null,0,0,{"$f":"IF(B391=\"\",1,VLOOKUP(B391,'Spisak FSS izložbi'!$B$6:$H$318,7,FALSE))","v":1},0]
[378,null,{"$f":"IF(B392=\"\",\"\",VLOOKUP(B392,'Spisak FSS izložbi'!$B$6:$H$318,3,FALSE))","v":""},null,{"$f":"IF(B392=\"\",\"\",VLOOKUP(B392,'Spisak FSS izložbi'!$B$6:$H$318,6,FALSE))","v":""},{"$f":"IF(B392=\"\",\"\",VLOOKUP(B392,'Spisak FSS izložbi'!$B$6:$H$318,5,FALSE))","v":""},null,null,null,null,null,0,0,{"$f":"IF(B392=\"\",1,VLOOKUP(B392,'Spisak FSS izložbi'!$B$6:$H$318,7,FALSE))","v":1},0]
[379,null,{"$f":"IF(B393=\"\",\"\",VLOOKUP(B393,'Spisak FSS izložbi'!$B$6:$H$318,3,FALSE))","v":""},null,{"$f":"IF(B393=\"\",\"\",VLOOKUP(B393,'Spisak FSS izložbi'!$B$6:$H$318,6,FALSE))","v":""},{"$f":"IF(B393=\"\",\"\",VLOOKUP(B393,'Spisak FSS izložbi'!$B$6:$H$318,5,FALSE))","v":""},null,null,null,null,null,0,0,{"$f":"IF(B393=\"\",1,VLOOKUP(B393,'Spisak FSS izložbi'!$B$6:$H$318,7,FALSE))","v":1},0]
[380,null,{"$f":"IF(B394=\"\",\"\",VLOOKUP(B394,'Spisak FSS izložbi'!$B$6:$H$318,3,FALSE))","v":""},null,{"$f":"IF(B394=\"\",\"\",VLOOKUP(B394,'Spisak FSS izložbi'!$B$6:$H$318,6,FALSE))","v":""},{"$f":"IF(B394=\"\",\"\",VLOOKUP(B394,'Spisak FSS izložbi'!$B$6:$H$318,5,FALSE))","v":""},null,null,null,null,null,0,0,{"$f":"IF(B394=\"\",1,VLOOKUP(B394,'Spisak FSS izložbi'!$B$6:$H$318,7,FALSE))","v":1},0]
[381,null,{"$f":"IF(B395=\"\",\"\",VLOOKUP(B395,'Spisak FSS izložbi'!$B$6:$H$318,3,FALSE))","v":""},null,{"$f":"IF(B395=\"\",\"\",VLOOKUP(B395,'Spisak FSS izložbi'!$B$6:$H$318,6,FALSE))","v":""},{"$f":"IF(B395=\"\",\"\",VLOOKUP(B395,'Spisak FSS izložbi'!$B$6:$H$318,5,FALSE))","v":""},null,null,null,null,null,0,0,{"$f":"IF(B395=\"\",1,VLOOKUP(B395,'Spisak FSS izložbi'!$B$6:$H$318,7,FALSE))","v":1},0]
[382,null,{"$f":"IF(B396=\"\",\"\",VLOOKUP(B396,'Spisak FSS izložbi'!$B$6:$H$318,3,FALSE))","v":""},null,{"$f":"IF(B396=\"\",\"\",VLOOKUP(B396,'Spisak FSS izložbi'!$B$6:$H$318,6,FALSE))","v":""},{"$f":"IF(B396=\"\",\"\",VLOOKUP(B396,'Spisak FSS izložbi'!$B$6:$H$318,5,FALSE))","v":""},null,null,null,null,null,0,0,{"$f":"IF(B396=\"\",1,VLOOKUP(B396,'Spisak FSS izložbi'!$B$6:$H$318,7,FALSE))","v":1},0]
[383,null,{"$f":"IF(B397=\"\",\"\",VLOOKUP(B397,'Spisak FSS izložbi'!$B$6:$H$318,3,FALSE))","v":""},null,{"$f":"IF(B397=\"\",\"\",VLOOKUP(B397,'Spisak FSS izložbi'!$B$6:$H$318,6,FALSE))","v":""},{"$f":"IF(B397=\"\",\"\",VLOOKUP(B397,'Spisak FSS izložbi'!$B$6:$H$318,5,FALSE))","v":""},null,null,null,null,null,0,0,{"$f":"IF(B397=\"\",1,VLOOKUP(B397,'Spisak FSS izložbi'!$B$6:$H$318,7,FALSE))","v":1},0]
[384,null,{"$f":"IF(B398=\"\",\"\",VLOOKUP(B398,'Spisak FSS izložbi'!$B$6:$H$318,3,FALSE))","v":""},null,{"$f":"IF(B398=\"\",\"\",VLOOKUP(B398,'Spisak FSS izložbi'!$B$6:$H$318,6,FALSE))","v":""},{"$f":"IF(B398=\"\",\"\",VLOOKUP(B398,'Spisak FSS izložbi'!$B$6:$H$318,5,FALSE))","v":""},null,null,null,null,null,0,0,{"$f":"IF(B398=\"\",1,VLOOKUP(B398,'Spisak FSS izložbi'!$B$6:$H$318,7,FALSE))","v":1},0]
[385,null,{"$f":"IF(B399=\"\",\"\",VLOOKUP(B399,'Spisak FSS izložbi'!$B$6:$H$318,3,FALSE))","v":""},null,{"$f":"IF(B399=\"\",\"\",VLOOKUP(B399,'Spisak FSS izložbi'!$B$6:$H$318,6,FALSE))","v":""},{"$f":"IF(B399=\"\",\"\",VLOOKUP(B399,'Spisak FSS izložbi'!$B$6:$H$318,5,FALSE))","v":""},null,null,null,null,null,0,0,{"$f":"IF(B399=\"\",1,VLOOKUP(B399,'Spisak FSS izložbi'!$B$6:$H$318,7,FALSE))","v":1},0]
[386,null,{"$f":"IF(B400=\"\",\"\",VLOOKUP(B400,'Spisak FSS izložbi'!$B$6:$H$318,3,FALSE))","v":""},null,{"$f":"IF(B400=\"\",\"\",VLOOKUP(B400,'Spisak FSS izložbi'!$B$6:$H$318,6,FALSE))","v":""},{"$f":"IF(B400=\"\",\"\",VLOOKUP(B400,'Spisak FSS izložbi'!$B$6:$H$318,5,FALSE))","v":""},null,null,null,null,null,{"$f":"IF(E400=$H$1,$H$6,IF(E400=$I$1,$I$6,IF(E400=$J$1,$J$6,IF(E400=$K$1,$K$6,IF(E400=$L$1,$L$6,IF(E400=$M$1,$M$6,IF(E400=$N$1,$N$6,IF(E400=$O$1,$O$6,0))))))))","v":0},{"$f":"IF(OR(E400=\"\",K400=\"\")=TRUE,0,VLOOKUP(K400,$G$1:$O$7,MATCH(E400,$G$1:$O$1,0),FALSE))","v":0},{"$f":"IF(B400=\"\",1,VLOOKUP(B400,'Spisak FSS izložbi'!$B$6:$H$318,7,FALSE))","v":1},{"$f":"(L400+M400)*N400","v":0}]
[387,null,{"$f":"IF(B401=\"\",\"\",VLOOKUP(B401,'Spisak FSS izložbi'!$B$6:$H$318,3,FALSE))","v":""},null,{"$f":"IF(B401=\"\",\"\",VLOOKUP(B401,'Spisak FSS izložbi'!$B$6:$H$318,6,FALSE))","v":""},{"$f":"IF(B401=\"\",\"\",VLOOKUP(B401,'Spisak FSS izložbi'!$B$6:$H$318,5,FALSE))","v":""},null,null,null,null,null,0,0,{"$f":"IF(B401=\"\",1,VLOOKUP(B401,'Spisak FSS izložbi'!$B$6:$H$318,7,FALSE))","v":1},0]
[388,null,{"$f":"IF(B402=\"\",\"\",VLOOKUP(B402,'Spisak FSS izložbi'!$B$6:$H$318,3,FALSE))","v":""},null,{"$f":"IF(B402=\"\",\"\",VLOOKUP(B402,'Spisak FSS izložbi'!$B$6:$H$318,6,FALSE))","v":""},{"$f":"IF(B402=\"\",\"\",VLOOKUP(B402,'Spisak FSS izložbi'!$B$6:$H$318,5,FALSE))","v":""},null,null,null,null,null,0,0,{"$f":"IF(B402=\"\",1,VLOOKUP(B402,'Spisak FSS izložbi'!$B$6:$H$318,7,FALSE))","v":1},0]
[389,null,{"$f":"IF(B403=\"\",\"\",VLOOKUP(B403,'Spisak FSS izložbi'!$B$6:$H$318,3,FALSE))","v":""},null,{"$f":"IF(B403=\"\",\"\",VLOOKUP(B403,'Spisak FSS izložbi'!$B$6:$H$318,6,FALSE))","v":""},{"$f":"IF(B403=\"\",\"\",VLOOKUP(B403,'Spisak FSS izložbi'!$B$6:$H$318,5,FALSE))","v":""},null,null,null,null,null,0,0,{"$f":"IF(B403=\"\",1,VLOOKUP(B403,'Spisak FSS izložbi'!$B$6:$H$318,7,FALSE))","v":1},0]
[390,null,{"$f":"IF(B404=\"\",\"\",VLOOKUP(B404,'Spisak FSS izložbi'!$B$6:$H$318,3,FALSE))","v":""},null,{"$f":"IF(B404=\"\",\"\",VLOOKUP(B404,'Spisak FSS izložbi'!$B$6:$H$318,6,FALSE))","v":""},{"$f":"IF(B404=\"\",\"\",VLOOKUP(B404,'Spisak FSS izložbi'!$B$6:$H$318,5,FALSE))","v":""},null,null,null,null,null,0,0,{"$f":"IF(B404=\"\",1,VLOOKUP(B404,'Spisak FSS izložbi'!$B$6:$H$318,7,FALSE))","v":1},0]
[391,null,{"$f":"IF(B405=\"\",\"\",VLOOKUP(B405,'Spisak FSS izložbi'!$B$6:$H$318,3,FALSE))","v":""},null,{"$f":"IF(B405=\"\",\"\",VLOOKUP(B405,'Spisak FSS izložbi'!$B$6:$H$318,6,FALSE))","v":""},{"$f":"IF(B405=\"\",\"\",VLOOKUP(B405,'Spisak FSS izložbi'!$B$6:$H$318,5,FALSE))","v":""},null,null,null,null,null,0,0,{"$f":"IF(B405=\"\",1,VLOOKUP(B405,'Spisak FSS izložbi'!$B$6:$H$318,7,FALSE))","v":1},0]
[392,null,{"$f":"IF(B406=\"\",\"\",VLOOKUP(B406,'Spisak FSS izložbi'!$B$6:$H$318,3,FALSE))","v":""},null,{"$f":"IF(B406=\"\",\"\",VLOOKUP(B406,'Spisak FSS izložbi'!$B$6:$H$318,6,FALSE))","v":""},{"$f":"IF(B406=\"\",\"\",VLOOKUP(B406,'Spisak FSS izložbi'!$B$6:$H$318,5,FALSE))","v":""},null,null,null,null,null,0,0,{"$f":"IF(B406=\"\",1,VLOOKUP(B406,'Spisak FSS izložbi'!$B$6:$H$318,7,FALSE))","v":1},0]
[393,null,{"$f":"IF(B407=\"\",\"\",VLOOKUP(B407,'Spisak FSS izložbi'!$B$6:$H$318,3,FALSE))","v":""},null,{"$f":"IF(B407=\"\",\"\",VLOOKUP(B407,'Spisak FSS izložbi'!$B$6:$H$318,6,FALSE))","v":""},{"$f":"IF(B407=\"\",\"\",VLOOKUP(B407,'Spisak FSS izložbi'!$B$6:$H$318,5,FALSE))","v":""},null,null,null,null,null,0,0,{"$f":"IF(B407=\"\",1,VLOOKUP(B407,'Spisak FSS izložbi'!$B$6:$H$318,7,FALSE))","v":1},0]
[394,null,{"$f":"IF(B408=\"\",\"\",VLOOKUP(B408,'Spisak FSS izložbi'!$B$6:$H$318,3,FALSE))","v":""},null,{"$f":"IF(B408=\"\",\"\",VLOOKUP(B408,'Spisak FSS izložbi'!$B$6:$H$318,6,FALSE))","v":""},{"$f":"IF(B408=\"\",\"\",VLOOKUP(B408,'Spisak FSS izložbi'!$B$6:$H$318,5,FALSE))","v":""},null,null,null,null,null,0,0,{"$f":"IF(B408=\"\",1,VLOOKUP(B408,'Spisak FSS izložbi'!$B$6:$H$318,7,FALSE))","v":1},0]
[395,null,{"$f":"IF(B409=\"\",\"\",VLOOKUP(B409,'Spisak FSS izložbi'!$B$6:$H$318,3,FALSE))","v":""},null,{"$f":"IF(B409=\"\",\"\",VLOOKUP(B409,'Spisak FSS izložbi'!$B$6:$H$318,6,FALSE))","v":""},{"$f":"IF(B409=\"\",\"\",VLOOKUP(B409,'Spisak FSS izložbi'!$B$6:$H$318,5,FALSE))","v":""},null,null,null,null,null,0,0,{"$f":"IF(B409=\"\",1,VLOOKUP(B409,'Spisak FSS izložbi'!$B$6:$H$318,7,FALSE))","v":1},0]
[396,null,{"$f":"IF(B410=\"\",\"\",VLOOKUP(B410,'Spisak FSS izložbi'!$B$6:$H$318,3,FALSE))","v":""},null,{"$f":"IF(B410=\"\",\"\",VLOOKUP(B410,'Spisak FSS izložbi'!$B$6:$H$318,6,FALSE))","v":""},{"$f":"IF(B410=\"\",\"\",VLOOKUP(B410,'Spisak FSS izložbi'!$B$6:$H$318,5,FALSE))","v":""},null,null,null,null,null,0,0,{"$f":"IF(B410=\"\",1,VLOOKUP(B410,'Spisak FSS izložbi'!$B$6:$H$318,7,FALSE))","v":1},0]
[397,null,{"$f":"IF(B411=\"\",\"\",VLOOKUP(B411,'Spisak FSS izložbi'!$B$6:$H$318,3,FALSE))","v":""},null,{"$f":"IF(B411=\"\",\"\",VLOOKUP(B411,'Spisak FSS izložbi'!$B$6:$H$318,6,FALSE))","v":""},{"$f":"IF(B411=\"\",\"\",VLOOKUP(B411,'Spisak FSS izložbi'!$B$6:$H$318,5,FALSE))","v":""},null,null,null,null,null,0,0,{"$f":"IF(B411=\"\",1,VLOOKUP(B411,'Spisak FSS izložbi'!$B$6:$H$318,7,FALSE))","v":1},0]
[398,null,{"$f":"IF(B412=\"\",\"\",VLOOKUP(B412,'Spisak FSS izložbi'!$B$6:$H$318,3,FALSE))","v":""},null,{"$f":"IF(B412=\"\",\"\",VLOOKUP(B412,'Spisak FSS izložbi'!$B$6:$H$318,6,FALSE))","v":""},{"$f":"IF(B412=\"\",\"\",VLOOKUP(B412,'Spisak FSS izložbi'!$B$6:$H$318,5,FALSE))","v":""},null,null,null,null,null,0,0,{"$f":"IF(B412=\"\",1,VLOOKUP(B412,'Spisak FSS izložbi'!$B$6:$H$318,7,FALSE))","v":1},0]
[399,null,{"$f":"IF(B413=\"\",\"\",VLOOKUP(B413,'Spisak FSS izložbi'!$B$6:$H$318,3,FALSE))","v":""},null,{"$f":"IF(B413=\"\",\"\",VLOOKUP(B413,'Spisak FSS izložbi'!$B$6:$H$318,6,FALSE))","v":""},{"$f":"IF(B413=\"\",\"\",VLOOKUP(B413,'Spisak FSS izložbi'!$B$6:$H$318,5,FALSE))","v":""},null,null,null,null,null,0,0,{"$f":"IF(B413=\"\",1,VLOOKUP(B413,'Spisak FSS izložbi'!$B$6:$H$318,7,FALSE))","v":1},0]
[400,null,{"$f":"IF(B414=\"\",\"\",VLOOKUP(B414,'Spisak FSS izložbi'!$B$6:$H$318,3,FALSE))","v":""},null,{"$f":"IF(B414=\"\",\"\",VLOOKUP(B414,'Spisak FSS izložbi'!$B$6:$H$318,6,FALSE))","v":""},{"$f":"IF(B414=\"\",\"\",VLOOKUP(B414,'Spisak FSS izložbi'!$B$6:$H$318,5,FALSE))","v":""},null,null,null,null,null,0,0,{"$f":"IF(B414=\"\",1,VLOOKUP(B414,'Spisak FSS izložbi'!$B$6:$H$318,7,FALSE))","v":1},0]
[401,null,{"$f":"IF(B415=\"\",\"\",VLOOKUP(B415,'Spisak FSS izložbi'!$B$6:$H$318,3,FALSE))","v":""},null,{"$f":"IF(B415=\"\",\"\",VLOOKUP(B415,'Spisak FSS izložbi'!$B$6:$H$318,6,FALSE))","v":""},{"$f":"IF(B415=\"\",\"\",VLOOKUP(B415,'Spisak FSS izložbi'!$B$6:$H$318,5,FALSE))","v":""},null,null,null,null,null,0,0,{"$f":"IF(B415=\"\",1,VLOOKUP(B415,'Spisak FSS izložbi'!$B$6:$H$318,7,FALSE))","v":1},0]
[402,null,{"$f":"IF(B416=\"\",\"\",VLOOKUP(B416,'Spisak FSS izložbi'!$B$6:$H$318,3,FALSE))","v":""},null,{"$f":"IF(B416=\"\",\"\",VLOOKUP(B416,'Spisak FSS izložbi'!$B$6:$H$318,6,FALSE))","v":""},{"$f":"IF(B416=\"\",\"\",VLOOKUP(B416,'Spisak FSS izložbi'!$B$6:$H$318,5,FALSE))","v":""},null,null,null,null,null,0,0,{"$f":"IF(B416=\"\",1,VLOOKUP(B416,'Spisak FSS izložbi'!$B$6:$H$318,7,FALSE))","v":1},0]
[403,null,{"$f":"IF(B417=\"\",\"\",VLOOKUP(B417,'Spisak FSS izložbi'!$B$6:$H$318,3,FALSE))","v":""},null,{"$f":"IF(B417=\"\",\"\",VLOOKUP(B417,'Spisak FSS izložbi'!$B$6:$H$318,6,FALSE))","v":""},{"$f":"IF(B417=\"\",\"\",VLOOKUP(B417,'Spisak FSS izložbi'!$B$6:$H$318,5,FALSE))","v":""},null,null,null,null,null,0,0,{"$f":"IF(B417=\"\",1,VLOOKUP(B417,'Spisak FSS izložbi'!$B$6:$H$318,7,FALSE))","v":1},0]
[404,null,{"$f":"IF(B418=\"\",\"\",VLOOKUP(B418,'Spisak FSS izložbi'!$B$6:$H$318,3,FALSE))","v":""},null,{"$f":"IF(B418=\"\",\"\",VLOOKUP(B418,'Spisak FSS izložbi'!$B$6:$H$318,6,FALSE))","v":""},{"$f":"IF(B418=\"\",\"\",VLOOKUP(B418,'Spisak FSS izložbi'!$B$6:$H$318,5,FALSE))","v":""},null,null,null,null,null,0,0,{"$f":"IF(B418=\"\",1,VLOOKUP(B418,'Spisak FSS izložbi'!$B$6:$H$318,7,FALSE))","v":1},0]
[405,null,{"$f":"IF(B419=\"\",\"\",VLOOKUP(B419,'Spisak FSS izložbi'!$B$6:$H$318,3,FALSE))","v":""},null,{"$f":"IF(B419=\"\",\"\",VLOOKUP(B419,'Spisak FSS izložbi'!$B$6:$H$318,6,FALSE))","v":""},{"$f":"IF(B419=\"\",\"\",VLOOKUP(B419,'Spisak FSS izložbi'!$B$6:$H$318,5,FALSE))","v":""},null,null,null,null,null,0,0,{"$f":"IF(B419=\"\",1,VLOOKUP(B419,'Spisak FSS izložbi'!$B$6:$H$318,7,FALSE))","v":1},0]
[406,null,{"$f":"IF(B420=\"\",\"\",VLOOKUP(B420,'Spisak FSS izložbi'!$B$6:$H$318,3,FALSE))","v":""},null,{"$f":"IF(B420=\"\",\"\",VLOOKUP(B420,'Spisak FSS izložbi'!$B$6:$H$318,6,FALSE))","v":""},{"$f":"IF(B420=\"\",\"\",VLOOKUP(B420,'Spisak FSS izložbi'!$B$6:$H$318,5,FALSE))","v":""},null,null,null,null,null,0,0,{"$f":"IF(B420=\"\",1,VLOOKUP(B420,'Spisak FSS izložbi'!$B$6:$H$318,7,FALSE))","v":1},0]
[407,null,{"$f":"IF(B421=\"\",\"\",VLOOKUP(B421,'Spisak FSS izložbi'!$B$6:$H$318,3,FALSE))","v":""},null,{"$f":"IF(B421=\"\",\"\",VLOOKUP(B421,'Spisak FSS izložbi'!$B$6:$H$318,6,FALSE))","v":""},{"$f":"IF(B421=\"\",\"\",VLOOKUP(B421,'Spisak FSS izložbi'!$B$6:$H$318,5,FALSE))","v":""},null,null,null,null,null,0,0,{"$f":"IF(B421=\"\",1,VLOOKUP(B421,'Spisak FSS izložbi'!$B$6:$H$318,7,FALSE))","v":1},0]
[408,null,{"$f":"IF(B422=\"\",\"\",VLOOKUP(B422,'Spisak FSS izložbi'!$B$6:$H$318,3,FALSE))","v":""},null,{"$f":"IF(B422=\"\",\"\",VLOOKUP(B422,'Spisak FSS izložbi'!$B$6:$H$318,6,FALSE))","v":""},{"$f":"IF(B422=\"\",\"\",VLOOKUP(B422,'Spisak FSS izložbi'!$B$6:$H$318,5,FALSE))","v":""},null,null,null,null,null,0,0,{"$f":"IF(B422=\"\",1,VLOOKUP(B422,'Spisak FSS izložbi'!$B$6:$H$318,7,FALSE))","v":1},0]
[409,null,{"$f":"IF(B423=\"\",\"\",VLOOKUP(B423,'Spisak FSS izložbi'!$B$6:$H$318,3,FALSE))","v":""},null,{"$f":"IF(B423=\"\",\"\",VLOOKUP(B423,'Spisak FSS izložbi'!$B$6:$H$318,6,FALSE))","v":""},{"$f":"IF(B423=\"\",\"\",VLOOKUP(B423,'Spisak FSS izložbi'!$B$6:$H$318,5,FALSE))","v":""},null,null,null,null,null,0,0,{"$f":"IF(B423=\"\",1,VLOOKUP(B423,'Spisak FSS izložbi'!$B$6:$H$318,7,FALSE))","v":1},0]
[410,null,{"$f":"IF(B424=\"\",\"\",VLOOKUP(B424,'Spisak FSS izložbi'!$B$6:$H$318,3,FALSE))","v":""},null,{"$f":"IF(B424=\"\",\"\",VLOOKUP(B424,'Spisak FSS izložbi'!$B$6:$H$318,6,FALSE))","v":""},{"$f":"IF(B424=\"\",\"\",VLOOKUP(B424,'Spisak FSS izložbi'!$B$6:$H$318,5,FALSE))","v":""},null,null,null,null,null,0,0,{"$f":"IF(B424=\"\",1,VLOOKUP(B424,'Spisak FSS izložbi'!$B$6:$H$318,7,FALSE))","v":1},0]
[411,null,{"$f":"IF(B425=\"\",\"\",VLOOKUP(B425,'Spisak FSS izložbi'!$B$6:$H$318,3,FALSE))","v":""},null,{"$f":"IF(B425=\"\",\"\",VLOOKUP(B425,'Spisak FSS izložbi'!$B$6:$H$318,6,FALSE))","v":""},{"$f":"IF(B425=\"\",\"\",VLOOKUP(B425,'Spisak FSS izložbi'!$B$6:$H$318,5,FALSE))","v":""},null,null,null,null,null,0,0,{"$f":"IF(B425=\"\",1,VLOOKUP(B425,'Spisak FSS izložbi'!$B$6:$H$318,7,FALSE))","v":1},0]
[412,null,{"$f":"IF(B426=\"\",\"\",VLOOKUP(B426,'Spisak FSS izložbi'!$B$6:$H$318,3,FALSE))","v":""},null,{"$f":"IF(B426=\"\",\"\",VLOOKUP(B426,'Spisak FSS izložbi'!$B$6:$H$318,6,FALSE))","v":""},{"$f":"IF(B426=\"\",\"\",VLOOKUP(B426,'Spisak FSS izložbi'!$B$6:$H$318,5,FALSE))","v":""},null,null,null,null,null,0,0,{"$f":"IF(B426=\"\",1,VLOOKUP(B426,'Spisak FSS izložbi'!$B$6:$H$318,7,FALSE))","v":1},0]
[413,null,{"$f":"IF(B427=\"\",\"\",VLOOKUP(B427,'Spisak FSS izložbi'!$B$6:$H$318,3,FALSE))","v":""},null,{"$f":"IF(B427=\"\",\"\",VLOOKUP(B427,'Spisak FSS izložbi'!$B$6:$H$318,6,FALSE))","v":""},{"$f":"IF(B427=\"\",\"\",VLOOKUP(B427,'Spisak FSS izložbi'!$B$6:$H$318,5,FALSE))","v":""},null,null,null,null,null,0,0,{"$f":"IF(B427=\"\",1,VLOOKUP(B427,'Spisak FSS izložbi'!$B$6:$H$318,7,FALSE))","v":1},0]
[414,null,{"$f":"IF(B428=\"\",\"\",VLOOKUP(B428,'Spisak FSS izložbi'!$B$6:$H$318,3,FALSE))","v":""},null,{"$f":"IF(B428=\"\",\"\",VLOOKUP(B428,'Spisak FSS izložbi'!$B$6:$H$318,6,FALSE))","v":""},{"$f":"IF(B428=\"\",\"\",VLOOKUP(B428,'Spisak FSS izložbi'!$B$6:$H$318,5,FALSE))","v":""},null,null,null,null,null,0,0,{"$f":"IF(B428=\"\",1,VLOOKUP(B428,'Spisak FSS izložbi'!$B$6:$H$318,7,FALSE))","v":1},0]
[415,null,{"$f":"IF(B429=\"\",\"\",VLOOKUP(B429,'Spisak FSS izložbi'!$B$6:$H$318,3,FALSE))","v":""},null,{"$f":"IF(B429=\"\",\"\",VLOOKUP(B429,'Spisak FSS izložbi'!$B$6:$H$318,6,FALSE))","v":""},{"$f":"IF(B429=\"\",\"\",VLOOKUP(B429,'Spisak FSS izložbi'!$B$6:$H$318,5,FALSE))","v":""},null,null,null,null,null,0,0,{"$f":"IF(B429=\"\",1,VLOOKUP(B429,'Spisak FSS izložbi'!$B$6:$H$318,7,FALSE))","v":1},0]
[416,null,{"$f":"IF(B430=\"\",\"\",VLOOKUP(B430,'Spisak FSS izložbi'!$B$6:$H$318,3,FALSE))","v":""},null,{"$f":"IF(B430=\"\",\"\",VLOOKUP(B430,'Spisak FSS izložbi'!$B$6:$H$318,6,FALSE))","v":""},{"$f":"IF(B430=\"\",\"\",VLOOKUP(B430,'Spisak FSS izložbi'!$B$6:$H$318,5,FALSE))","v":""},null,null,null,null,null,0,0,{"$f":"IF(B430=\"\",1,VLOOKUP(B430,'Spisak FSS izložbi'!$B$6:$H$318,7,FALSE))","v":1},0]
[417,null,{"$f":"IF(B431=\"\",\"\",VLOOKUP(B431,'Spisak FSS izložbi'!$B$6:$H$318,3,FALSE))","v":""},null,{"$f":"IF(B431=\"\",\"\",VLOOKUP(B431,'Spisak FSS izložbi'!$B$6:$H$318,6,FALSE))","v":""},{"$f":"IF(B431=\"\",\"\",VLOOKUP(B431,'Spisak FSS izložbi'!$B$6:$H$318,5,FALSE))","v":""},null,null,null,null,null,0,0,{"$f":"IF(B431=\"\",1,VLOOKUP(B431,'Spisak FSS izložbi'!$B$6:$H$318,7,FALSE))","v":1},0]
[418,null,{"$f":"IF(B432=\"\",\"\",VLOOKUP(B432,'Spisak FSS izložbi'!$B$6:$H$318,3,FALSE))","v":""},null,{"$f":"IF(B432=\"\",\"\",VLOOKUP(B432,'Spisak FSS izložbi'!$B$6:$H$318,6,FALSE))","v":""},{"$f":"IF(B432=\"\",\"\",VLOOKUP(B432,'Spisak FSS izložbi'!$B$6:$H$318,5,FALSE))","v":""},null,null,null,null,null,0,0,{"$f":"IF(B432=\"\",1,VLOOKUP(B432,'Spisak FSS izložbi'!$B$6:$H$318,7,FALSE))","v":1},0]
[419,null,{"$f":"IF(B433=\"\",\"\",VLOOKUP(B433,'Spisak FSS izložbi'!$B$6:$H$318,3,FALSE))","v":""},null,{"$f":"IF(B433=\"\",\"\",VLOOKUP(B433,'Spisak FSS izložbi'!$B$6:$H$318,6,FALSE))","v":""},{"$f":"IF(B433=\"\",\"\",VLOOKUP(B433,'Spisak FSS izložbi'!$B$6:$H$318,5,FALSE))","v":""},null,null,null,null,null,0,0,{"$f":"IF(B433=\"\",1,VLOOKUP(B433,'Spisak FSS izložbi'!$B$6:$H$318,7,FALSE))","v":1},0]
[420,null,{"$f":"IF(B434=\"\",\"\",VLOOKUP(B434,'Spisak FSS izložbi'!$B$6:$H$318,3,FALSE))","v":""},null,{"$f":"IF(B434=\"\",\"\",VLOOKUP(B434,'Spisak FSS izložbi'!$B$6:$H$318,6,FALSE))","v":""},{"$f":"IF(B434=\"\",\"\",VLOOKUP(B434,'Spisak FSS izložbi'!$B$6:$H$318,5,FALSE))","v":""},null,null,null,null,null,0,0,{"$f":"IF(B434=\"\",1,VLOOKUP(B434,'Spisak FSS izložbi'!$B$6:$H$318,7,FALSE))","v":1},0]
[421,null,{"$f":"IF(B435=\"\",\"\",VLOOKUP(B435,'Spisak FSS izložbi'!$B$6:$H$318,3,FALSE))","v":""},null,{"$f":"IF(B435=\"\",\"\",VLOOKUP(B435,'Spisak FSS izložbi'!$B$6:$H$318,6,FALSE))","v":""},{"$f":"IF(B435=\"\",\"\",VLOOKUP(B435,'Spisak FSS izložbi'!$B$6:$H$318,5,FALSE))","v":""},null,null,null,null,null,0,0,{"$f":"IF(B435=\"\",1,VLOOKUP(B435,'Spisak FSS izložbi'!$B$6:$H$318,7,FALSE))","v":1},0]
[422,null,{"$f":"IF(B436=\"\",\"\",VLOOKUP(B436,'Spisak FSS izložbi'!$B$6:$H$318,3,FALSE))","v":""},null,{"$f":"IF(B436=\"\",\"\",VLOOKUP(B436,'Spisak FSS izložbi'!$B$6:$H$318,6,FALSE))","v":""},{"$f":"IF(B436=\"\",\"\",VLOOKUP(B436,'Spisak FSS izložbi'!$B$6:$H$318,5,FALSE))","v":""},null,null,null,null,null,0,0,{"$f":"IF(B436=\"\",1,VLOOKUP(B436,'Spisak FSS izložbi'!$B$6:$H$318,7,FALSE))","v":1},0]
[423,null,{"$f":"IF(B437=\"\",\"\",VLOOKUP(B437,'Spisak FSS izložbi'!$B$6:$H$318,3,FALSE))","v":""},null,{"$f":"IF(B437=\"\",\"\",VLOOKUP(B437,'Spisak FSS izložbi'!$B$6:$H$318,6,FALSE))","v":""},{"$f":"IF(B437=\"\",\"\",VLOOKUP(B437,'Spisak FSS izložbi'!$B$6:$H$318,5,FALSE))","v":""},null,null,null,null,null,0,0,{"$f":"IF(B437=\"\",1,VLOOKUP(B437,'Spisak FSS izložbi'!$B$6:$H$318,7,FALSE))","v":1},0]
[424,null,{"$f":"IF(B438=\"\",\"\",VLOOKUP(B438,'Spisak FSS izložbi'!$B$6:$H$318,3,FALSE))","v":""},null,{"$f":"IF(B438=\"\",\"\",VLOOKUP(B438,'Spisak FSS izložbi'!$B$6:$H$318,6,FALSE))","v":""},{"$f":"IF(B438=\"\",\"\",VLOOKUP(B438,'Spisak FSS izložbi'!$B$6:$H$318,5,FALSE))","v":""},null,null,null,null,null,0,0,{"$f":"IF(B438=\"\",1,VLOOKUP(B438,'Spisak FSS izložbi'!$B$6:$H$318,7,FALSE))","v":1},0]
[425,null,{"$f":"IF(B439=\"\",\"\",VLOOKUP(B439,'Spisak FSS izložbi'!$B$6:$H$318,3,FALSE))","v":""},null,{"$f":"IF(B439=\"\",\"\",VLOOKUP(B439,'Spisak FSS izložbi'!$B$6:$H$318,6,FALSE))","v":""},{"$f":"IF(B439=\"\",\"\",VLOOKUP(B439,'Spisak FSS izložbi'!$B$6:$H$318,5,FALSE))","v":""},null,null,null,null,null,0,0,{"$f":"IF(B439=\"\",1,VLOOKUP(B439,'Spisak FSS izložbi'!$B$6:$H$318,7,FALSE))","v":1},0]
[426,null,{"$f":"IF(B440=\"\",\"\",VLOOKUP(B440,'Spisak FSS izložbi'!$B$6:$H$318,3,FALSE))","v":""},null,{"$f":"IF(B440=\"\",\"\",VLOOKUP(B440,'Spisak FSS izložbi'!$B$6:$H$318,6,FALSE))","v":""},{"$f":"IF(B440=\"\",\"\",VLOOKUP(B440,'Spisak FSS izložbi'!$B$6:$H$318,5,FALSE))","v":""},null,null,null,null,null,0,0,{"$f":"IF(B440=\"\",1,VLOOKUP(B440,'Spisak FSS izložbi'!$B$6:$H$318,7,FALSE))","v":1},0]
[427,null,{"$f":"IF(B441=\"\",\"\",VLOOKUP(B441,'Spisak FSS izložbi'!$B$6:$H$318,3,FALSE))","v":""},null,{"$f":"IF(B441=\"\",\"\",VLOOKUP(B441,'Spisak FSS izložbi'!$B$6:$H$318,6,FALSE))","v":""},{"$f":"IF(B441=\"\",\"\",VLOOKUP(B441,'Spisak FSS izložbi'!$B$6:$H$318,5,FALSE))","v":""},null,null,null,null,null,0,0,{"$f":"IF(B441=\"\",1,VLOOKUP(B441,'Spisak FSS izložbi'!$B$6:$H$318,7,FALSE))","v":1},0]
[428,null,{"$f":"IF(B442=\"\",\"\",VLOOKUP(B442,'Spisak FSS izložbi'!$B$6:$H$318,3,FALSE))","v":""},null,{"$f":"IF(B442=\"\",\"\",VLOOKUP(B442,'Spisak FSS izložbi'!$B$6:$H$318,6,FALSE))","v":""},{"$f":"IF(B442=\"\",\"\",VLOOKUP(B442,'Spisak FSS izložbi'!$B$6:$H$318,5,FALSE))","v":""},null,null,null,null,null,0,0,{"$f":"IF(B442=\"\",1,VLOOKUP(B442,'Spisak FSS izložbi'!$B$6:$H$318,7,FALSE))","v":1},0]
[429,null,{"$f":"IF(B443=\"\",\"\",VLOOKUP(B443,'Spisak FSS izložbi'!$B$6:$H$318,3,FALSE))","v":""},null,{"$f":"IF(B443=\"\",\"\",VLOOKUP(B443,'Spisak FSS izložbi'!$B$6:$H$318,6,FALSE))","v":""},{"$f":"IF(B443=\"\",\"\",VLOOKUP(B443,'Spisak FSS izložbi'!$B$6:$H$318,5,FALSE))","v":""},null,null,null,null,null,0,0,{"$f":"IF(B443=\"\",1,VLOOKUP(B443,'Spisak FSS izložbi'!$B$6:$H$318,7,FALSE))","v":1},0]
[430,null,{"$f":"IF(B444=\"\",\"\",VLOOKUP(B444,'Spisak FSS izložbi'!$B$6:$H$318,3,FALSE))","v":""},null,{"$f":"IF(B444=\"\",\"\",VLOOKUP(B444,'Spisak FSS izložbi'!$B$6:$H$318,6,FALSE))","v":""},{"$f":"IF(B444=\"\",\"\",VLOOKUP(B444,'Spisak FSS izložbi'!$B$6:$H$318,5,FALSE))","v":""},null,null,null,null,null,0,0,{"$f":"IF(B444=\"\",1,VLOOKUP(B444,'Spisak FSS izložbi'!$B$6:$H$318,7,FALSE))","v":1},0]
[431,null,{"$f":"IF(B445=\"\",\"\",VLOOKUP(B445,'Spisak FSS izložbi'!$B$6:$H$318,3,FALSE))","v":""},null,{"$f":"IF(B445=\"\",\"\",VLOOKUP(B445,'Spisak FSS izložbi'!$B$6:$H$318,6,FALSE))","v":""},{"$f":"IF(B445=\"\",\"\",VLOOKUP(B445,'Spisak FSS izložbi'!$B$6:$H$318,5,FALSE))","v":""},null,null,null,null,null,0,0,{"$f":"IF(B445=\"\",1,VLOOKUP(B445,'Spisak FSS izložbi'!$B$6:$H$318,7,FALSE))","v":1},0]
[432,null,{"$f":"IF(B446=\"\",\"\",VLOOKUP(B446,'Spisak FSS izložbi'!$B$6:$H$318,3,FALSE))","v":""},null,{"$f":"IF(B446=\"\",\"\",VLOOKUP(B446,'Spisak FSS izložbi'!$B$6:$H$318,6,FALSE))","v":""},{"$f":"IF(B446=\"\",\"\",VLOOKUP(B446,'Spisak FSS izložbi'!$B$6:$H$318,5,FALSE))","v":""},null,null,null,null,null,0,0,{"$f":"IF(B446=\"\",1,VLOOKUP(B446,'Spisak FSS izložbi'!$B$6:$H$318,7,FALSE))","v":1},0]
[433,null,{"$f":"IF(B447=\"\",\"\",VLOOKUP(B447,'Spisak FSS izložbi'!$B$6:$H$318,3,FALSE))","v":""},null,{"$f":"IF(B447=\"\",\"\",VLOOKUP(B447,'Spisak FSS izložbi'!$B$6:$H$318,6,FALSE))","v":""},{"$f":"IF(B447=\"\",\"\",VLOOKUP(B447,'Spisak FSS izložbi'!$B$6:$H$318,5,FALSE))","v":""},null,null,null,null,null,0,0,{"$f":"IF(B447=\"\",1,VLOOKUP(B447,'Spisak FSS izložbi'!$B$6:$H$318,7,FALSE))","v":1},0]
[434,null,{"$f":"IF(B448=\"\",\"\",VLOOKUP(B448,'Spisak FSS izložbi'!$B$6:$H$318,3,FALSE))","v":""},null,{"$f":"IF(B448=\"\",\"\",VLOOKUP(B448,'Spisak FSS izložbi'!$B$6:$H$318,6,FALSE))","v":""},{"$f":"IF(B448=\"\",\"\",VLOOKUP(B448,'Spisak FSS izložbi'!$B$6:$H$318,5,FALSE))","v":""},null,null,null,null,null,0,0,{"$f":"IF(B448=\"\",1,VLOOKUP(B448,'Spisak FSS izložbi'!$B$6:$H$318,7,FALSE))","v":1},0]
[435,null,{"$f":"IF(B449=\"\",\"\",VLOOKUP(B449,'Spisak FSS izložbi'!$B$6:$H$318,3,FALSE))","v":""},null,{"$f":"IF(B449=\"\",\"\",VLOOKUP(B449,'Spisak FSS izložbi'!$B$6:$H$318,6,FALSE))","v":""},{"$f":"IF(B449=\"\",\"\",VLOOKUP(B449,'Spisak FSS izložbi'!$B$6:$H$318,5,FALSE))","v":""},null,null,null,null,null,0,0,{"$f":"IF(B449=\"\",1,VLOOKUP(B449,'Spisak FSS izložbi'!$B$6:$H$318,7,FALSE))","v":1},0]
[436,null,{"$f":"IF(B450=\"\",\"\",VLOOKUP(B450,'Spisak FSS izložbi'!$B$6:$H$318,3,FALSE))","v":""},null,{"$f":"IF(B450=\"\",\"\",VLOOKUP(B450,'Spisak FSS izložbi'!$B$6:$H$318,6,FALSE))","v":""},{"$f":"IF(B450=\"\",\"\",VLOOKUP(B450,'Spisak FSS izložbi'!$B$6:$H$318,5,FALSE))","v":""},null,null,null,null,null,0,0,{"$f":"IF(B450=\"\",1,VLOOKUP(B450,'Spisak FSS izložbi'!$B$6:$H$318,7,FALSE))","v":1},0]
[437,null,{"$f":"IF(B451=\"\",\"\",VLOOKUP(B451,'Spisak FSS izložbi'!$B$6:$H$318,3,FALSE))","v":""},null,{"$f":"IF(B451=\"\",\"\",VLOOKUP(B451,'Spisak FSS izložbi'!$B$6:$H$318,6,FALSE))","v":""},{"$f":"IF(B451=\"\",\"\",VLOOKUP(B451,'Spisak FSS izložbi'!$B$6:$H$318,5,FALSE))","v":""},null,null,null,null,null,0,0,{"$f":"IF(B451=\"\",1,VLOOKUP(B451,'Spisak FSS izložbi'!$B$6:$H$318,7,FALSE))","v":1},0]
[438,null,{"$f":"IF(B452=\"\",\"\",VLOOKUP(B452,'Spisak FSS izložbi'!$B$6:$H$318,3,FALSE))","v":""},null,{"$f":"IF(B452=\"\",\"\",VLOOKUP(B452,'Spisak FSS izložbi'!$B$6:$H$318,6,FALSE))","v":""},{"$f":"IF(B452=\"\",\"\",VLOOKUP(B452,'Spisak FSS izložbi'!$B$6:$H$318,5,FALSE))","v":""},null,null,null,null,null,0,0,{"$f":"IF(B452=\"\",1,VLOOKUP(B452,'Spisak FSS izložbi'!$B$6:$H$318,7,FALSE))","v":1},0]
[439,null,{"$f":"IF(B453=\"\",\"\",VLOOKUP(B453,'Spisak FSS izložbi'!$B$6:$H$318,3,FALSE))","v":""},null,{"$f":"IF(B453=\"\",\"\",VLOOKUP(B453,'Spisak FSS izložbi'!$B$6:$H$318,6,FALSE))","v":""},{"$f":"IF(B453=\"\",\"\",VLOOKUP(B453,'Spisak FSS izložbi'!$B$6:$H$318,5,FALSE))","v":""},null,null,null,null,null,0,0,{"$f":"IF(B453=\"\",1,VLOOKUP(B453,'Spisak FSS izložbi'!$B$6:$H$318,7,FALSE))","v":1},0]
[440,null,{"$f":"IF(B454=\"\",\"\",VLOOKUP(B454,'Spisak FSS izložbi'!$B$6:$H$318,3,FALSE))","v":""},null,{"$f":"IF(B454=\"\",\"\",VLOOKUP(B454,'Spisak FSS izložbi'!$B$6:$H$318,6,FALSE))","v":""},{"$f":"IF(B454=\"\",\"\",VLOOKUP(B454,'Spisak FSS izložbi'!$B$6:$H$318,5,FALSE))","v":""},null,null,null,null,null,0,0,{"$f":"IF(B454=\"\",1,VLOOKUP(B454,'Spisak FSS izložbi'!$B$6:$H$318,7,FALSE))","v":1},0]
[441,null,{"$f":"IF(B455=\"\",\"\",VLOOKUP(B455,'Spisak FSS izložbi'!$B$6:$H$318,3,FALSE))","v":""},null,{"$f":"IF(B455=\"\",\"\",VLOOKUP(B455,'Spisak FSS izložbi'!$B$6:$H$318,6,FALSE))","v":""},{"$f":"IF(B455=\"\",\"\",VLOOKUP(B455,'Spisak FSS izložbi'!$B$6:$H$318,5,FALSE))","v":""},null,null,null,null,null,0,0,{"$f":"IF(B455=\"\",1,VLOOKUP(B455,'Spisak FSS izložbi'!$B$6:$H$318,7,FALSE))","v":1},0]
[442,null,{"$f":"IF(B456=\"\",\"\",VLOOKUP(B456,'Spisak FSS izložbi'!$B$6:$H$318,3,FALSE))","v":""},null,{"$f":"IF(B456=\"\",\"\",VLOOKUP(B456,'Spisak FSS izložbi'!$B$6:$H$318,6,FALSE))","v":""},{"$f":"IF(B456=\"\",\"\",VLOOKUP(B456,'Spisak FSS izložbi'!$B$6:$H$318,5,FALSE))","v":""},null,null,null,null,null,0,0,{"$f":"IF(B456=\"\",1,VLOOKUP(B456,'Spisak FSS izložbi'!$B$6:$H$318,7,FALSE))","v":1},0]
[443,null,{"$f":"IF(B457=\"\",\"\",VLOOKUP(B457,'Spisak FSS izložbi'!$B$6:$H$318,3,FALSE))","v":""},null,{"$f":"IF(B457=\"\",\"\",VLOOKUP(B457,'Spisak FSS izložbi'!$B$6:$H$318,6,FALSE))","v":""},{"$f":"IF(B457=\"\",\"\",VLOOKUP(B457,'Spisak FSS izložbi'!$B$6:$H$318,5,FALSE))","v":""},null,null,null,null,null,0,0,{"$f":"IF(B457=\"\",1,VLOOKUP(B457,'Spisak FSS izložbi'!$B$6:$H$318,7,FALSE))","v":1},0]
[444,null,{"$f":"IF(B458=\"\",\"\",VLOOKUP(B458,'Spisak FSS izložbi'!$B$6:$H$318,3,FALSE))","v":""},null,{"$f":"IF(B458=\"\",\"\",VLOOKUP(B458,'Spisak FSS izložbi'!$B$6:$H$318,6,FALSE))","v":""},{"$f":"IF(B458=\"\",\"\",VLOOKUP(B458,'Spisak FSS izložbi'!$B$6:$H$318,5,FALSE))","v":""},null,null,null,null,null,0,0,{"$f":"IF(B458=\"\",1,VLOOKUP(B458,'Spisak FSS izložbi'!$B$6:$H$318,7,FALSE))","v":1},0]
[445,null,{"$f":"IF(B459=\"\",\"\",VLOOKUP(B459,'Spisak FSS izložbi'!$B$6:$H$318,3,FALSE))","v":""},null,{"$f":"IF(B459=\"\",\"\",VLOOKUP(B459,'Spisak FSS izložbi'!$B$6:$H$318,6,FALSE))","v":""},{"$f":"IF(B459=\"\",\"\",VLOOKUP(B459,'Spisak FSS izložbi'!$B$6:$H$318,5,FALSE))","v":""},null,null,null,null,null,0,0,{"$f":"IF(B459=\"\",1,VLOOKUP(B459,'Spisak FSS izložbi'!$B$6:$H$318,7,FALSE))","v":1},0]
[446,null,{"$f":"IF(B460=\"\",\"\",VLOOKUP(B460,'Spisak FSS izložbi'!$B$6:$H$318,3,FALSE))","v":""},null,{"$f":"IF(B460=\"\",\"\",VLOOKUP(B460,'Spisak FSS izložbi'!$B$6:$H$318,6,FALSE))","v":""},{"$f":"IF(B460=\"\",\"\",VLOOKUP(B460,'Spisak FSS izložbi'!$B$6:$H$318,5,FALSE))","v":""},null,null,null,null,null,0,0,{"$f":"IF(B460=\"\",1,VLOOKUP(B460,'Spisak FSS izložbi'!$B$6:$H$318,7,FALSE))","v":1},0]
[447,null,{"$f":"IF(B461=\"\",\"\",VLOOKUP(B461,'Spisak FSS izložbi'!$B$6:$H$318,3,FALSE))","v":""},null,{"$f":"IF(B461=\"\",\"\",VLOOKUP(B461,'Spisak FSS izložbi'!$B$6:$H$318,6,FALSE))","v":""},{"$f":"IF(B461=\"\",\"\",VLOOKUP(B461,'Spisak FSS izložbi'!$B$6:$H$318,5,FALSE))","v":""},null,null,null,null,null,0,0,{"$f":"IF(B461=\"\",1,VLOOKUP(B461,'Spisak FSS izložbi'!$B$6:$H$318,7,FALSE))","v":1},0]
[448,null,{"$f":"IF(B462=\"\",\"\",VLOOKUP(B462,'Spisak FSS izložbi'!$B$6:$H$318,3,FALSE))","v":""},null,{"$f":"IF(B462=\"\",\"\",VLOOKUP(B462,'Spisak FSS izložbi'!$B$6:$H$318,6,FALSE))","v":""},{"$f":"IF(B462=\"\",\"\",VLOOKUP(B462,'Spisak FSS izložbi'!$B$6:$H$318,5,FALSE))","v":""},null,null,null,null,null,0,0,{"$f":"IF(B462=\"\",1,VLOOKUP(B462,'Spisak FSS izložbi'!$B$6:$H$318,7,FALSE))","v":1},0]
[449,null,{"$f":"IF(B463=\"\",\"\",VLOOKUP(B463,'Spisak FSS izložbi'!$B$6:$H$318,3,FALSE))","v":""},null,{"$f":"IF(B463=\"\",\"\",VLOOKUP(B463,'Spisak FSS izložbi'!$B$6:$H$318,6,FALSE))","v":""},{"$f":"IF(B463=\"\",\"\",VLOOKUP(B463,'Spisak FSS izložbi'!$B$6:$H$318,5,FALSE))","v":""},null,null,null,null,null,0,0,{"$f":"IF(B463=\"\",1,VLOOKUP(B463,'Spisak FSS izložbi'!$B$6:$H$318,7,FALSE))","v":1},0]
[450,null,{"$f":"IF(B464=\"\",\"\",VLOOKUP(B464,'Spisak FSS izložbi'!$B$6:$H$318,3,FALSE))","v":""},null,{"$f":"IF(B464=\"\",\"\",VLOOKUP(B464,'Spisak FSS izložbi'!$B$6:$H$318,6,FALSE))","v":""},{"$f":"IF(B464=\"\",\"\",VLOOKUP(B464,'Spisak FSS izložbi'!$B$6:$H$318,5,FALSE))","v":""},null,null,null,null,null,{"$f":"IF(E464=$H$1,$H$6,IF(E464=$I$1,$I$6,IF(E464=$J$1,$J$6,IF(E464=$K$1,$K$6,IF(E464=$L$1,$L$6,IF(E464=$M$1,$M$6,IF(E464=$N$1,$N$6,IF(E464=$O$1,$O$6,0))))))))","v":0},{"$f":"IF(OR(E464=\"\",K464=\"\")=TRUE,0,VLOOKUP(K464,$G$1:$O$7,MATCH(E464,$G$1:$O$1,0),FALSE))","v":0},{"$f":"IF(B464=\"\",1,VLOOKUP(B464,'Spisak FSS izložbi'!$B$6:$H$318,7,FALSE))","v":1},{"$f":"(L464+M464)*N464","v":0}]
[451,null,{"$f":"IF(B465=\"\",\"\",VLOOKUP(B465,'Spisak FSS izložbi'!$B$6:$H$318,3,FALSE))","v":""},null,{"$f":"IF(B465=\"\",\"\",VLOOKUP(B465,'Spisak FSS izložbi'!$B$6:$H$318,6,FALSE))","v":""},{"$f":"IF(B465=\"\",\"\",VLOOKUP(B465,'Spisak FSS izložbi'!$B$6:$H$318,5,FALSE))","v":""},null,null,null,null,null,0,0,{"$f":"IF(B465=\"\",1,VLOOKUP(B465,'Spisak FSS izložbi'!$B$6:$H$318,7,FALSE))","v":1},0]
[452,null,{"$f":"IF(B466=\"\",\"\",VLOOKUP(B466,'Spisak FSS izložbi'!$B$6:$H$318,3,FALSE))","v":""},null,{"$f":"IF(B466=\"\",\"\",VLOOKUP(B466,'Spisak FSS izložbi'!$B$6:$H$318,6,FALSE))","v":""},{"$f":"IF(B466=\"\",\"\",VLOOKUP(B466,'Spisak FSS izložbi'!$B$6:$H$318,5,FALSE))","v":""},null,null,null,null,null,0,0,{"$f":"IF(B466=\"\",1,VLOOKUP(B466,'Spisak FSS izložbi'!$B$6:$H$318,7,FALSE))","v":1},0]
[453,null,{"$f":"IF(B467=\"\",\"\",VLOOKUP(B467,'Spisak FSS izložbi'!$B$6:$H$318,3,FALSE))","v":""},null,{"$f":"IF(B467=\"\",\"\",VLOOKUP(B467,'Spisak FSS izložbi'!$B$6:$H$318,6,FALSE))","v":""},{"$f":"IF(B467=\"\",\"\",VLOOKUP(B467,'Spisak FSS izložbi'!$B$6:$H$318,5,FALSE))","v":""},null,null,null,null,null,0,0,{"$f":"IF(B467=\"\",1,VLOOKUP(B467,'Spisak FSS izložbi'!$B$6:$H$318,7,FALSE))","v":1},0]
[454,null,{"$f":"IF(B468=\"\",\"\",VLOOKUP(B468,'Spisak FSS izložbi'!$B$6:$H$318,3,FALSE))","v":""},null,{"$f":"IF(B468=\"\",\"\",VLOOKUP(B468,'Spisak FSS izložbi'!$B$6:$H$318,6,FALSE))","v":""},{"$f":"IF(B468=\"\",\"\",VLOOKUP(B468,'Spisak FSS izložbi'!$B$6:$H$318,5,FALSE))","v":""},null,null,null,null,null,0,0,{"$f":"IF(B468=\"\",1,VLOOKUP(B468,'Spisak FSS izložbi'!$B$6:$H$318,7,FALSE))","v":1},0]
[455,null,{"$f":"IF(B469=\"\",\"\",VLOOKUP(B469,'Spisak FSS izložbi'!$B$6:$H$318,3,FALSE))","v":""},null,{"$f":"IF(B469=\"\",\"\",VLOOKUP(B469,'Spisak FSS izložbi'!$B$6:$H$318,6,FALSE))","v":""},{"$f":"IF(B469=\"\",\"\",VLOOKUP(B469,'Spisak FSS izložbi'!$B$6:$H$318,5,FALSE))","v":""},null,null,null,null,null,0,0,{"$f":"IF(B469=\"\",1,VLOOKUP(B469,'Spisak FSS izložbi'!$B$6:$H$318,7,FALSE))","v":1},0]
[456,null,{"$f":"IF(B470=\"\",\"\",VLOOKUP(B470,'Spisak FSS izložbi'!$B$6:$H$318,3,FALSE))","v":""},null,{"$f":"IF(B470=\"\",\"\",VLOOKUP(B470,'Spisak FSS izložbi'!$B$6:$H$318,6,FALSE))","v":""},{"$f":"IF(B470=\"\",\"\",VLOOKUP(B470,'Spisak FSS izložbi'!$B$6:$H$318,5,FALSE))","v":""},null,null,null,null,null,0,0,{"$f":"IF(B470=\"\",1,VLOOKUP(B470,'Spisak FSS izložbi'!$B$6:$H$318,7,FALSE))","v":1},0]
[457,null,{"$f":"IF(B471=\"\",\"\",VLOOKUP(B471,'Spisak FSS izložbi'!$B$6:$H$318,3,FALSE))","v":""},null,{"$f":"IF(B471=\"\",\"\",VLOOKUP(B471,'Spisak FSS izložbi'!$B$6:$H$318,6,FALSE))","v":""},{"$f":"IF(B471=\"\",\"\",VLOOKUP(B471,'Spisak FSS izložbi'!$B$6:$H$318,5,FALSE))","v":""},null,null,null,null,null,0,0,{"$f":"IF(B471=\"\",1,VLOOKUP(B471,'Spisak FSS izložbi'!$B$6:$H$318,7,FALSE))","v":1},0]
[458,null,{"$f":"IF(B472=\"\",\"\",VLOOKUP(B472,'Spisak FSS izložbi'!$B$6:$H$318,3,FALSE))","v":""},null,{"$f":"IF(B472=\"\",\"\",VLOOKUP(B472,'Spisak FSS izložbi'!$B$6:$H$318,6,FALSE))","v":""},{"$f":"IF(B472=\"\",\"\",VLOOKUP(B472,'Spisak FSS izložbi'!$B$6:$H$318,5,FALSE))","v":""},null,null,null,null,null,0,0,{"$f":"IF(B472=\"\",1,VLOOKUP(B472,'Spisak FSS izložbi'!$B$6:$H$318,7,FALSE))","v":1},0]
[459,null,{"$f":"IF(B473=\"\",\"\",VLOOKUP(B473,'Spisak FSS izložbi'!$B$6:$H$318,3,FALSE))","v":""},null,{"$f":"IF(B473=\"\",\"\",VLOOKUP(B473,'Spisak FSS izložbi'!$B$6:$H$318,6,FALSE))","v":""},{"$f":"IF(B473=\"\",\"\",VLOOKUP(B473,'Spisak FSS izložbi'!$B$6:$H$318,5,FALSE))","v":""},null,null,null,null,null,0,0,{"$f":"IF(B473=\"\",1,VLOOKUP(B473,'Spisak FSS izložbi'!$B$6:$H$318,7,FALSE))","v":1},0]
[460,null,{"$f":"IF(B474=\"\",\"\",VLOOKUP(B474,'Spisak FSS izložbi'!$B$6:$H$318,3,FALSE))","v":""},null,{"$f":"IF(B474=\"\",\"\",VLOOKUP(B474,'Spisak FSS izložbi'!$B$6:$H$318,6,FALSE))","v":""},{"$f":"IF(B474=\"\",\"\",VLOOKUP(B474,'Spisak FSS izložbi'!$B$6:$H$318,5,FALSE))","v":""},null,null,null,null,null,0,0,{"$f":"IF(B474=\"\",1,VLOOKUP(B474,'Spisak FSS izložbi'!$B$6:$H$318,7,FALSE))","v":1},0]
[461,null,{"$f":"IF(B475=\"\",\"\",VLOOKUP(B475,'Spisak FSS izložbi'!$B$6:$H$318,3,FALSE))","v":""},null,{"$f":"IF(B475=\"\",\"\",VLOOKUP(B475,'Spisak FSS izložbi'!$B$6:$H$318,6,FALSE))","v":""},{"$f":"IF(B475=\"\",\"\",VLOOKUP(B475,'Spisak FSS izložbi'!$B$6:$H$318,5,FALSE))","v":""},null,null,null,null,null,0,0,{"$f":"IF(B475=\"\",1,VLOOKUP(B475,'Spisak FSS izložbi'!$B$6:$H$318,7,FALSE))","v":1},0]
[462,null,{"$f":"IF(B476=\"\",\"\",VLOOKUP(B476,'Spisak FSS izložbi'!$B$6:$H$318,3,FALSE))","v":""},null,{"$f":"IF(B476=\"\",\"\",VLOOKUP(B476,'Spisak FSS izložbi'!$B$6:$H$318,6,FALSE))","v":""},{"$f":"IF(B476=\"\",\"\",VLOOKUP(B476,'Spisak FSS izložbi'!$B$6:$H$318,5,FALSE))","v":""},null,null,null,null,null,0,0,{"$f":"IF(B476=\"\",1,VLOOKUP(B476,'Spisak FSS izložbi'!$B$6:$H$318,7,FALSE))","v":1},0]
[463,null,{"$f":"IF(B477=\"\",\"\",VLOOKUP(B477,'Spisak FSS izložbi'!$B$6:$H$318,3,FALSE))","v":""},null,{"$f":"IF(B477=\"\",\"\",VLOOKUP(B477,'Spisak FSS izložbi'!$B$6:$H$318,6,FALSE))","v":""},{"$f":"IF(B477=\"\",\"\",VLOOKUP(B477,'Spisak FSS izložbi'!$B$6:$H$318,5,FALSE))","v":""},null,null,null,null,null,0,0,{"$f":"IF(B477=\"\",1,VLOOKUP(B477,'Spisak FSS izložbi'!$B$6:$H$318,7,FALSE))","v":1},0]
[464,null,{"$f":"IF(B478=\"\",\"\",VLOOKUP(B478,'Spisak FSS izložbi'!$B$6:$H$318,3,FALSE))","v":""},null,{"$f":"IF(B478=\"\",\"\",VLOOKUP(B478,'Spisak FSS izložbi'!$B$6:$H$318,6,FALSE))","v":""},{"$f":"IF(B478=\"\",\"\",VLOOKUP(B478,'Spisak FSS izložbi'!$B$6:$H$318,5,FALSE))","v":""},null,null,null,null,null,0,0,{"$f":"IF(B478=\"\",1,VLOOKUP(B478,'Spisak FSS izložbi'!$B$6:$H$318,7,FALSE))","v":1},0]
[465,null,{"$f":"IF(B479=\"\",\"\",VLOOKUP(B479,'Spisak FSS izložbi'!$B$6:$H$318,3,FALSE))","v":""},null,{"$f":"IF(B479=\"\",\"\",VLOOKUP(B479,'Spisak FSS izložbi'!$B$6:$H$318,6,FALSE))","v":""},{"$f":"IF(B479=\"\",\"\",VLOOKUP(B479,'Spisak FSS izložbi'!$B$6:$H$318,5,FALSE))","v":""},null,null,null,null,null,0,0,{"$f":"IF(B479=\"\",1,VLOOKUP(B479,'Spisak FSS izložbi'!$B$6:$H$318,7,FALSE))","v":1},0]
[466,null,{"$f":"IF(B480=\"\",\"\",VLOOKUP(B480,'Spisak FSS izložbi'!$B$6:$H$318,3,FALSE))","v":""},null,{"$f":"IF(B480=\"\",\"\",VLOOKUP(B480,'Spisak FSS izložbi'!$B$6:$H$318,6,FALSE))","v":""},{"$f":"IF(B480=\"\",\"\",VLOOKUP(B480,'Spisak FSS izložbi'!$B$6:$H$318,5,FALSE))","v":""},null,null,null,null,null,0,0,{"$f":"IF(B480=\"\",1,VLOOKUP(B480,'Spisak FSS izložbi'!$B$6:$H$318,7,FALSE))","v":1},0]
[467,null,{"$f":"IF(B481=\"\",\"\",VLOOKUP(B481,'Spisak FSS izložbi'!$B$6:$H$318,3,FALSE))","v":""},null,{"$f":"IF(B481=\"\",\"\",VLOOKUP(B481,'Spisak FSS izložbi'!$B$6:$H$318,6,FALSE))","v":""},{"$f":"IF(B481=\"\",\"\",VLOOKUP(B481,'Spisak FSS izložbi'!$B$6:$H$318,5,FALSE))","v":""},null,null,null,null,null,0,0,{"$f":"IF(B481=\"\",1,VLOOKUP(B481,'Spisak FSS izložbi'!$B$6:$H$318,7,FALSE))","v":1},0]
[468,null,{"$f":"IF(B482=\"\",\"\",VLOOKUP(B482,'Spisak FSS izložbi'!$B$6:$H$318,3,FALSE))","v":""},null,{"$f":"IF(B482=\"\",\"\",VLOOKUP(B482,'Spisak FSS izložbi'!$B$6:$H$318,6,FALSE))","v":""},{"$f":"IF(B482=\"\",\"\",VLOOKUP(B482,'Spisak FSS izložbi'!$B$6:$H$318,5,FALSE))","v":""},null,null,null,null,null,0,0,{"$f":"IF(B482=\"\",1,VLOOKUP(B482,'Spisak FSS izložbi'!$B$6:$H$318,7,FALSE))","v":1},0]
[469,null,{"$f":"IF(B483=\"\",\"\",VLOOKUP(B483,'Spisak FSS izložbi'!$B$6:$H$318,3,FALSE))","v":""},null,{"$f":"IF(B483=\"\",\"\",VLOOKUP(B483,'Spisak FSS izložbi'!$B$6:$H$318,6,FALSE))","v":""},{"$f":"IF(B483=\"\",\"\",VLOOKUP(B483,'Spisak FSS izložbi'!$B$6:$H$318,5,FALSE))","v":""},null,null,null,null,null,0,0,{"$f":"IF(B483=\"\",1,VLOOKUP(B483,'Spisak FSS izložbi'!$B$6:$H$318,7,FALSE))","v":1},0]
[470,null,{"$f":"IF(B484=\"\",\"\",VLOOKUP(B484,'Spisak FSS izložbi'!$B$6:$H$318,3,FALSE))","v":""},null,{"$f":"IF(B484=\"\",\"\",VLOOKUP(B484,'Spisak FSS izložbi'!$B$6:$H$318,6,FALSE))","v":""},{"$f":"IF(B484=\"\",\"\",VLOOKUP(B484,'Spisak FSS izložbi'!$B$6:$H$318,5,FALSE))","v":""},null,null,null,null,null,0,0,{"$f":"IF(B484=\"\",1,VLOOKUP(B484,'Spisak FSS izložbi'!$B$6:$H$318,7,FALSE))","v":1},0]
[471,null,{"$f":"IF(B485=\"\",\"\",VLOOKUP(B485,'Spisak FSS izložbi'!$B$6:$H$318,3,FALSE))","v":""},null,{"$f":"IF(B485=\"\",\"\",VLOOKUP(B485,'Spisak FSS izložbi'!$B$6:$H$318,6,FALSE))","v":""},{"$f":"IF(B485=\"\",\"\",VLOOKUP(B485,'Spisak FSS izložbi'!$B$6:$H$318,5,FALSE))","v":""},null,null,null,null,null,0,0,{"$f":"IF(B485=\"\",1,VLOOKUP(B485,'Spisak FSS izložbi'!$B$6:$H$318,7,FALSE))","v":1},0]
[472,null,{"$f":"IF(B486=\"\",\"\",VLOOKUP(B486,'Spisak FSS izložbi'!$B$6:$H$318,3,FALSE))","v":""},null,{"$f":"IF(B486=\"\",\"\",VLOOKUP(B486,'Spisak FSS izložbi'!$B$6:$H$318,6,FALSE))","v":""},{"$f":"IF(B486=\"\",\"\",VLOOKUP(B486,'Spisak FSS izložbi'!$B$6:$H$318,5,FALSE))","v":""},null,null,null,null,null,0,0,{"$f":"IF(B486=\"\",1,VLOOKUP(B486,'Spisak FSS izložbi'!$B$6:$H$318,7,FALSE))","v":1},0]
[473,null,{"$f":"IF(B487=\"\",\"\",VLOOKUP(B487,'Spisak FSS izložbi'!$B$6:$H$318,3,FALSE))","v":""},null,{"$f":"IF(B487=\"\",\"\",VLOOKUP(B487,'Spisak FSS izložbi'!$B$6:$H$318,6,FALSE))","v":""},{"$f":"IF(B487=\"\",\"\",VLOOKUP(B487,'Spisak FSS izložbi'!$B$6:$H$318,5,FALSE))","v":""},null,null,null,null,null,0,0,{"$f":"IF(B487=\"\",1,VLOOKUP(B487,'Spisak FSS izložbi'!$B$6:$H$318,7,FALSE))","v":1},0]
[474,null,{"$f":"IF(B488=\"\",\"\",VLOOKUP(B488,'Spisak FSS izložbi'!$B$6:$H$318,3,FALSE))","v":""},null,{"$f":"IF(B488=\"\",\"\",VLOOKUP(B488,'Spisak FSS izložbi'!$B$6:$H$318,6,FALSE))","v":""},{"$f":"IF(B488=\"\",\"\",VLOOKUP(B488,'Spisak FSS izložbi'!$B$6:$H$318,5,FALSE))","v":""},null,null,null,null,null,0,0,{"$f":"IF(B488=\"\",1,VLOOKUP(B488,'Spisak FSS izložbi'!$B$6:$H$318,7,FALSE))","v":1},0]
[475,null,{"$f":"IF(B489=\"\",\"\",VLOOKUP(B489,'Spisak FSS izložbi'!$B$6:$H$318,3,FALSE))","v":""},null,{"$f":"IF(B489=\"\",\"\",VLOOKUP(B489,'Spisak FSS izložbi'!$B$6:$H$318,6,FALSE))","v":""},{"$f":"IF(B489=\"\",\"\",VLOOKUP(B489,'Spisak FSS izložbi'!$B$6:$H$318,5,FALSE))","v":""},null,null,null,null,null,0,0,{"$f":"IF(B489=\"\",1,VLOOKUP(B489,'Spisak FSS izložbi'!$B$6:$H$318,7,FALSE))","v":1},0]
[476,null,{"$f":"IF(B490=\"\",\"\",VLOOKUP(B490,'Spisak FSS izložbi'!$B$6:$H$318,3,FALSE))","v":""},null,{"$f":"IF(B490=\"\",\"\",VLOOKUP(B490,'Spisak FSS izložbi'!$B$6:$H$318,6,FALSE))","v":""},{"$f":"IF(B490=\"\",\"\",VLOOKUP(B490,'Spisak FSS izložbi'!$B$6:$H$318,5,FALSE))","v":""},null,null,null,null,null,0,0,{"$f":"IF(B490=\"\",1,VLOOKUP(B490,'Spisak FSS izložbi'!$B$6:$H$318,7,FALSE))","v":1},0]
[477,null,{"$f":"IF(B491=\"\",\"\",VLOOKUP(B491,'Spisak FSS izložbi'!$B$6:$H$318,3,FALSE))","v":""},null,{"$f":"IF(B491=\"\",\"\",VLOOKUP(B491,'Spisak FSS izložbi'!$B$6:$H$318,6,FALSE))","v":""},{"$f":"IF(B491=\"\",\"\",VLOOKUP(B491,'Spisak FSS izložbi'!$B$6:$H$318,5,FALSE))","v":""},null,null,null,null,null,0,0,{"$f":"IF(B491=\"\",1,VLOOKUP(B491,'Spisak FSS izložbi'!$B$6:$H$318,7,FALSE))","v":1},0]
[478,null,{"$f":"IF(B492=\"\",\"\",VLOOKUP(B492,'Spisak FSS izložbi'!$B$6:$H$318,3,FALSE))","v":""},null,{"$f":"IF(B492=\"\",\"\",VLOOKUP(B492,'Spisak FSS izložbi'!$B$6:$H$318,6,FALSE))","v":""},{"$f":"IF(B492=\"\",\"\",VLOOKUP(B492,'Spisak FSS izložbi'!$B$6:$H$318,5,FALSE))","v":""},null,null,null,null,null,0,0,{"$f":"IF(B492=\"\",1,VLOOKUP(B492,'Spisak FSS izložbi'!$B$6:$H$318,7,FALSE))","v":1},0]
[479,null,{"$f":"IF(B493=\"\",\"\",VLOOKUP(B493,'Spisak FSS izložbi'!$B$6:$H$318,3,FALSE))","v":""},null,{"$f":"IF(B493=\"\",\"\",VLOOKUP(B493,'Spisak FSS izložbi'!$B$6:$H$318,6,FALSE))","v":""},{"$f":"IF(B493=\"\",\"\",VLOOKUP(B493,'Spisak FSS izložbi'!$B$6:$H$318,5,FALSE))","v":""},null,null,null,null,null,0,0,{"$f":"IF(B493=\"\",1,VLOOKUP(B493,'Spisak FSS izložbi'!$B$6:$H$318,7,FALSE))","v":1},0]
[480,null,{"$f":"IF(B494=\"\",\"\",VLOOKUP(B494,'Spisak FSS izložbi'!$B$6:$H$318,3,FALSE))","v":""},null,{"$f":"IF(B494=\"\",\"\",VLOOKUP(B494,'Spisak FSS izložbi'!$B$6:$H$318,6,FALSE))","v":""},{"$f":"IF(B494=\"\",\"\",VLOOKUP(B494,'Spisak FSS izložbi'!$B$6:$H$318,5,FALSE))","v":""},null,null,null,null,null,0,0,{"$f":"IF(B494=\"\",1,VLOOKUP(B494,'Spisak FSS izložbi'!$B$6:$H$318,7,FALSE))","v":1},0]
[481,null,{"$f":"IF(B495=\"\",\"\",VLOOKUP(B495,'Spisak FSS izložbi'!$B$6:$H$318,3,FALSE))","v":""},null,{"$f":"IF(B495=\"\",\"\",VLOOKUP(B495,'Spisak FSS izložbi'!$B$6:$H$318,6,FALSE))","v":""},{"$f":"IF(B495=\"\",\"\",VLOOKUP(B495,'Spisak FSS izložbi'!$B$6:$H$318,5,FALSE))","v":""},null,null,null,null,null,0,0,{"$f":"IF(B495=\"\",1,VLOOKUP(B495,'Spisak FSS izložbi'!$B$6:$H$318,7,FALSE))","v":1},0]
[482,null,{"$f":"IF(B496=\"\",\"\",VLOOKUP(B496,'Spisak FSS izložbi'!$B$6:$H$318,3,FALSE))","v":""},null,{"$f":"IF(B496=\"\",\"\",VLOOKUP(B496,'Spisak FSS izložbi'!$B$6:$H$318,6,FALSE))","v":""},{"$f":"IF(B496=\"\",\"\",VLOOKUP(B496,'Spisak FSS izložbi'!$B$6:$H$318,5,FALSE))","v":""},null,null,null,null,null,0,0,{"$f":"IF(B496=\"\",1,VLOOKUP(B496,'Spisak FSS izložbi'!$B$6:$H$318,7,FALSE))","v":1},0]
[483,null,{"$f":"IF(B497=\"\",\"\",VLOOKUP(B497,'Spisak FSS izložbi'!$B$6:$H$318,3,FALSE))","v":""},null,{"$f":"IF(B497=\"\",\"\",VLOOKUP(B497,'Spisak FSS izložbi'!$B$6:$H$318,6,FALSE))","v":""},{"$f":"IF(B497=\"\",\"\",VLOOKUP(B497,'Spisak FSS izložbi'!$B$6:$H$318,5,FALSE))","v":""},null,null,null,null,null,0,0,{"$f":"IF(B497=\"\",1,VLOOKUP(B497,'Spisak FSS izložbi'!$B$6:$H$318,7,FALSE))","v":1},0]
[484,null,{"$f":"IF(B498=\"\",\"\",VLOOKUP(B498,'Spisak FSS izložbi'!$B$6:$H$318,3,FALSE))","v":""},null,{"$f":"IF(B498=\"\",\"\",VLOOKUP(B498,'Spisak FSS izložbi'!$B$6:$H$318,6,FALSE))","v":""},{"$f":"IF(B498=\"\",\"\",VLOOKUP(B498,'Spisak FSS izložbi'!$B$6:$H$318,5,FALSE))","v":""},null,null,null,null,null,0,0,{"$f":"IF(B498=\"\",1,VLOOKUP(B498,'Spisak FSS izložbi'!$B$6:$H$318,7,FALSE))","v":1},0]
[485,null,{"$f":"IF(B499=\"\",\"\",VLOOKUP(B499,'Spisak FSS izložbi'!$B$6:$H$318,3,FALSE))","v":""},null,{"$f":"IF(B499=\"\",\"\",VLOOKUP(B499,'Spisak FSS izložbi'!$B$6:$H$318,6,FALSE))","v":""},{"$f":"IF(B499=\"\",\"\",VLOOKUP(B499,'Spisak FSS izložbi'!$B$6:$H$318,5,FALSE))","v":""},null,null,null,null,null,0,0,{"$f":"IF(B499=\"\",1,VLOOKUP(B499,'Spisak FSS izložbi'!$B$6:$H$318,7,FALSE))","v":1},0]
[486,null,{"$f":"IF(B500=\"\",\"\",VLOOKUP(B500,'Spisak FSS izložbi'!$B$6:$H$318,3,FALSE))","v":""},null,{"$f":"IF(B500=\"\",\"\",VLOOKUP(B500,'Spisak FSS izložbi'!$B$6:$H$318,6,FALSE))","v":""},{"$f":"IF(B500=\"\",\"\",VLOOKUP(B500,'Spisak FSS izložbi'!$B$6:$H$318,5,FALSE))","v":""},null,null,null,null,null,0,0,{"$f":"IF(B500=\"\",1,VLOOKUP(B500,'Spisak FSS izložbi'!$B$6:$H$318,7,FALSE))","v":1},0]
[487,null,{"$f":"IF(B501=\"\",\"\",VLOOKUP(B501,'Spisak FSS izložbi'!$B$6:$H$318,3,FALSE))","v":""},null,{"$f":"IF(B501=\"\",\"\",VLOOKUP(B501,'Spisak FSS izložbi'!$B$6:$H$318,6,FALSE))","v":""},{"$f":"IF(B501=\"\",\"\",VLOOKUP(B501,'Spisak FSS izložbi'!$B$6:$H$318,5,FALSE))","v":""},null,null,null,null,null,0,0,{"$f":"IF(B501=\"\",1,VLOOKUP(B501,'Spisak FSS izložbi'!$B$6:$H$318,7,FALSE))","v":1},0]
[488,null,{"$f":"IF(B502=\"\",\"\",VLOOKUP(B502,'Spisak FSS izložbi'!$B$6:$H$318,3,FALSE))","v":""},null,{"$f":"IF(B502=\"\",\"\",VLOOKUP(B502,'Spisak FSS izložbi'!$B$6:$H$318,6,FALSE))","v":""},{"$f":"IF(B502=\"\",\"\",VLOOKUP(B502,'Spisak FSS izložbi'!$B$6:$H$318,5,FALSE))","v":""},null,null,null,null,null,0,0,{"$f":"IF(B502=\"\",1,VLOOKUP(B502,'Spisak FSS izložbi'!$B$6:$H$318,7,FALSE))","v":1},0]
[489,null,{"$f":"IF(B503=\"\",\"\",VLOOKUP(B503,'Spisak FSS izložbi'!$B$6:$H$318,3,FALSE))","v":""},null,{"$f":"IF(B503=\"\",\"\",VLOOKUP(B503,'Spisak FSS izložbi'!$B$6:$H$318,6,FALSE))","v":""},{"$f":"IF(B503=\"\",\"\",VLOOKUP(B503,'Spisak FSS izložbi'!$B$6:$H$318,5,FALSE))","v":""},null,null,null,null,null,0,0,{"$f":"IF(B503=\"\",1,VLOOKUP(B503,'Spisak FSS izložbi'!$B$6:$H$318,7,FALSE))","v":1},0]
[490,null,{"$f":"IF(B504=\"\",\"\",VLOOKUP(B504,'Spisak FSS izložbi'!$B$6:$H$318,3,FALSE))","v":""},null,{"$f":"IF(B504=\"\",\"\",VLOOKUP(B504,'Spisak FSS izložbi'!$B$6:$H$318,6,FALSE))","v":""},{"$f":"IF(B504=\"\",\"\",VLOOKUP(B504,'Spisak FSS izložbi'!$B$6:$H$318,5,FALSE))","v":""},null,null,null,null,null,0,0,{"$f":"IF(B504=\"\",1,VLOOKUP(B504,'Spisak FSS izložbi'!$B$6:$H$318,7,FALSE))","v":1},0]
[491,null,{"$f":"IF(B505=\"\",\"\",VLOOKUP(B505,'Spisak FSS izložbi'!$B$6:$H$318,3,FALSE))","v":""},null,{"$f":"IF(B505=\"\",\"\",VLOOKUP(B505,'Spisak FSS izložbi'!$B$6:$H$318,6,FALSE))","v":""},{"$f":"IF(B505=\"\",\"\",VLOOKUP(B505,'Spisak FSS izložbi'!$B$6:$H$318,5,FALSE))","v":""},null,null,null,null,null,0,0,{"$f":"IF(B505=\"\",1,VLOOKUP(B505,'Spisak FSS izložbi'!$B$6:$H$318,7,FALSE))","v":1},0]
[492,null,{"$f":"IF(B506=\"\",\"\",VLOOKUP(B506,'Spisak FSS izložbi'!$B$6:$H$318,3,FALSE))","v":""},null,{"$f":"IF(B506=\"\",\"\",VLOOKUP(B506,'Spisak FSS izložbi'!$B$6:$H$318,6,FALSE))","v":""},{"$f":"IF(B506=\"\",\"\",VLOOKUP(B506,'Spisak FSS izložbi'!$B$6:$H$318,5,FALSE))","v":""},null,null,null,null,null,0,0,{"$f":"IF(B506=\"\",1,VLOOKUP(B506,'Spisak FSS izložbi'!$B$6:$H$318,7,FALSE))","v":1},0]
[493,null,{"$f":"IF(B507=\"\",\"\",VLOOKUP(B507,'Spisak FSS izložbi'!$B$6:$H$318,3,FALSE))","v":""},null,{"$f":"IF(B507=\"\",\"\",VLOOKUP(B507,'Spisak FSS izložbi'!$B$6:$H$318,6,FALSE))","v":""},{"$f":"IF(B507=\"\",\"\",VLOOKUP(B507,'Spisak FSS izložbi'!$B$6:$H$318,5,FALSE))","v":""},null,null,null,null,null,0,0,{"$f":"IF(B507=\"\",1,VLOOKUP(B507,'Spisak FSS izložbi'!$B$6:$H$318,7,FALSE))","v":1},0]
[494,null,{"$f":"IF(B508=\"\",\"\",VLOOKUP(B508,'Spisak FSS izložbi'!$B$6:$H$318,3,FALSE))","v":""},null,{"$f":"IF(B508=\"\",\"\",VLOOKUP(B508,'Spisak FSS izložbi'!$B$6:$H$318,6,FALSE))","v":""},{"$f":"IF(B508=\"\",\"\",VLOOKUP(B508,'Spisak FSS izložbi'!$B$6:$H$318,5,FALSE))","v":""},null,null,null,null,null,0,0,{"$f":"IF(B508=\"\",1,VLOOKUP(B508,'Spisak FSS izložbi'!$B$6:$H$318,7,FALSE))","v":1},0]
[495,null,{"$f":"IF(B509=\"\",\"\",VLOOKUP(B509,'Spisak FSS izložbi'!$B$6:$H$318,3,FALSE))","v":""},null,{"$f":"IF(B509=\"\",\"\",VLOOKUP(B509,'Spisak FSS izložbi'!$B$6:$H$318,6,FALSE))","v":""},{"$f":"IF(B509=\"\",\"\",VLOOKUP(B509,'Spisak FSS izložbi'!$B$6:$H$318,5,FALSE))","v":""},null,null,null,null,null,0,0,{"$f":"IF(B509=\"\",1,VLOOKUP(B509,'Spisak FSS izložbi'!$B$6:$H$318,7,FALSE))","v":1},0]
[496,null,{"$f":"IF(B510=\"\",\"\",VLOOKUP(B510,'Spisak FSS izložbi'!$B$6:$H$318,3,FALSE))","v":""},null,{"$f":"IF(B510=\"\",\"\",VLOOKUP(B510,'Spisak FSS izložbi'!$B$6:$H$318,6,FALSE))","v":""},{"$f":"IF(B510=\"\",\"\",VLOOKUP(B510,'Spisak FSS izložbi'!$B$6:$H$318,5,FALSE))","v":""},null,null,null,null,null,0,0,{"$f":"IF(B510=\"\",1,VLOOKUP(B510,'Spisak FSS izložbi'!$B$6:$H$318,7,FALSE))","v":1},0]
[497,null,{"$f":"IF(B511=\"\",\"\",VLOOKUP(B511,'Spisak FSS izložbi'!$B$6:$H$318,3,FALSE))","v":""},null,{"$f":"IF(B511=\"\",\"\",VLOOKUP(B511,'Spisak FSS izložbi'!$B$6:$H$318,6,FALSE))","v":""},{"$f":"IF(B511=\"\",\"\",VLOOKUP(B511,'Spisak FSS izložbi'!$B$6:$H$318,5,FALSE))","v":""},null,null,null,null,null,0,0,{"$f":"IF(B511=\"\",1,VLOOKUP(B511,'Spisak FSS izložbi'!$B$6:$H$318,7,FALSE))","v":1},0]
[498,null,{"$f":"IF(B512=\"\",\"\",VLOOKUP(B512,'Spisak FSS izložbi'!$B$6:$H$318,3,FALSE))","v":""},null,{"$f":"IF(B512=\"\",\"\",VLOOKUP(B512,'Spisak FSS izložbi'!$B$6:$H$318,6,FALSE))","v":""},{"$f":"IF(B512=\"\",\"\",VLOOKUP(B512,'Spisak FSS izložbi'!$B$6:$H$318,5,FALSE))","v":""},null,null,null,null,null,0,0,{"$f":"IF(B512=\"\",1,VLOOKUP(B512,'Spisak FSS izložbi'!$B$6:$H$318,7,FALSE))","v":1},0]
[499,null,{"$f":"IF(B513=\"\",\"\",VLOOKUP(B513,'Spisak FSS izložbi'!$B$6:$H$318,3,FALSE))","v":""},null,{"$f":"IF(B513=\"\",\"\",VLOOKUP(B513,'Spisak FSS izložbi'!$B$6:$H$318,6,FALSE))","v":""},{"$f":"IF(B513=\"\",\"\",VLOOKUP(B513,'Spisak FSS izložbi'!$B$6:$H$318,5,FALSE))","v":""},null,null,null,null,null,0,0,{"$f":"IF(B513=\"\",1,VLOOKUP(B513,'Spisak FSS izložbi'!$B$6:$H$318,7,FALSE))","v":1},0]
[500,null,{"$f":"IF(B514=\"\",\"\",VLOOKUP(B514,'Spisak FSS izložbi'!$B$6:$H$318,3,FALSE))","v":""},null,{"$f":"IF(B514=\"\",\"\",VLOOKUP(B514,'Spisak FSS izložbi'!$B$6:$H$318,6,FALSE))","v":""},{"$f":"IF(B514=\"\",\"\",VLOOKUP(B514,'Spisak FSS izložbi'!$B$6:$H$318,5,FALSE))","v":""},null,null,null,null,null,0,0,{"$f":"IF(B514=\"\",1,VLOOKUP(B514,'Spisak FSS izložbi'!$B$6:$H$318,7,FALSE))","v":1},0]
[501,null,{"$f":"IF(B515=\"\",\"\",VLOOKUP(B515,'Spisak FSS izložbi'!$B$6:$H$318,3,FALSE))","v":""},null,{"$f":"IF(B515=\"\",\"\",VLOOKUP(B515,'Spisak FSS izložbi'!$B$6:$H$318,6,FALSE))","v":""},{"$f":"IF(B515=\"\",\"\",VLOOKUP(B515,'Spisak FSS izložbi'!$B$6:$H$318,5,FALSE))","v":""},null,null,null,null,null,0,0,{"$f":"IF(B515=\"\",1,VLOOKUP(B515,'Spisak FSS izložbi'!$B$6:$H$318,7,FALSE))","v":1},0]
[502,null,{"$f":"IF(B516=\"\",\"\",VLOOKUP(B516,'Spisak FSS izložbi'!$B$6:$H$318,3,FALSE))","v":""},null,{"$f":"IF(B516=\"\",\"\",VLOOKUP(B516,'Spisak FSS izložbi'!$B$6:$H$318,6,FALSE))","v":""},{"$f":"IF(B516=\"\",\"\",VLOOKUP(B516,'Spisak FSS izložbi'!$B$6:$H$318,5,FALSE))","v":""},null,null,null,null,null,0,0,{"$f":"IF(B516=\"\",1,VLOOKUP(B516,'Spisak FSS izložbi'!$B$6:$H$318,7,FALSE))","v":1},0]
[503,null,{"$f":"IF(B517=\"\",\"\",VLOOKUP(B517,'Spisak FSS izložbi'!$B$6:$H$318,3,FALSE))","v":""},null,{"$f":"IF(B517=\"\",\"\",VLOOKUP(B517,'Spisak FSS izložbi'!$B$6:$H$318,6,FALSE))","v":""},{"$f":"IF(B517=\"\",\"\",VLOOKUP(B517,'Spisak FSS izložbi'!$B$6:$H$318,5,FALSE))","v":""},null,null,null,null,null,0,0,{"$f":"IF(B517=\"\",1,VLOOKUP(B517,'Spisak FSS izložbi'!$B$6:$H$318,7,FALSE))","v":1},0]
[504,null,{"$f":"IF(B518=\"\",\"\",VLOOKUP(B518,'Spisak FSS izložbi'!$B$6:$H$318,3,FALSE))","v":""},null,{"$f":"IF(B518=\"\",\"\",VLOOKUP(B518,'Spisak FSS izložbi'!$B$6:$H$318,6,FALSE))","v":""},{"$f":"IF(B518=\"\",\"\",VLOOKUP(B518,'Spisak FSS izložbi'!$B$6:$H$318,5,FALSE))","v":""},null,null,null,null,null,0,0,{"$f":"IF(B518=\"\",1,VLOOKUP(B518,'Spisak FSS izložbi'!$B$6:$H$318,7,FALSE))","v":1},0]
[505,null,{"$f":"IF(B519=\"\",\"\",VLOOKUP(B519,'Spisak FSS izložbi'!$B$6:$H$318,3,FALSE))","v":""},null,{"$f":"IF(B519=\"\",\"\",VLOOKUP(B519,'Spisak FSS izložbi'!$B$6:$H$318,6,FALSE))","v":""},{"$f":"IF(B519=\"\",\"\",VLOOKUP(B519,'Spisak FSS izložbi'!$B$6:$H$318,5,FALSE))","v":""},null,null,null,null,null,0,0,{"$f":"IF(B519=\"\",1,VLOOKUP(B519,'Spisak FSS izložbi'!$B$6:$H$318,7,FALSE))","v":1},0]
[506,null,{"$f":"IF(B520=\"\",\"\",VLOOKUP(B520,'Spisak FSS izložbi'!$B$6:$H$318,3,FALSE))","v":""},null,{"$f":"IF(B520=\"\",\"\",VLOOKUP(B520,'Spisak FSS izložbi'!$B$6:$H$318,6,FALSE))","v":""},{"$f":"IF(B520=\"\",\"\",VLOOKUP(B520,'Spisak FSS izložbi'!$B$6:$H$318,5,FALSE))","v":""},null,null,null,null,null,0,0,{"$f":"IF(B520=\"\",1,VLOOKUP(B520,'Spisak FSS izložbi'!$B$6:$H$318,7,FALSE))","v":1},0]
[507,null,{"$f":"IF(B521=\"\",\"\",VLOOKUP(B521,'Spisak FSS izložbi'!$B$6:$H$318,3,FALSE))","v":""},null,{"$f":"IF(B521=\"\",\"\",VLOOKUP(B521,'Spisak FSS izložbi'!$B$6:$H$318,6,FALSE))","v":""},{"$f":"IF(B521=\"\",\"\",VLOOKUP(B521,'Spisak FSS izložbi'!$B$6:$H$318,5,FALSE))","v":""},null,null,null,null,null,0,0,{"$f":"IF(B521=\"\",1,VLOOKUP(B521,'Spisak FSS izložbi'!$B$6:$H$318,7,FALSE))","v":1},0]
[508,null,{"$f":"IF(B522=\"\",\"\",VLOOKUP(B522,'Spisak FSS izložbi'!$B$6:$H$318,3,FALSE))","v":""},null,{"$f":"IF(B522=\"\",\"\",VLOOKUP(B522,'Spisak FSS izložbi'!$B$6:$H$318,6,FALSE))","v":""},{"$f":"IF(B522=\"\",\"\",VLOOKUP(B522,'Spisak FSS izložbi'!$B$6:$H$318,5,FALSE))","v":""},null,null,null,null,null,0,0,{"$f":"IF(B522=\"\",1,VLOOKUP(B522,'Spisak FSS izložbi'!$B$6:$H$318,7,FALSE))","v":1},0]
[509,null,{"$f":"IF(B523=\"\",\"\",VLOOKUP(B523,'Spisak FSS izložbi'!$B$6:$H$318,3,FALSE))","v":""},null,{"$f":"IF(B523=\"\",\"\",VLOOKUP(B523,'Spisak FSS izložbi'!$B$6:$H$318,6,FALSE))","v":""},{"$f":"IF(B523=\"\",\"\",VLOOKUP(B523,'Spisak FSS izložbi'!$B$6:$H$318,5,FALSE))","v":""},null,null,null,null,null,0,0,{"$f":"IF(B523=\"\",1,VLOOKUP(B523,'Spisak FSS izložbi'!$B$6:$H$318,7,FALSE))","v":1},0]
[510,null,{"$f":"IF(B524=\"\",\"\",VLOOKUP(B524,'Spisak FSS izložbi'!$B$6:$H$318,3,FALSE))","v":""},null,{"$f":"IF(B524=\"\",\"\",VLOOKUP(B524,'Spisak FSS izložbi'!$B$6:$H$318,6,FALSE))","v":""},{"$f":"IF(B524=\"\",\"\",VLOOKUP(B524,'Spisak FSS izložbi'!$B$6:$H$318,5,FALSE))","v":""},null,null,null,null,null,0,0,{"$f":"IF(B524=\"\",1,VLOOKUP(B524,'Spisak FSS izložbi'!$B$6:$H$318,7,FALSE))","v":1},0]
[511,null,{"$f":"IF(B525=\"\",\"\",VLOOKUP(B525,'Spisak FSS izložbi'!$B$6:$H$318,3,FALSE))","v":""},null,{"$f":"IF(B525=\"\",\"\",VLOOKUP(B525,'Spisak FSS izložbi'!$B$6:$H$318,6,FALSE))","v":""},{"$f":"IF(B525=\"\",\"\",VLOOKUP(B525,'Spisak FSS izložbi'!$B$6:$H$318,5,FALSE))","v":""},null,null,null,null,null,0,0,{"$f":"IF(B525=\"\",1,VLOOKUP(B525,'Spisak FSS izložbi'!$B$6:$H$318,7,FALSE))","v":1},0]
[512,null,{"$f":"IF(B526=\"\",\"\",VLOOKUP(B526,'Spisak FSS izložbi'!$B$6:$H$318,3,FALSE))","v":""},null,{"$f":"IF(B526=\"\",\"\",VLOOKUP(B526,'Spisak FSS izložbi'!$B$6:$H$318,6,FALSE))","v":""},{"$f":"IF(B526=\"\",\"\",VLOOKUP(B526,'Spisak FSS izložbi'!$B$6:$H$318,5,FALSE))","v":""},null,null,null,null,null,0,0,{"$f":"IF(B526=\"\",1,VLOOKUP(B526,'Spisak FSS izložbi'!$B$6:$H$318,7,FALSE))","v":1},0]
[513,null,{"$f":"IF(B527=\"\",\"\",VLOOKUP(B527,'Spisak FSS izložbi'!$B$6:$H$318,3,FALSE))","v":""},null,{"$f":"IF(B527=\"\",\"\",VLOOKUP(B527,'Spisak FSS izložbi'!$B$6:$H$318,6,FALSE))","v":""},{"$f":"IF(B527=\"\",\"\",VLOOKUP(B527,'Spisak FSS izložbi'!$B$6:$H$318,5,FALSE))","v":""},null,null,null,null,null,0,0,{"$f":"IF(B527=\"\",1,VLOOKUP(B527,'Spisak FSS izložbi'!$B$6:$H$318,7,FALSE))","v":1},0]
[514,null,{"$f":"IF(B528=\"\",\"\",VLOOKUP(B528,'Spisak FSS izložbi'!$B$6:$H$318,3,FALSE))","v":""},null,{"$f":"IF(B528=\"\",\"\",VLOOKUP(B528,'Spisak FSS izložbi'!$B$6:$H$318,6,FALSE))","v":""},{"$f":"IF(B528=\"\",\"\",VLOOKUP(B528,'Spisak FSS izložbi'!$B$6:$H$318,5,FALSE))","v":""},null,null,null,null,null,{"$f":"IF(E528=$H$1,$H$6,IF(E528=$I$1,$I$6,IF(E528=$J$1,$J$6,IF(E528=$K$1,$K$6,IF(E528=$L$1,$L$6,IF(E528=$M$1,$M$6,IF(E528=$N$1,$N$6,IF(E528=$O$1,$O$6,0))))))))","v":0},{"$f":"IF(OR(E528=\"\",K528=\"\")=TRUE,0,VLOOKUP(K528,$G$1:$O$7,MATCH(E528,$G$1:$O$1,0),FALSE))","v":0},{"$f":"IF(B528=\"\",1,VLOOKUP(B528,'Spisak FSS izložbi'!$B$6:$H$318,7,FALSE))","v":1},{"$f":"(L528+M528)*N528","v":0}]
[515,null,{"$f":"IF(B529=\"\",\"\",VLOOKUP(B529,'Spisak FSS izložbi'!$B$6:$H$318,3,FALSE))","v":""},null,{"$f":"IF(B529=\"\",\"\",VLOOKUP(B529,'Spisak FSS izložbi'!$B$6:$H$318,6,FALSE))","v":""},{"$f":"IF(B529=\"\",\"\",VLOOKUP(B529,'Spisak FSS izložbi'!$B$6:$H$318,5,FALSE))","v":""},null,null,null,null,null,0,0,{"$f":"IF(B529=\"\",1,VLOOKUP(B529,'Spisak FSS izložbi'!$B$6:$H$318,7,FALSE))","v":1},0]
[516,null,{"$f":"IF(B530=\"\",\"\",VLOOKUP(B530,'Spisak FSS izložbi'!$B$6:$H$318,3,FALSE))","v":""},null,{"$f":"IF(B530=\"\",\"\",VLOOKUP(B530,'Spisak FSS izložbi'!$B$6:$H$318,6,FALSE))","v":""},{"$f":"IF(B530=\"\",\"\",VLOOKUP(B530,'Spisak FSS izložbi'!$B$6:$H$318,5,FALSE))","v":""},null,null,null,null,null,0,0,{"$f":"IF(B530=\"\",1,VLOOKUP(B530,'Spisak FSS izložbi'!$B$6:$H$318,7,FALSE))","v":1},0]
[517,null,{"$f":"IF(B531=\"\",\"\",VLOOKUP(B531,'Spisak FSS izložbi'!$B$6:$H$318,3,FALSE))","v":""},null,{"$f":"IF(B531=\"\",\"\",VLOOKUP(B531,'Spisak FSS izložbi'!$B$6:$H$318,6,FALSE))","v":""},{"$f":"IF(B531=\"\",\"\",VLOOKUP(B531,'Spisak FSS izložbi'!$B$6:$H$318,5,FALSE))","v":""},null,null,null,null,null,0,0,{"$f":"IF(B531=\"\",1,VLOOKUP(B531,'Spisak FSS izložbi'!$B$6:$H$318,7,FALSE))","v":1},0]
[518,null,{"$f":"IF(B532=\"\",\"\",VLOOKUP(B532,'Spisak FSS izložbi'!$B$6:$H$318,3,FALSE))","v":""},null,{"$f":"IF(B532=\"\",\"\",VLOOKUP(B532,'Spisak FSS izložbi'!$B$6:$H$318,6,FALSE))","v":""},{"$f":"IF(B532=\"\",\"\",VLOOKUP(B532,'Spisak FSS izložbi'!$B$6:$H$318,5,FALSE))","v":""},null,null,null,null,null,0,0,{"$f":"IF(B532=\"\",1,VLOOKUP(B532,'Spisak FSS izložbi'!$B$6:$H$318,7,FALSE))","v":1},0]
[519,null,{"$f":"IF(B533=\"\",\"\",VLOOKUP(B533,'Spisak FSS izložbi'!$B$6:$H$318,3,FALSE))","v":""},null,{"$f":"IF(B533=\"\",\"\",VLOOKUP(B533,'Spisak FSS izložbi'!$B$6:$H$318,6,FALSE))","v":""},{"$f":"IF(B533=\"\",\"\",VLOOKUP(B533,'Spisak FSS izložbi'!$B$6:$H$318,5,FALSE))","v":""},null,null,null,null,null,0,0,{"$f":"IF(B533=\"\",1,VLOOKUP(B533,'Spisak FSS izložbi'!$B$6:$H$318,7,FALSE))","v":1},0]
[520,null,{"$f":"IF(B534=\"\",\"\",VLOOKUP(B534,'Spisak FSS izložbi'!$B$6:$H$318,3,FALSE))","v":""},null,{"$f":"IF(B534=\"\",\"\",VLOOKUP(B534,'Spisak FSS izložbi'!$B$6:$H$318,6,FALSE))","v":""},{"$f":"IF(B534=\"\",\"\",VLOOKUP(B534,'Spisak FSS izložbi'!$B$6:$H$318,5,FALSE))","v":""},null,null,null,null,null,0,0,{"$f":"IF(B534=\"\",1,VLOOKUP(B534,'Spisak FSS izložbi'!$B$6:$H$318,7,FALSE))","v":1},0]
[521,null,{"$f":"IF(B535=\"\",\"\",VLOOKUP(B535,'Spisak FSS izložbi'!$B$6:$H$318,3,FALSE))","v":""},null,{"$f":"IF(B535=\"\",\"\",VLOOKUP(B535,'Spisak FSS izložbi'!$B$6:$H$318,6,FALSE))","v":""},{"$f":"IF(B535=\"\",\"\",VLOOKUP(B535,'Spisak FSS izložbi'!$B$6:$H$318,5,FALSE))","v":""},null,null,null,null,null,0,0,{"$f":"IF(B535=\"\",1,VLOOKUP(B535,'Spisak FSS izložbi'!$B$6:$H$318,7,FALSE))","v":1},0]
[522,null,{"$f":"IF(B536=\"\",\"\",VLOOKUP(B536,'Spisak FSS izložbi'!$B$6:$H$318,3,FALSE))","v":""},null,{"$f":"IF(B536=\"\",\"\",VLOOKUP(B536,'Spisak FSS izložbi'!$B$6:$H$318,6,FALSE))","v":""},{"$f":"IF(B536=\"\",\"\",VLOOKUP(B536,'Spisak FSS izložbi'!$B$6:$H$318,5,FALSE))","v":""},null,null,null,null,null,0,0,{"$f":"IF(B536=\"\",1,VLOOKUP(B536,'Spisak FSS izložbi'!$B$6:$H$318,7,FALSE))","v":1},0]
[523,null,{"$f":"IF(B537=\"\",\"\",VLOOKUP(B537,'Spisak FSS izložbi'!$B$6:$H$318,3,FALSE))","v":""},null,{"$f":"IF(B537=\"\",\"\",VLOOKUP(B537,'Spisak FSS izložbi'!$B$6:$H$318,6,FALSE))","v":""},{"$f":"IF(B537=\"\",\"\",VLOOKUP(B537,'Spisak FSS izložbi'!$B$6:$H$318,5,FALSE))","v":""},null,null,null,null,null,0,0,{"$f":"IF(B537=\"\",1,VLOOKUP(B537,'Spisak FSS izložbi'!$B$6:$H$318,7,FALSE))","v":1},0]
[524,null,{"$f":"IF(B538=\"\",\"\",VLOOKUP(B538,'Spisak FSS izložbi'!$B$6:$H$318,3,FALSE))","v":""},null,{"$f":"IF(B538=\"\",\"\",VLOOKUP(B538,'Spisak FSS izložbi'!$B$6:$H$318,6,FALSE))","v":""},{"$f":"IF(B538=\"\",\"\",VLOOKUP(B538,'Spisak FSS izložbi'!$B$6:$H$318,5,FALSE))","v":""},null,null,null,null,null,0,0,{"$f":"IF(B538=\"\",1,VLOOKUP(B538,'Spisak FSS izložbi'!$B$6:$H$318,7,FALSE))","v":1},0]
[525,null,{"$f":"IF(B539=\"\",\"\",VLOOKUP(B539,'Spisak FSS izložbi'!$B$6:$H$318,3,FALSE))","v":""},null,{"$f":"IF(B539=\"\",\"\",VLOOKUP(B539,'Spisak FSS izložbi'!$B$6:$H$318,6,FALSE))","v":""},{"$f":"IF(B539=\"\",\"\",VLOOKUP(B539,'Spisak FSS izložbi'!$B$6:$H$318,5,FALSE))","v":""},null,null,null,null,null,0,0,{"$f":"IF(B539=\"\",1,VLOOKUP(B539,'Spisak FSS izložbi'!$B$6:$H$318,7,FALSE))","v":1},0]
[526,null,{"$f":"IF(B540=\"\",\"\",VLOOKUP(B540,'Spisak FSS izložbi'!$B$6:$H$318,3,FALSE))","v":""},null,{"$f":"IF(B540=\"\",\"\",VLOOKUP(B540,'Spisak FSS izložbi'!$B$6:$H$318,6,FALSE))","v":""},{"$f":"IF(B540=\"\",\"\",VLOOKUP(B540,'Spisak FSS izložbi'!$B$6:$H$318,5,FALSE))","v":""},null,null,null,null,null,0,0,{"$f":"IF(B540=\"\",1,VLOOKUP(B540,'Spisak FSS izložbi'!$B$6:$H$318,7,FALSE))","v":1},0]
[527,null,{"$f":"IF(B541=\"\",\"\",VLOOKUP(B541,'Spisak FSS izložbi'!$B$6:$H$318,3,FALSE))","v":""},null,{"$f":"IF(B541=\"\",\"\",VLOOKUP(B541,'Spisak FSS izložbi'!$B$6:$H$318,6,FALSE))","v":""},{"$f":"IF(B541=\"\",\"\",VLOOKUP(B541,'Spisak FSS izložbi'!$B$6:$H$318,5,FALSE))","v":""},null,null,null,null,null,0,0,{"$f":"IF(B541=\"\",1,VLOOKUP(B541,'Spisak FSS izložbi'!$B$6:$H$318,7,FALSE))","v":1},0]
[528,null,{"$f":"IF(B542=\"\",\"\",VLOOKUP(B542,'Spisak FSS izložbi'!$B$6:$H$318,3,FALSE))","v":""},null,{"$f":"IF(B542=\"\",\"\",VLOOKUP(B542,'Spisak FSS izložbi'!$B$6:$H$318,6,FALSE))","v":""},{"$f":"IF(B542=\"\",\"\",VLOOKUP(B542,'Spisak FSS izložbi'!$B$6:$H$318,5,FALSE))","v":""},null,null,null,null,null,0,0,{"$f":"IF(B542=\"\",1,VLOOKUP(B542,'Spisak FSS izložbi'!$B$6:$H$318,7,FALSE))","v":1},0]
[529,null,{"$f":"IF(B543=\"\",\"\",VLOOKUP(B543,'Spisak FSS izložbi'!$B$6:$H$318,3,FALSE))","v":""},null,{"$f":"IF(B543=\"\",\"\",VLOOKUP(B543,'Spisak FSS izložbi'!$B$6:$H$318,6,FALSE))","v":""},{"$f":"IF(B543=\"\",\"\",VLOOKUP(B543,'Spisak FSS izložbi'!$B$6:$H$318,5,FALSE))","v":""},null,null,null,null,null,0,0,{"$f":"IF(B543=\"\",1,VLOOKUP(B543,'Spisak FSS izložbi'!$B$6:$H$318,7,FALSE))","v":1},0]
[530,null,{"$f":"IF(B544=\"\",\"\",VLOOKUP(B544,'Spisak FSS izložbi'!$B$6:$H$318,3,FALSE))","v":""},null,{"$f":"IF(B544=\"\",\"\",VLOOKUP(B544,'Spisak FSS izložbi'!$B$6:$H$318,6,FALSE))","v":""},{"$f":"IF(B544=\"\",\"\",VLOOKUP(B544,'Spisak FSS izložbi'!$B$6:$H$318,5,FALSE))","v":""},null,null,null,null,null,0,0,{"$f":"IF(B544=\"\",1,VLOOKUP(B544,'Spisak FSS izložbi'!$B$6:$H$318,7,FALSE))","v":1},0]
[531,null,{"$f":"IF(B545=\"\",\"\",VLOOKUP(B545,'Spisak FSS izložbi'!$B$6:$H$318,3,FALSE))","v":""},null,{"$f":"IF(B545=\"\",\"\",VLOOKUP(B545,'Spisak FSS izložbi'!$B$6:$H$318,6,FALSE))","v":""},{"$f":"IF(B545=\"\",\"\",VLOOKUP(B545,'Spisak FSS izložbi'!$B$6:$H$318,5,FALSE))","v":""},null,null,null,null,null,0,0,{"$f":"IF(B545=\"\",1,VLOOKUP(B545,'Spisak FSS izložbi'!$B$6:$H$318,7,FALSE))","v":1},0]
[532,null,{"$f":"IF(B546=\"\",\"\",VLOOKUP(B546,'Spisak FSS izložbi'!$B$6:$H$318,3,FALSE))","v":""},null,{"$f":"IF(B546=\"\",\"\",VLOOKUP(B546,'Spisak FSS izložbi'!$B$6:$H$318,6,FALSE))","v":""},{"$f":"IF(B546=\"\",\"\",VLOOKUP(B546,'Spisak FSS izložbi'!$B$6:$H$318,5,FALSE))","v":""},null,null,null,null,null,0,0,{"$f":"IF(B546=\"\",1,VLOOKUP(B546,'Spisak FSS izložbi'!$B$6:$H$318,7,FALSE))","v":1},0]
[533,null,{"$f":"IF(B547=\"\",\"\",VLOOKUP(B547,'Spisak FSS izložbi'!$B$6:$H$318,3,FALSE))","v":""},null,{"$f":"IF(B547=\"\",\"\",VLOOKUP(B547,'Spisak FSS izložbi'!$B$6:$H$318,6,FALSE))","v":""},{"$f":"IF(B547=\"\",\"\",VLOOKUP(B547,'Spisak FSS izložbi'!$B$6:$H$318,5,FALSE))","v":""},null,null,null,null,null,0,0,{"$f":"IF(B547=\"\",1,VLOOKUP(B547,'Spisak FSS izložbi'!$B$6:$H$318,7,FALSE))","v":1},0]
[534,null,{"$f":"IF(B548=\"\",\"\",VLOOKUP(B548,'Spisak FSS izložbi'!$B$6:$H$318,3,FALSE))","v":""},null,{"$f":"IF(B548=\"\",\"\",VLOOKUP(B548,'Spisak FSS izložbi'!$B$6:$H$318,6,FALSE))","v":""},{"$f":"IF(B548=\"\",\"\",VLOOKUP(B548,'Spisak FSS izložbi'!$B$6:$H$318,5,FALSE))","v":""},null,null,null,null,null,0,0,{"$f":"IF(B548=\"\",1,VLOOKUP(B548,'Spisak FSS izložbi'!$B$6:$H$318,7,FALSE))","v":1},0]
[535,null,{"$f":"IF(B549=\"\",\"\",VLOOKUP(B549,'Spisak FSS izložbi'!$B$6:$H$318,3,FALSE))","v":""},null,{"$f":"IF(B549=\"\",\"\",VLOOKUP(B549,'Spisak FSS izložbi'!$B$6:$H$318,6,FALSE))","v":""},{"$f":"IF(B549=\"\",\"\",VLOOKUP(B549,'Spisak FSS izložbi'!$B$6:$H$318,5,FALSE))","v":""},null,null,null,null,null,0,0,{"$f":"IF(B549=\"\",1,VLOOKUP(B549,'Spisak FSS izložbi'!$B$6:$H$318,7,FALSE))","v":1},0]
[536,null,{"$f":"IF(B550=\"\",\"\",VLOOKUP(B550,'Spisak FSS izložbi'!$B$6:$H$318,3,FALSE))","v":""},null,{"$f":"IF(B550=\"\",\"\",VLOOKUP(B550,'Spisak FSS izložbi'!$B$6:$H$318,6,FALSE))","v":""},{"$f":"IF(B550=\"\",\"\",VLOOKUP(B550,'Spisak FSS izložbi'!$B$6:$H$318,5,FALSE))","v":""},null,null,null,null,null,0,0,{"$f":"IF(B550=\"\",1,VLOOKUP(B550,'Spisak FSS izložbi'!$B$6:$H$318,7,FALSE))","v":1},0]
[537,null,{"$f":"IF(B551=\"\",\"\",VLOOKUP(B551,'Spisak FSS izložbi'!$B$6:$H$318,3,FALSE))","v":""},null,{"$f":"IF(B551=\"\",\"\",VLOOKUP(B551,'Spisak FSS izložbi'!$B$6:$H$318,6,FALSE))","v":""},{"$f":"IF(B551=\"\",\"\",VLOOKUP(B551,'Spisak FSS izložbi'!$B$6:$H$318,5,FALSE))","v":""},null,null,null,null,null,0,0,{"$f":"IF(B551=\"\",1,VLOOKUP(B551,'Spisak FSS izložbi'!$B$6:$H$318,7,FALSE))","v":1},0]
[538,null,{"$f":"IF(B552=\"\",\"\",VLOOKUP(B552,'Spisak FSS izložbi'!$B$6:$H$318,3,FALSE))","v":""},null,{"$f":"IF(B552=\"\",\"\",VLOOKUP(B552,'Spisak FSS izložbi'!$B$6:$H$318,6,FALSE))","v":""},{"$f":"IF(B552=\"\",\"\",VLOOKUP(B552,'Spisak FSS izložbi'!$B$6:$H$318,5,FALSE))","v":""},null,null,null,null,null,0,0,{"$f":"IF(B552=\"\",1,VLOOKUP(B552,'Spisak FSS izložbi'!$B$6:$H$318,7,FALSE))","v":1},0]
[539,null,{"$f":"IF(B553=\"\",\"\",VLOOKUP(B553,'Spisak FSS izložbi'!$B$6:$H$318,3,FALSE))","v":""},null,{"$f":"IF(B553=\"\",\"\",VLOOKUP(B553,'Spisak FSS izložbi'!$B$6:$H$318,6,FALSE))","v":""},{"$f":"IF(B553=\"\",\"\",VLOOKUP(B553,'Spisak FSS izložbi'!$B$6:$H$318,5,FALSE))","v":""},null,null,null,null,null,0,0,{"$f":"IF(B553=\"\",1,VLOOKUP(B553,'Spisak FSS izložbi'!$B$6:$H$318,7,FALSE))","v":1},0]
[540,null,{"$f":"IF(B554=\"\",\"\",VLOOKUP(B554,'Spisak FSS izložbi'!$B$6:$H$318,3,FALSE))","v":""},null,{"$f":"IF(B554=\"\",\"\",VLOOKUP(B554,'Spisak FSS izložbi'!$B$6:$H$318,6,FALSE))","v":""},{"$f":"IF(B554=\"\",\"\",VLOOKUP(B554,'Spisak FSS izložbi'!$B$6:$H$318,5,FALSE))","v":""},null,null,null,null,null,0,0,{"$f":"IF(B554=\"\",1,VLOOKUP(B554,'Spisak FSS izložbi'!$B$6:$H$318,7,FALSE))","v":1},0]
[541,null,{"$f":"IF(B555=\"\",\"\",VLOOKUP(B555,'Spisak FSS izložbi'!$B$6:$H$318,3,FALSE))","v":""},null,{"$f":"IF(B555=\"\",\"\",VLOOKUP(B555,'Spisak FSS izložbi'!$B$6:$H$318,6,FALSE))","v":""},{"$f":"IF(B555=\"\",\"\",VLOOKUP(B555,'Spisak FSS izložbi'!$B$6:$H$318,5,FALSE))","v":""},null,null,null,null,null,0,0,{"$f":"IF(B555=\"\",1,VLOOKUP(B555,'Spisak FSS izložbi'!$B$6:$H$318,7,FALSE))","v":1},0]
[542,null,{"$f":"IF(B556=\"\",\"\",VLOOKUP(B556,'Spisak FSS izložbi'!$B$6:$H$318,3,FALSE))","v":""},null,{"$f":"IF(B556=\"\",\"\",VLOOKUP(B556,'Spisak FSS izložbi'!$B$6:$H$318,6,FALSE))","v":""},{"$f":"IF(B556=\"\",\"\",VLOOKUP(B556,'Spisak FSS izložbi'!$B$6:$H$318,5,FALSE))","v":""},null,null,null,null,null,0,0,{"$f":"IF(B556=\"\",1,VLOOKUP(B556,'Spisak FSS izložbi'!$B$6:$H$318,7,FALSE))","v":1},0]
[543,null,{"$f":"IF(B557=\"\",\"\",VLOOKUP(B557,'Spisak FSS izložbi'!$B$6:$H$318,3,FALSE))","v":""},null,{"$f":"IF(B557=\"\",\"\",VLOOKUP(B557,'Spisak FSS izložbi'!$B$6:$H$318,6,FALSE))","v":""},{"$f":"IF(B557=\"\",\"\",VLOOKUP(B557,'Spisak FSS izložbi'!$B$6:$H$318,5,FALSE))","v":""},null,null,null,null,null,0,0,{"$f":"IF(B557=\"\",1,VLOOKUP(B557,'Spisak FSS izložbi'!$B$6:$H$318,7,FALSE))","v":1},0]
[544,null,{"$f":"IF(B558=\"\",\"\",VLOOKUP(B558,'Spisak FSS izložbi'!$B$6:$H$318,3,FALSE))","v":""},null,{"$f":"IF(B558=\"\",\"\",VLOOKUP(B558,'Spisak FSS izložbi'!$B$6:$H$318,6,FALSE))","v":""},{"$f":"IF(B558=\"\",\"\",VLOOKUP(B558,'Spisak FSS izložbi'!$B$6:$H$318,5,FALSE))","v":""},null,null,null,null,null,0,0,{"$f":"IF(B558=\"\",1,VLOOKUP(B558,'Spisak FSS izložbi'!$B$6:$H$318,7,FALSE))","v":1},0]
[545,null,{"$f":"IF(B559=\"\",\"\",VLOOKUP(B559,'Spisak FSS izložbi'!$B$6:$H$318,3,FALSE))","v":""},null,{"$f":"IF(B559=\"\",\"\",VLOOKUP(B559,'Spisak FSS izložbi'!$B$6:$H$318,6,FALSE))","v":""},{"$f":"IF(B559=\"\",\"\",VLOOKUP(B559,'Spisak FSS izložbi'!$B$6:$H$318,5,FALSE))","v":""},null,null,null,null,null,0,0,{"$f":"IF(B559=\"\",1,VLOOKUP(B559,'Spisak FSS izložbi'!$B$6:$H$318,7,FALSE))","v":1},0]
[546,null,{"$f":"IF(B560=\"\",\"\",VLOOKUP(B560,'Spisak FSS izložbi'!$B$6:$H$318,3,FALSE))","v":""},null,{"$f":"IF(B560=\"\",\"\",VLOOKUP(B560,'Spisak FSS izložbi'!$B$6:$H$318,6,FALSE))","v":""},{"$f":"IF(B560=\"\",\"\",VLOOKUP(B560,'Spisak FSS izložbi'!$B$6:$H$318,5,FALSE))","v":""},null,null,null,null,null,0,0,{"$f":"IF(B560=\"\",1,VLOOKUP(B560,'Spisak FSS izložbi'!$B$6:$H$318,7,FALSE))","v":1},0]
[547,null,{"$f":"IF(B561=\"\",\"\",VLOOKUP(B561,'Spisak FSS izložbi'!$B$6:$H$318,3,FALSE))","v":""},null,{"$f":"IF(B561=\"\",\"\",VLOOKUP(B561,'Spisak FSS izložbi'!$B$6:$H$318,6,FALSE))","v":""},{"$f":"IF(B561=\"\",\"\",VLOOKUP(B561,'Spisak FSS izložbi'!$B$6:$H$318,5,FALSE))","v":""},null,null,null,null,null,0,0,{"$f":"IF(B561=\"\",1,VLOOKUP(B561,'Spisak FSS izložbi'!$B$6:$H$318,7,FALSE))","v":1},0]
[548,null,{"$f":"IF(B562=\"\",\"\",VLOOKUP(B562,'Spisak FSS izložbi'!$B$6:$H$318,3,FALSE))","v":""},null,{"$f":"IF(B562=\"\",\"\",VLOOKUP(B562,'Spisak FSS izložbi'!$B$6:$H$318,6,FALSE))","v":""},{"$f":"IF(B562=\"\",\"\",VLOOKUP(B562,'Spisak FSS izložbi'!$B$6:$H$318,5,FALSE))","v":""},null,null,null,null,null,0,0,{"$f":"IF(B562=\"\",1,VLOOKUP(B562,'Spisak FSS izložbi'!$B$6:$H$318,7,FALSE))","v":1},0]
[549,null,{"$f":"IF(B563=\"\",\"\",VLOOKUP(B563,'Spisak FSS izložbi'!$B$6:$H$318,3,FALSE))","v":""},null,{"$f":"IF(B563=\"\",\"\",VLOOKUP(B563,'Spisak FSS izložbi'!$B$6:$H$318,6,FALSE))","v":""},{"$f":"IF(B563=\"\",\"\",VLOOKUP(B563,'Spisak FSS izložbi'!$B$6:$H$318,5,FALSE))","v":""},null,null,null,null,null,0,0,{"$f":"IF(B563=\"\",1,VLOOKUP(B563,'Spisak FSS izložbi'!$B$6:$H$318,7,FALSE))","v":1},0]
[550,null,{"$f":"IF(B564=\"\",\"\",VLOOKUP(B564,'Spisak FSS izložbi'!$B$6:$H$318,3,FALSE))","v":""},null,{"$f":"IF(B564=\"\",\"\",VLOOKUP(B564,'Spisak FSS izložbi'!$B$6:$H$318,6,FALSE))","v":""},{"$f":"IF(B564=\"\",\"\",VLOOKUP(B564,'Spisak FSS izložbi'!$B$6:$H$318,5,FALSE))","v":""},null,null,null,null,null,0,0,{"$f":"IF(B564=\"\",1,VLOOKUP(B564,'Spisak FSS izložbi'!$B$6:$H$318,7,FALSE))","v":1},0]
[551,null,{"$f":"IF(B565=\"\",\"\",VLOOKUP(B565,'Spisak FSS izložbi'!$B$6:$H$318,3,FALSE))","v":""},null,{"$f":"IF(B565=\"\",\"\",VLOOKUP(B565,'Spisak FSS izložbi'!$B$6:$H$318,6,FALSE))","v":""},{"$f":"IF(B565=\"\",\"\",VLOOKUP(B565,'Spisak FSS izložbi'!$B$6:$H$318,5,FALSE))","v":""},null,null,null,null,null,0,0,{"$f":"IF(B565=\"\",1,VLOOKUP(B565,'Spisak FSS izložbi'!$B$6:$H$318,7,FALSE))","v":1},0]
[552,null,{"$f":"IF(B566=\"\",\"\",VLOOKUP(B566,'Spisak FSS izložbi'!$B$6:$H$318,3,FALSE))","v":""},null,{"$f":"IF(B566=\"\",\"\",VLOOKUP(B566,'Spisak FSS izložbi'!$B$6:$H$318,6,FALSE))","v":""},{"$f":"IF(B566=\"\",\"\",VLOOKUP(B566,'Spisak FSS izložbi'!$B$6:$H$318,5,FALSE))","v":""},null,null,null,null,null,0,0,{"$f":"IF(B566=\"\",1,VLOOKUP(B566,'Spisak FSS izložbi'!$B$6:$H$318,7,FALSE))","v":1},0]
[553,null,{"$f":"IF(B567=\"\",\"\",VLOOKUP(B567,'Spisak FSS izložbi'!$B$6:$H$318,3,FALSE))","v":""},null,{"$f":"IF(B567=\"\",\"\",VLOOKUP(B567,'Spisak FSS izložbi'!$B$6:$H$318,6,FALSE))","v":""},{"$f":"IF(B567=\"\",\"\",VLOOKUP(B567,'Spisak FSS izložbi'!$B$6:$H$318,5,FALSE))","v":""},null,null,null,null,null,0,0,{"$f":"IF(B567=\"\",1,VLOOKUP(B567,'Spisak FSS izložbi'!$B$6:$H$318,7,FALSE))","v":1},0]
[554,null,{"$f":"IF(B568=\"\",\"\",VLOOKUP(B568,'Spisak FSS izložbi'!$B$6:$H$318,3,FALSE))","v":""},null,{"$f":"IF(B568=\"\",\"\",VLOOKUP(B568,'Spisak FSS izložbi'!$B$6:$H$318,6,FALSE))","v":""},{"$f":"IF(B568=\"\",\"\",VLOOKUP(B568,'Spisak FSS izložbi'!$B$6:$H$318,5,FALSE))","v":""},null,null,null,null,null,0,0,{"$f":"IF(B568=\"\",1,VLOOKUP(B568,'Spisak FSS izložbi'!$B$6:$H$318,7,FALSE))","v":1},0]
[555,null,{"$f":"IF(B569=\"\",\"\",VLOOKUP(B569,'Spisak FSS izložbi'!$B$6:$H$318,3,FALSE))","v":""},null,{"$f":"IF(B569=\"\",\"\",VLOOKUP(B569,'Spisak FSS izložbi'!$B$6:$H$318,6,FALSE))","v":""},{"$f":"IF(B569=\"\",\"\",VLOOKUP(B569,'Spisak FSS izložbi'!$B$6:$H$318,5,FALSE))","v":""},null,null,null,null,null,0,0,{"$f":"IF(B569=\"\",1,VLOOKUP(B569,'Spisak FSS izložbi'!$B$6:$H$318,7,FALSE))","v":1},0]
[556,null,{"$f":"IF(B570=\"\",\"\",VLOOKUP(B570,'Spisak FSS izložbi'!$B$6:$H$318,3,FALSE))","v":""},null,{"$f":"IF(B570=\"\",\"\",VLOOKUP(B570,'Spisak FSS izložbi'!$B$6:$H$318,6,FALSE))","v":""},{"$f":"IF(B570=\"\",\"\",VLOOKUP(B570,'Spisak FSS izložbi'!$B$6:$H$318,5,FALSE))","v":""},null,null,null,null,null,0,0,{"$f":"IF(B570=\"\",1,VLOOKUP(B570,'Spisak FSS izložbi'!$B$6:$H$318,7,FALSE))","v":1},0]
[557,null,{"$f":"IF(B571=\"\",\"\",VLOOKUP(B571,'Spisak FSS izložbi'!$B$6:$H$318,3,FALSE))","v":""},null,{"$f":"IF(B571=\"\",\"\",VLOOKUP(B571,'Spisak FSS izložbi'!$B$6:$H$318,6,FALSE))","v":""},{"$f":"IF(B571=\"\",\"\",VLOOKUP(B571,'Spisak FSS izložbi'!$B$6:$H$318,5,FALSE))","v":""},null,null,null,null,null,0,0,{"$f":"IF(B571=\"\",1,VLOOKUP(B571,'Spisak FSS izložbi'!$B$6:$H$318,7,FALSE))","v":1},0]
[558,null,{"$f":"IF(B572=\"\",\"\",VLOOKUP(B572,'Spisak FSS izložbi'!$B$6:$H$318,3,FALSE))","v":""},null,{"$f":"IF(B572=\"\",\"\",VLOOKUP(B572,'Spisak FSS izložbi'!$B$6:$H$318,6,FALSE))","v":""},{"$f":"IF(B572=\"\",\"\",VLOOKUP(B572,'Spisak FSS izložbi'!$B$6:$H$318,5,FALSE))","v":""},null,null,null,null,null,0,0,{"$f":"IF(B572=\"\",1,VLOOKUP(B572,'Spisak FSS izložbi'!$B$6:$H$318,7,FALSE))","v":1},0]
[559,null,{"$f":"IF(B573=\"\",\"\",VLOOKUP(B573,'Spisak FSS izložbi'!$B$6:$H$318,3,FALSE))","v":""},null,{"$f":"IF(B573=\"\",\"\",VLOOKUP(B573,'Spisak FSS izložbi'!$B$6:$H$318,6,FALSE))","v":""},{"$f":"IF(B573=\"\",\"\",VLOOKUP(B573,'Spisak FSS izložbi'!$B$6:$H$318,5,FALSE))","v":""},null,null,null,null,null,0,0,{"$f":"IF(B573=\"\",1,VLOOKUP(B573,'Spisak FSS izložbi'!$B$6:$H$318,7,FALSE))","v":1},0]
[560,null,{"$f":"IF(B574=\"\",\"\",VLOOKUP(B574,'Spisak FSS izložbi'!$B$6:$H$318,3,FALSE))","v":""},null,{"$f":"IF(B574=\"\",\"\",VLOOKUP(B574,'Spisak FSS izložbi'!$B$6:$H$318,6,FALSE))","v":""},{"$f":"IF(B574=\"\",\"\",VLOOKUP(B574,'Spisak FSS izložbi'!$B$6:$H$318,5,FALSE))","v":""},null,null,null,null,null,0,0,{"$f":"IF(B574=\"\",1,VLOOKUP(B574,'Spisak FSS izložbi'!$B$6:$H$318,7,FALSE))","v":1},0]
[561,null,{"$f":"IF(B575=\"\",\"\",VLOOKUP(B575,'Spisak FSS izložbi'!$B$6:$H$318,3,FALSE))","v":""},null,{"$f":"IF(B575=\"\",\"\",VLOOKUP(B575,'Spisak FSS izložbi'!$B$6:$H$318,6,FALSE))","v":""},{"$f":"IF(B575=\"\",\"\",VLOOKUP(B575,'Spisak FSS izložbi'!$B$6:$H$318,5,FALSE))","v":""},null,null,null,null,null,0,0,{"$f":"IF(B575=\"\",1,VLOOKUP(B575,'Spisak FSS izložbi'!$B$6:$H$318,7,FALSE))","v":1},0]
[562,null,{"$f":"IF(B576=\"\",\"\",VLOOKUP(B576,'Spisak FSS izložbi'!$B$6:$H$318,3,FALSE))","v":""},null,{"$f":"IF(B576=\"\",\"\",VLOOKUP(B576,'Spisak FSS izložbi'!$B$6:$H$318,6,FALSE))","v":""},{"$f":"IF(B576=\"\",\"\",VLOOKUP(B576,'Spisak FSS izložbi'!$B$6:$H$318,5,FALSE))","v":""},null,null,null,null,null,0,0,{"$f":"IF(B576=\"\",1,VLOOKUP(B576,'Spisak FSS izložbi'!$B$6:$H$318,7,FALSE))","v":1},0]
[563,null,{"$f":"IF(B577=\"\",\"\",VLOOKUP(B577,'Spisak FSS izložbi'!$B$6:$H$318,3,FALSE))","v":""},null,{"$f":"IF(B577=\"\",\"\",VLOOKUP(B577,'Spisak FSS izložbi'!$B$6:$H$318,6,FALSE))","v":""},{"$f":"IF(B577=\"\",\"\",VLOOKUP(B577,'Spisak FSS izložbi'!$B$6:$H$318,5,FALSE))","v":""},null,null,null,null,null,0,0,{"$f":"IF(B577=\"\",1,VLOOKUP(B577,'Spisak FSS izložbi'!$B$6:$H$318,7,FALSE))","v":1},0]
[564,null,{"$f":"IF(B578=\"\",\"\",VLOOKUP(B578,'Spisak FSS izložbi'!$B$6:$H$318,3,FALSE))","v":""},null,{"$f":"IF(B578=\"\",\"\",VLOOKUP(B578,'Spisak FSS izložbi'!$B$6:$H$318,6,FALSE))","v":""},{"$f":"IF(B578=\"\",\"\",VLOOKUP(B578,'Spisak FSS izložbi'!$B$6:$H$318,5,FALSE))","v":""},null,null,null,null,null,0,0,{"$f":"IF(B578=\"\",1,VLOOKUP(B578,'Spisak FSS izložbi'!$B$6:$H$318,7,FALSE))","v":1},0]
[565,null,{"$f":"IF(B579=\"\",\"\",VLOOKUP(B579,'Spisak FSS izložbi'!$B$6:$H$318,3,FALSE))","v":""},null,{"$f":"IF(B579=\"\",\"\",VLOOKUP(B579,'Spisak FSS izložbi'!$B$6:$H$318,6,FALSE))","v":""},{"$f":"IF(B579=\"\",\"\",VLOOKUP(B579,'Spisak FSS izložbi'!$B$6:$H$318,5,FALSE))","v":""},null,null,null,null,null,0,0,{"$f":"IF(B579=\"\",1,VLOOKUP(B579,'Spisak FSS izložbi'!$B$6:$H$318,7,FALSE))","v":1},0]
[566,null,{"$f":"IF(B580=\"\",\"\",VLOOKUP(B580,'Spisak FSS izložbi'!$B$6:$H$318,3,FALSE))","v":""},null,{"$f":"IF(B580=\"\",\"\",VLOOKUP(B580,'Spisak FSS izložbi'!$B$6:$H$318,6,FALSE))","v":""},{"$f":"IF(B580=\"\",\"\",VLOOKUP(B580,'Spisak FSS izložbi'!$B$6:$H$318,5,FALSE))","v":""},null,null,null,null,null,0,0,{"$f":"IF(B580=\"\",1,VLOOKUP(B580,'Spisak FSS izložbi'!$B$6:$H$318,7,FALSE))","v":1},0]
[567,null,{"$f":"IF(B581=\"\",\"\",VLOOKUP(B581,'Spisak FSS izložbi'!$B$6:$H$318,3,FALSE))","v":""},null,{"$f":"IF(B581=\"\",\"\",VLOOKUP(B581,'Spisak FSS izložbi'!$B$6:$H$318,6,FALSE))","v":""},{"$f":"IF(B581=\"\",\"\",VLOOKUP(B581,'Spisak FSS izložbi'!$B$6:$H$318,5,FALSE))","v":""},null,null,null,null,null,0,0,{"$f":"IF(B581=\"\",1,VLOOKUP(B581,'Spisak FSS izložbi'!$B$6:$H$318,7,FALSE))","v":1},0]
[568,null,{"$f":"IF(B582=\"\",\"\",VLOOKUP(B582,'Spisak FSS izložbi'!$B$6:$H$318,3,FALSE))","v":""},null,{"$f":"IF(B582=\"\",\"\",VLOOKUP(B582,'Spisak FSS izložbi'!$B$6:$H$318,6,FALSE))","v":""},{"$f":"IF(B582=\"\",\"\",VLOOKUP(B582,'Spisak FSS izložbi'!$B$6:$H$318,5,FALSE))","v":""},null,null,null,null,null,0,0,{"$f":"IF(B582=\"\",1,VLOOKUP(B582,'Spisak FSS izložbi'!$B$6:$H$318,7,FALSE))","v":1},0]
[569,null,{"$f":"IF(B583=\"\",\"\",VLOOKUP(B583,'Spisak FSS izložbi'!$B$6:$H$318,3,FALSE))","v":""},null,{"$f":"IF(B583=\"\",\"\",VLOOKUP(B583,'Spisak FSS izložbi'!$B$6:$H$318,6,FALSE))","v":""},{"$f":"IF(B583=\"\",\"\",VLOOKUP(B583,'Spisak FSS izložbi'!$B$6:$H$318,5,FALSE))","v":""},null,null,null,null,null,0,0,{"$f":"IF(B583=\"\",1,VLOOKUP(B583,'Spisak FSS izložbi'!$B$6:$H$318,7,FALSE))","v":1},0]
[570,null,{"$f":"IF(B584=\"\",\"\",VLOOKUP(B584,'Spisak FSS izložbi'!$B$6:$H$318,3,FALSE))","v":""},null,{"$f":"IF(B584=\"\",\"\",VLOOKUP(B584,'Spisak FSS izložbi'!$B$6:$H$318,6,FALSE))","v":""},{"$f":"IF(B584=\"\",\"\",VLOOKUP(B584,'Spisak FSS izložbi'!$B$6:$H$318,5,FALSE))","v":""},null,null,null,null,null,0,0,{"$f":"IF(B584=\"\",1,VLOOKUP(B584,'Spisak FSS izložbi'!$B$6:$H$318,7,FALSE))","v":1},0]
[571,null,{"$f":"IF(B585=\"\",\"\",VLOOKUP(B585,'Spisak FSS izložbi'!$B$6:$H$318,3,FALSE))","v":""},null,{"$f":"IF(B585=\"\",\"\",VLOOKUP(B585,'Spisak FSS izložbi'!$B$6:$H$318,6,FALSE))","v":""},{"$f":"IF(B585=\"\",\"\",VLOOKUP(B585,'Spisak FSS izložbi'!$B$6:$H$318,5,FALSE))","v":""},null,null,null,null,null,0,0,{"$f":"IF(B585=\"\",1,VLOOKUP(B585,'Spisak FSS izložbi'!$B$6:$H$318,7,FALSE))","v":1},0]
[572,null,{"$f":"IF(B586=\"\",\"\",VLOOKUP(B586,'Spisak FSS izložbi'!$B$6:$H$318,3,FALSE))","v":""},null,{"$f":"IF(B586=\"\",\"\",VLOOKUP(B586,'Spisak FSS izložbi'!$B$6:$H$318,6,FALSE))","v":""},{"$f":"IF(B586=\"\",\"\",VLOOKUP(B586,'Spisak FSS izložbi'!$B$6:$H$318,5,FALSE))","v":""},null,null,null,null,null,0,0,{"$f":"IF(B586=\"\",1,VLOOKUP(B586,'Spisak FSS izložbi'!$B$6:$H$318,7,FALSE))","v":1},0]
[573,null,{"$f":"IF(B587=\"\",\"\",VLOOKUP(B587,'Spisak FSS izložbi'!$B$6:$H$318,3,FALSE))","v":""},null,{"$f":"IF(B587=\"\",\"\",VLOOKUP(B587,'Spisak FSS izložbi'!$B$6:$H$318,6,FALSE))","v":""},{"$f":"IF(B587=\"\",\"\",VLOOKUP(B587,'Spisak FSS izložbi'!$B$6:$H$318,5,FALSE))","v":""},null,null,null,null,null,0,0,{"$f":"IF(B587=\"\",1,VLOOKUP(B587,'Spisak FSS izložbi'!$B$6:$H$318,7,FALSE))","v":1},0]
[574,null,{"$f":"IF(B588=\"\",\"\",VLOOKUP(B588,'Spisak FSS izložbi'!$B$6:$H$318,3,FALSE))","v":""},null,{"$f":"IF(B588=\"\",\"\",VLOOKUP(B588,'Spisak FSS izložbi'!$B$6:$H$318,6,FALSE))","v":""},{"$f":"IF(B588=\"\",\"\",VLOOKUP(B588,'Spisak FSS izložbi'!$B$6:$H$318,5,FALSE))","v":""},null,null,null,null,null,0,0,{"$f":"IF(B588=\"\",1,VLOOKUP(B588,'Spisak FSS izložbi'!$B$6:$H$318,7,FALSE))","v":1},0]
[575,null,{"$f":"IF(B589=\"\",\"\",VLOOKUP(B589,'Spisak FSS izložbi'!$B$6:$H$318,3,FALSE))","v":""},null,{"$f":"IF(B589=\"\",\"\",VLOOKUP(B589,'Spisak FSS izložbi'!$B$6:$H$318,6,FALSE))","v":""},{"$f":"IF(B589=\"\",\"\",VLOOKUP(B589,'Spisak FSS izložbi'!$B$6:$H$318,5,FALSE))","v":""},null,null,null,null,null,0,0,{"$f":"IF(B589=\"\",1,VLOOKUP(B589,'Spisak FSS izložbi'!$B$6:$H$318,7,FALSE))","v":1},0]
[576,null,{"$f":"IF(B590=\"\",\"\",VLOOKUP(B590,'Spisak FSS izložbi'!$B$6:$H$318,3,FALSE))","v":""},null,{"$f":"IF(B590=\"\",\"\",VLOOKUP(B590,'Spisak FSS izložbi'!$B$6:$H$318,6,FALSE))","v":""},{"$f":"IF(B590=\"\",\"\",VLOOKUP(B590,'Spisak FSS izložbi'!$B$6:$H$318,5,FALSE))","v":""},null,null,null,null,null,0,0,{"$f":"IF(B590=\"\",1,VLOOKUP(B590,'Spisak FSS izložbi'!$B$6:$H$318,7,FALSE))","v":1},0]
[577,null,{"$f":"IF(B591=\"\",\"\",VLOOKUP(B591,'Spisak FSS izložbi'!$B$6:$H$318,3,FALSE))","v":""},null,{"$f":"IF(B591=\"\",\"\",VLOOKUP(B591,'Spisak FSS izložbi'!$B$6:$H$318,6,FALSE))","v":""},{"$f":"IF(B591=\"\",\"\",VLOOKUP(B591,'Spisak FSS izložbi'!$B$6:$H$318,5,FALSE))","v":""},null,null,null,null,null,0,0,{"$f":"IF(B591=\"\",1,VLOOKUP(B591,'Spisak FSS izložbi'!$B$6:$H$318,7,FALSE))","v":1},0]
[578,null,{"$f":"IF(B592=\"\",\"\",VLOOKUP(B592,'Spisak FSS izložbi'!$B$6:$H$318,3,FALSE))","v":""},null,{"$f":"IF(B592=\"\",\"\",VLOOKUP(B592,'Spisak FSS izložbi'!$B$6:$H$318,6,FALSE))","v":""},{"$f":"IF(B592=\"\",\"\",VLOOKUP(B592,'Spisak FSS izložbi'!$B$6:$H$318,5,FALSE))","v":""},null,null,null,null,null,{"$f":"IF(E592=$H$1,$H$6,IF(E592=$I$1,$I$6,IF(E592=$J$1,$J$6,IF(E592=$K$1,$K$6,IF(E592=$L$1,$L$6,IF(E592=$M$1,$M$6,IF(E592=$N$1,$N$6,IF(E592=$O$1,$O$6,0))))))))","v":0},{"$f":"IF(OR(E592=\"\",K592=\"\")=TRUE,0,VLOOKUP(K592,$G$1:$O$7,MATCH(E592,$G$1:$O$1,0),FALSE))","v":0},{"$f":"IF(B592=\"\",1,VLOOKUP(B592,'Spisak FSS izložbi'!$B$6:$H$318,7,FALSE))","v":1},{"$f":"(L592+M592)*N592","v":0}]
[579,null,{"$f":"IF(B593=\"\",\"\",VLOOKUP(B593,'Spisak FSS izložbi'!$B$6:$H$318,3,FALSE))","v":""},null,{"$f":"IF(B593=\"\",\"\",VLOOKUP(B593,'Spisak FSS izložbi'!$B$6:$H$318,6,FALSE))","v":""},{"$f":"IF(B593=\"\",\"\",VLOOKUP(B593,'Spisak FSS izložbi'!$B$6:$H$318,5,FALSE))","v":""},null,null,null,null,null,0,0,{"$f":"IF(B593=\"\",1,VLOOKUP(B593,'Spisak FSS izložbi'!$B$6:$H$318,7,FALSE))","v":1},0]
[580,null,{"$f":"IF(B594=\"\",\"\",VLOOKUP(B594,'Spisak FSS izložbi'!$B$6:$H$318,3,FALSE))","v":""},null,{"$f":"IF(B594=\"\",\"\",VLOOKUP(B594,'Spisak FSS izložbi'!$B$6:$H$318,6,FALSE))","v":""},{"$f":"IF(B594=\"\",\"\",VLOOKUP(B594,'Spisak FSS izložbi'!$B$6:$H$318,5,FALSE))","v":""},null,null,null,null,null,0,0,{"$f":"IF(B594=\"\",1,VLOOKUP(B594,'Spisak FSS izložbi'!$B$6:$H$318,7,FALSE))","v":1},0]
[581,null,{"$f":"IF(B595=\"\",\"\",VLOOKUP(B595,'Spisak FSS izložbi'!$B$6:$H$318,3,FALSE))","v":""},null,{"$f":"IF(B595=\"\",\"\",VLOOKUP(B595,'Spisak FSS izložbi'!$B$6:$H$318,6,FALSE))","v":""},{"$f":"IF(B595=\"\",\"\",VLOOKUP(B595,'Spisak FSS izložbi'!$B$6:$H$318,5,FALSE))","v":""},null,null,null,null,null,0,0,{"$f":"IF(B595=\"\",1,VLOOKUP(B595,'Spisak FSS izložbi'!$B$6:$H$318,7,FALSE))","v":1},0]
[582,null,{"$f":"IF(B596=\"\",\"\",VLOOKUP(B596,'Spisak FSS izložbi'!$B$6:$H$318,3,FALSE))","v":""},null,{"$f":"IF(B596=\"\",\"\",VLOOKUP(B596,'Spisak FSS izložbi'!$B$6:$H$318,6,FALSE))","v":""},{"$f":"IF(B596=\"\",\"\",VLOOKUP(B596,'Spisak FSS izložbi'!$B$6:$H$318,5,FALSE))","v":""},null,null,null,null,null,0,0,{"$f":"IF(B596=\"\",1,VLOOKUP(B596,'Spisak FSS izložbi'!$B$6:$H$318,7,FALSE))","v":1},0]
[583,null,{"$f":"IF(B597=\"\",\"\",VLOOKUP(B597,'Spisak FSS izložbi'!$B$6:$H$318,3,FALSE))","v":""},null,{"$f":"IF(B597=\"\",\"\",VLOOKUP(B597,'Spisak FSS izložbi'!$B$6:$H$318,6,FALSE))","v":""},{"$f":"IF(B597=\"\",\"\",VLOOKUP(B597,'Spisak FSS izložbi'!$B$6:$H$318,5,FALSE))","v":""},null,null,null,null,null,0,0,{"$f":"IF(B597=\"\",1,VLOOKUP(B597,'Spisak FSS izložbi'!$B$6:$H$318,7,FALSE))","v":1},0]
[584,null,{"$f":"IF(B598=\"\",\"\",VLOOKUP(B598,'Spisak FSS izložbi'!$B$6:$H$318,3,FALSE))","v":""},null,{"$f":"IF(B598=\"\",\"\",VLOOKUP(B598,'Spisak FSS izložbi'!$B$6:$H$318,6,FALSE))","v":""},{"$f":"IF(B598=\"\",\"\",VLOOKUP(B598,'Spisak FSS izložbi'!$B$6:$H$318,5,FALSE))","v":""},null,null,null,null,null,0,0,{"$f":"IF(B598=\"\",1,VLOOKUP(B598,'Spisak FSS izložbi'!$B$6:$H$318,7,FALSE))","v":1},0]
[585,null,{"$f":"IF(B599=\"\",\"\",VLOOKUP(B599,'Spisak FSS izložbi'!$B$6:$H$318,3,FALSE))","v":""},null,{"$f":"IF(B599=\"\",\"\",VLOOKUP(B599,'Spisak FSS izložbi'!$B$6:$H$318,6,FALSE))","v":""},{"$f":"IF(B599=\"\",\"\",VLOOKUP(B599,'Spisak FSS izložbi'!$B$6:$H$318,5,FALSE))","v":""},null,null,null,null,null,0,0,{"$f":"IF(B599=\"\",1,VLOOKUP(B599,'Spisak FSS izložbi'!$B$6:$H$318,7,FALSE))","v":1},0]
[586,null,{"$f":"IF(B600=\"\",\"\",VLOOKUP(B600,'Spisak FSS izložbi'!$B$6:$H$318,3,FALSE))","v":""},null,{"$f":"IF(B600=\"\",\"\",VLOOKUP(B600,'Spisak FSS izložbi'!$B$6:$H$318,6,FALSE))","v":""},{"$f":"IF(B600=\"\",\"\",VLOOKUP(B600,'Spisak FSS izložbi'!$B$6:$H$318,5,FALSE))","v":""},null,null,null,null,null,0,0,{"$f":"IF(B600=\"\",1,VLOOKUP(B600,'Spisak FSS izložbi'!$B$6:$H$318,7,FALSE))","v":1},0]
[587,null,{"$f":"IF(B601=\"\",\"\",VLOOKUP(B601,'Spisak FSS izložbi'!$B$6:$H$318,3,FALSE))","v":""},null,{"$f":"IF(B601=\"\",\"\",VLOOKUP(B601,'Spisak FSS izložbi'!$B$6:$H$318,6,FALSE))","v":""},{"$f":"IF(B601=\"\",\"\",VLOOKUP(B601,'Spisak FSS izložbi'!$B$6:$H$318,5,FALSE))","v":""},null,null,null,null,null,0,0,{"$f":"IF(B601=\"\",1,VLOOKUP(B601,'Spisak FSS izložbi'!$B$6:$H$318,7,FALSE))","v":1},0]
[588,null,{"$f":"IF(B602=\"\",\"\",VLOOKUP(B602,'Spisak FSS izložbi'!$B$6:$H$318,3,FALSE))","v":""},null,{"$f":"IF(B602=\"\",\"\",VLOOKUP(B602,'Spisak FSS izložbi'!$B$6:$H$318,6,FALSE))","v":""},{"$f":"IF(B602=\"\",\"\",VLOOKUP(B602,'Spisak FSS izložbi'!$B$6:$H$318,5,FALSE))","v":""},null,null,null,null,null,0,0,{"$f":"IF(B602=\"\",1,VLOOKUP(B602,'Spisak FSS izložbi'!$B$6:$H$318,7,FALSE))","v":1},0]
[589,null,{"$f":"IF(B603=\"\",\"\",VLOOKUP(B603,'Spisak FSS izložbi'!$B$6:$H$318,3,FALSE))","v":""},null,{"$f":"IF(B603=\"\",\"\",VLOOKUP(B603,'Spisak FSS izložbi'!$B$6:$H$318,6,FALSE))","v":""},{"$f":"IF(B603=\"\",\"\",VLOOKUP(B603,'Spisak FSS izložbi'!$B$6:$H$318,5,FALSE))","v":""},null,null,null,null,null,0,0,{"$f":"IF(B603=\"\",1,VLOOKUP(B603,'Spisak FSS izložbi'!$B$6:$H$318,7,FALSE))","v":1},0]
[590,null,{"$f":"IF(B604=\"\",\"\",VLOOKUP(B604,'Spisak FSS izložbi'!$B$6:$H$318,3,FALSE))","v":""},null,{"$f":"IF(B604=\"\",\"\",VLOOKUP(B604,'Spisak FSS izložbi'!$B$6:$H$318,6,FALSE))","v":""},{"$f":"IF(B604=\"\",\"\",VLOOKUP(B604,'Spisak FSS izložbi'!$B$6:$H$318,5,FALSE))","v":""},null,null,null,null,null,0,0,{"$f":"IF(B604=\"\",1,VLOOKUP(B604,'Spisak FSS izložbi'!$B$6:$H$318,7,FALSE))","v":1},0]
[591,null,{"$f":"IF(B605=\"\",\"\",VLOOKUP(B605,'Spisak FSS izložbi'!$B$6:$H$318,3,FALSE))","v":""},null,{"$f":"IF(B605=\"\",\"\",VLOOKUP(B605,'Spisak FSS izložbi'!$B$6:$H$318,6,FALSE))","v":""},{"$f":"IF(B605=\"\",\"\",VLOOKUP(B605,'Spisak FSS izložbi'!$B$6:$H$318,5,FALSE))","v":""},null,null,null,null,null,0,0,{"$f":"IF(B605=\"\",1,VLOOKUP(B605,'Spisak FSS izložbi'!$B$6:$H$318,7,FALSE))","v":1},0]
[592,null,{"$f":"IF(B606=\"\",\"\",VLOOKUP(B606,'Spisak FSS izložbi'!$B$6:$H$318,3,FALSE))","v":""},null,{"$f":"IF(B606=\"\",\"\",VLOOKUP(B606,'Spisak FSS izložbi'!$B$6:$H$318,6,FALSE))","v":""},{"$f":"IF(B606=\"\",\"\",VLOOKUP(B606,'Spisak FSS izložbi'!$B$6:$H$318,5,FALSE))","v":""},null,null,null,null,null,0,0,{"$f":"IF(B606=\"\",1,VLOOKUP(B606,'Spisak FSS izložbi'!$B$6:$H$318,7,FALSE))","v":1},0]
[593,null,{"$f":"IF(B607=\"\",\"\",VLOOKUP(B607,'Spisak FSS izložbi'!$B$6:$H$318,3,FALSE))","v":""},null,{"$f":"IF(B607=\"\",\"\",VLOOKUP(B607,'Spisak FSS izložbi'!$B$6:$H$318,6,FALSE))","v":""},{"$f":"IF(B607=\"\",\"\",VLOOKUP(B607,'Spisak FSS izložbi'!$B$6:$H$318,5,FALSE))","v":""},null,null,null,null,null,0,0,{"$f":"IF(B607=\"\",1,VLOOKUP(B607,'Spisak FSS izložbi'!$B$6:$H$318,7,FALSE))","v":1},0]
[594,null,{"$f":"IF(B608=\"\",\"\",VLOOKUP(B608,'Spisak FSS izložbi'!$B$6:$H$318,3,FALSE))","v":""},null,{"$f":"IF(B608=\"\",\"\",VLOOKUP(B608,'Spisak FSS izložbi'!$B$6:$H$318,6,FALSE))","v":""},{"$f":"IF(B608=\"\",\"\",VLOOKUP(B608,'Spisak FSS izložbi'!$B$6:$H$318,5,FALSE))","v":""},null,null,null,null,null,0,0,{"$f":"IF(B608=\"\",1,VLOOKUP(B608,'Spisak FSS izložbi'!$B$6:$H$318,7,FALSE))","v":1},0]
[595,null,{"$f":"IF(B609=\"\",\"\",VLOOKUP(B609,'Spisak FSS izložbi'!$B$6:$H$318,3,FALSE))","v":""},null,{"$f":"IF(B609=\"\",\"\",VLOOKUP(B609,'Spisak FSS izložbi'!$B$6:$H$318,6,FALSE))","v":""},{"$f":"IF(B609=\"\",\"\",VLOOKUP(B609,'Spisak FSS izložbi'!$B$6:$H$318,5,FALSE))","v":""},null,null,null,null,null,0,0,{"$f":"IF(B609=\"\",1,VLOOKUP(B609,'Spisak FSS izložbi'!$B$6:$H$318,7,FALSE))","v":1},0]
[596,null,{"$f":"IF(B610=\"\",\"\",VLOOKUP(B610,'Spisak FSS izložbi'!$B$6:$H$318,3,FALSE))","v":""},null,{"$f":"IF(B610=\"\",\"\",VLOOKUP(B610,'Spisak FSS izložbi'!$B$6:$H$318,6,FALSE))","v":""},{"$f":"IF(B610=\"\",\"\",VLOOKUP(B610,'Spisak FSS izložbi'!$B$6:$H$318,5,FALSE))","v":""},null,null,null,null,null,0,0,{"$f":"IF(B610=\"\",1,VLOOKUP(B610,'Spisak FSS izložbi'!$B$6:$H$318,7,FALSE))","v":1},0]
[597,null,{"$f":"IF(B611=\"\",\"\",VLOOKUP(B611,'Spisak FSS izložbi'!$B$6:$H$318,3,FALSE))","v":""},null,{"$f":"IF(B611=\"\",\"\",VLOOKUP(B611,'Spisak FSS izložbi'!$B$6:$H$318,6,FALSE))","v":""},{"$f":"IF(B611=\"\",\"\",VLOOKUP(B611,'Spisak FSS izložbi'!$B$6:$H$318,5,FALSE))","v":""},null,null,null,null,null,0,0,{"$f":"IF(B611=\"\",1,VLOOKUP(B611,'Spisak FSS izložbi'!$B$6:$H$318,7,FALSE))","v":1},0]
[598,null,{"$f":"IF(B612=\"\",\"\",VLOOKUP(B612,'Spisak FSS izložbi'!$B$6:$H$318,3,FALSE))","v":""},null,{"$f":"IF(B612=\"\",\"\",VLOOKUP(B612,'Spisak FSS izložbi'!$B$6:$H$318,6,FALSE))","v":""},{"$f":"IF(B612=\"\",\"\",VLOOKUP(B612,'Spisak FSS izložbi'!$B$6:$H$318,5,FALSE))","v":""},null,null,null,null,null,0,0,{"$f":"IF(B612=\"\",1,VLOOKUP(B612,'Spisak FSS izložbi'!$B$6:$H$318,7,FALSE))","v":1},0]
[599,null,{"$f":"IF(B613=\"\",\"\",VLOOKUP(B613,'Spisak FSS izložbi'!$B$6:$H$318,3,FALSE))","v":""},null,{"$f":"IF(B613=\"\",\"\",VLOOKUP(B613,'Spisak FSS izložbi'!$B$6:$H$318,6,FALSE))","v":""},{"$f":"IF(B613=\"\",\"\",VLOOKUP(B613,'Spisak FSS izložbi'!$B$6:$H$318,5,FALSE))","v":""},null,null,null,null,null,0,0,{"$f":"IF(B613=\"\",1,VLOOKUP(B613,'Spisak FSS izložbi'!$B$6:$H$318,7,FALSE))","v":1},0]
[600,null,{"$f":"IF(B614=\"\",\"\",VLOOKUP(B614,'Spisak FSS izložbi'!$B$6:$H$318,3,FALSE))","v":""},null,{"$f":"IF(B614=\"\",\"\",VLOOKUP(B614,'Spisak FSS izložbi'!$B$6:$H$318,6,FALSE))","v":""},{"$f":"IF(B614=\"\",\"\",VLOOKUP(B614,'Spisak FSS izložbi'!$B$6:$H$318,5,FALSE))","v":""},null,null,null,null,null,0,0,{"$f":"IF(B614=\"\",1,VLOOKUP(B614,'Spisak FSS izložbi'!$B$6:$H$318,7,FALSE))","v":1},0]
[601,null,{"$f":"IF(B615=\"\",\"\",VLOOKUP(B615,'Spisak FSS izložbi'!$B$6:$H$318,3,FALSE))","v":""},null,{"$f":"IF(B615=\"\",\"\",VLOOKUP(B615,'Spisak FSS izložbi'!$B$6:$H$318,6,FALSE))","v":""},{"$f":"IF(B615=\"\",\"\",VLOOKUP(B615,'Spisak FSS izložbi'!$B$6:$H$318,5,FALSE))","v":""},null,null,null,null,null,0,0,{"$f":"IF(B615=\"\",1,VLOOKUP(B615,'Spisak FSS izložbi'!$B$6:$H$318,7,FALSE))","v":1},0]
[602,null,{"$f":"IF(B616=\"\",\"\",VLOOKUP(B616,'Spisak FSS izložbi'!$B$6:$H$318,3,FALSE))","v":""},null,{"$f":"IF(B616=\"\",\"\",VLOOKUP(B616,'Spisak FSS izložbi'!$B$6:$H$318,6,FALSE))","v":""},{"$f":"IF(B616=\"\",\"\",VLOOKUP(B616,'Spisak FSS izložbi'!$B$6:$H$318,5,FALSE))","v":""},null,null,null,null,null,0,0,{"$f":"IF(B616=\"\",1,VLOOKUP(B616,'Spisak FSS izložbi'!$B$6:$H$318,7,FALSE))","v":1},0]
[603,null,{"$f":"IF(B617=\"\",\"\",VLOOKUP(B617,'Spisak FSS izložbi'!$B$6:$H$318,3,FALSE))","v":""},null,{"$f":"IF(B617=\"\",\"\",VLOOKUP(B617,'Spisak FSS izložbi'!$B$6:$H$318,6,FALSE))","v":""},{"$f":"IF(B617=\"\",\"\",VLOOKUP(B617,'Spisak FSS izložbi'!$B$6:$H$318,5,FALSE))","v":""},null,null,null,null,null,0,0,{"$f":"IF(B617=\"\",1,VLOOKUP(B617,'Spisak FSS izložbi'!$B$6:$H$318,7,FALSE))","v":1},0]
[604,null,{"$f":"IF(B618=\"\",\"\",VLOOKUP(B618,'Spisak FSS izložbi'!$B$6:$H$318,3,FALSE))","v":""},null,{"$f":"IF(B618=\"\",\"\",VLOOKUP(B618,'Spisak FSS izložbi'!$B$6:$H$318,6,FALSE))","v":""},{"$f":"IF(B618=\"\",\"\",VLOOKUP(B618,'Spisak FSS izložbi'!$B$6:$H$318,5,FALSE))","v":""},null,null,null,null,null,0,0,{"$f":"IF(B618=\"\",1,VLOOKUP(B618,'Spisak FSS izložbi'!$B$6:$H$318,7,FALSE))","v":1},0]
[605,null,{"$f":"IF(B619=\"\",\"\",VLOOKUP(B619,'Spisak FSS izložbi'!$B$6:$H$318,3,FALSE))","v":""},null,{"$f":"IF(B619=\"\",\"\",VLOOKUP(B619,'Spisak FSS izložbi'!$B$6:$H$318,6,FALSE))","v":""},{"$f":"IF(B619=\"\",\"\",VLOOKUP(B619,'Spisak FSS izložbi'!$B$6:$H$318,5,FALSE))","v":""},null,null,null,null,null,0,0,{"$f":"IF(B619=\"\",1,VLOOKUP(B619,'Spisak FSS izložbi'!$B$6:$H$318,7,FALSE))","v":1},0]
[606,null,{"$f":"IF(B620=\"\",\"\",VLOOKUP(B620,'Spisak FSS izložbi'!$B$6:$H$318,3,FALSE))","v":""},null,{"$f":"IF(B620=\"\",\"\",VLOOKUP(B620,'Spisak FSS izložbi'!$B$6:$H$318,6,FALSE))","v":""},{"$f":"IF(B620=\"\",\"\",VLOOKUP(B620,'Spisak FSS izložbi'!$B$6:$H$318,5,FALSE))","v":""},null,null,null,null,null,0,0,{"$f":"IF(B620=\"\",1,VLOOKUP(B620,'Spisak FSS izložbi'!$B$6:$H$318,7,FALSE))","v":1},0]
[607,null,{"$f":"IF(B621=\"\",\"\",VLOOKUP(B621,'Spisak FSS izložbi'!$B$6:$H$318,3,FALSE))","v":""},null,{"$f":"IF(B621=\"\",\"\",VLOOKUP(B621,'Spisak FSS izložbi'!$B$6:$H$318,6,FALSE))","v":""},{"$f":"IF(B621=\"\",\"\",VLOOKUP(B621,'Spisak FSS izložbi'!$B$6:$H$318,5,FALSE))","v":""},null,null,null,null,null,0,0,{"$f":"IF(B621=\"\",1,VLOOKUP(B621,'Spisak FSS izložbi'!$B$6:$H$318,7,FALSE))","v":1},0]
[608,null,{"$f":"IF(B622=\"\",\"\",VLOOKUP(B622,'Spisak FSS izložbi'!$B$6:$H$318,3,FALSE))","v":""},null,{"$f":"IF(B622=\"\",\"\",VLOOKUP(B622,'Spisak FSS izložbi'!$B$6:$H$318,6,FALSE))","v":""},{"$f":"IF(B622=\"\",\"\",VLOOKUP(B622,'Spisak FSS izložbi'!$B$6:$H$318,5,FALSE))","v":""},null,null,null,null,null,0,0,{"$f":"IF(B622=\"\",1,VLOOKUP(B622,'Spisak FSS izložbi'!$B$6:$H$318,7,FALSE))","v":1},0]
[609,null,{"$f":"IF(B623=\"\",\"\",VLOOKUP(B623,'Spisak FSS izložbi'!$B$6:$H$318,3,FALSE))","v":""},null,{"$f":"IF(B623=\"\",\"\",VLOOKUP(B623,'Spisak FSS izložbi'!$B$6:$H$318,6,FALSE))","v":""},{"$f":"IF(B623=\"\",\"\",VLOOKUP(B623,'Spisak FSS izložbi'!$B$6:$H$318,5,FALSE))","v":""},null,null,null,null,null,0,0,{"$f":"IF(B623=\"\",1,VLOOKUP(B623,'Spisak FSS izložbi'!$B$6:$H$318,7,FALSE))","v":1},0]
[610,null,{"$f":"IF(B624=\"\",\"\",VLOOKUP(B624,'Spisak FSS izložbi'!$B$6:$H$318,3,FALSE))","v":""},null,{"$f":"IF(B624=\"\",\"\",VLOOKUP(B624,'Spisak FSS izložbi'!$B$6:$H$318,6,FALSE))","v":""},{"$f":"IF(B624=\"\",\"\",VLOOKUP(B624,'Spisak FSS izložbi'!$B$6:$H$318,5,FALSE))","v":""},null,null,null,null,null,0,0,{"$f":"IF(B624=\"\",1,VLOOKUP(B624,'Spisak FSS izložbi'!$B$6:$H$318,7,FALSE))","v":1},0]
[611,null,{"$f":"IF(B625=\"\",\"\",VLOOKUP(B625,'Spisak FSS izložbi'!$B$6:$H$318,3,FALSE))","v":""},null,{"$f":"IF(B625=\"\",\"\",VLOOKUP(B625,'Spisak FSS izložbi'!$B$6:$H$318,6,FALSE))","v":""},{"$f":"IF(B625=\"\",\"\",VLOOKUP(B625,'Spisak FSS izložbi'!$B$6:$H$318,5,FALSE))","v":""},null,null,null,null,null,0,0,{"$f":"IF(B625=\"\",1,VLOOKUP(B625,'Spisak FSS izložbi'!$B$6:$H$318,7,FALSE))","v":1},0]
[612,null,{"$f":"IF(B626=\"\",\"\",VLOOKUP(B626,'Spisak FSS izložbi'!$B$6:$H$318,3,FALSE))","v":""},null,{"$f":"IF(B626=\"\",\"\",VLOOKUP(B626,'Spisak FSS izložbi'!$B$6:$H$318,6,FALSE))","v":""},{"$f":"IF(B626=\"\",\"\",VLOOKUP(B626,'Spisak FSS izložbi'!$B$6:$H$318,5,FALSE))","v":""},null,null,null,null,null,0,0,{"$f":"IF(B626=\"\",1,VLOOKUP(B626,'Spisak FSS izložbi'!$B$6:$H$318,7,FALSE))","v":1},0]
[613,null,{"$f":"IF(B627=\"\",\"\",VLOOKUP(B627,'Spisak FSS izložbi'!$B$6:$H$318,3,FALSE))","v":""},null,{"$f":"IF(B627=\"\",\"\",VLOOKUP(B627,'Spisak FSS izložbi'!$B$6:$H$318,6,FALSE))","v":""},{"$f":"IF(B627=\"\",\"\",VLOOKUP(B627,'Spisak FSS izložbi'!$B$6:$H$318,5,FALSE))","v":""},null,null,null,null,null,0,0,{"$f":"IF(B627=\"\",1,VLOOKUP(B627,'Spisak FSS izložbi'!$B$6:$H$318,7,FALSE))","v":1},0]
[614,null,{"$f":"IF(B628=\"\",\"\",VLOOKUP(B628,'Spisak FSS izložbi'!$B$6:$H$318,3,FALSE))","v":""},null,{"$f":"IF(B628=\"\",\"\",VLOOKUP(B628,'Spisak FSS izložbi'!$B$6:$H$318,6,FALSE))","v":""},{"$f":"IF(B628=\"\",\"\",VLOOKUP(B628,'Spisak FSS izložbi'!$B$6:$H$318,5,FALSE))","v":""},null,null,null,null,null,0,0,{"$f":"IF(B628=\"\",1,VLOOKUP(B628,'Spisak FSS izložbi'!$B$6:$H$318,7,FALSE))","v":1},0]
[615,null,{"$f":"IF(B629=\"\",\"\",VLOOKUP(B629,'Spisak FSS izložbi'!$B$6:$H$318,3,FALSE))","v":""},null,{"$f":"IF(B629=\"\",\"\",VLOOKUP(B629,'Spisak FSS izložbi'!$B$6:$H$318,6,FALSE))","v":""},{"$f":"IF(B629=\"\",\"\",VLOOKUP(B629,'Spisak FSS izložbi'!$B$6:$H$318,5,FALSE))","v":""},null,null,null,null,null,0,0,{"$f":"IF(B629=\"\",1,VLOOKUP(B629,'Spisak FSS izložbi'!$B$6:$H$318,7,FALSE))","v":1},0]
[616,null,{"$f":"IF(B630=\"\",\"\",VLOOKUP(B630,'Spisak FSS izložbi'!$B$6:$H$318,3,FALSE))","v":""},null,{"$f":"IF(B630=\"\",\"\",VLOOKUP(B630,'Spisak FSS izložbi'!$B$6:$H$318,6,FALSE))","v":""},{"$f":"IF(B630=\"\",\"\",VLOOKUP(B630,'Spisak FSS izložbi'!$B$6:$H$318,5,FALSE))","v":""},null,null,null,null,null,0,0,{"$f":"IF(B630=\"\",1,VLOOKUP(B630,'Spisak FSS izložbi'!$B$6:$H$318,7,FALSE))","v":1},0]
[617,null,{"$f":"IF(B631=\"\",\"\",VLOOKUP(B631,'Spisak FSS izložbi'!$B$6:$H$318,3,FALSE))","v":""},null,{"$f":"IF(B631=\"\",\"\",VLOOKUP(B631,'Spisak FSS izložbi'!$B$6:$H$318,6,FALSE))","v":""},{"$f":"IF(B631=\"\",\"\",VLOOKUP(B631,'Spisak FSS izložbi'!$B$6:$H$318,5,FALSE))","v":""},null,null,null,null,null,0,0,{"$f":"IF(B631=\"\",1,VLOOKUP(B631,'Spisak FSS izložbi'!$B$6:$H$318,7,FALSE))","v":1},0]
[618,null,{"$f":"IF(B632=\"\",\"\",VLOOKUP(B632,'Spisak FSS izložbi'!$B$6:$H$318,3,FALSE))","v":""},null,{"$f":"IF(B632=\"\",\"\",VLOOKUP(B632,'Spisak FSS izložbi'!$B$6:$H$318,6,FALSE))","v":""},{"$f":"IF(B632=\"\",\"\",VLOOKUP(B632,'Spisak FSS izložbi'!$B$6:$H$318,5,FALSE))","v":""},null,null,null,null,null,0,0,{"$f":"IF(B632=\"\",1,VLOOKUP(B632,'Spisak FSS izložbi'!$B$6:$H$318,7,FALSE))","v":1},0]
[619,null,{"$f":"IF(B633=\"\",\"\",VLOOKUP(B633,'Spisak FSS izložbi'!$B$6:$H$318,3,FALSE))","v":""},null,{"$f":"IF(B633=\"\",\"\",VLOOKUP(B633,'Spisak FSS izložbi'!$B$6:$H$318,6,FALSE))","v":""},{"$f":"IF(B633=\"\",\"\",VLOOKUP(B633,'Spisak FSS izložbi'!$B$6:$H$318,5,FALSE))","v":""},null,null,null,null,null,0,0,{"$f":"IF(B633=\"\",1,VLOOKUP(B633,'Spisak FSS izložbi'!$B$6:$H$318,7,FALSE))","v":1},0]
[620,null,{"$f":"IF(B634=\"\",\"\",VLOOKUP(B634,'Spisak FSS izložbi'!$B$6:$H$318,3,FALSE))","v":""},null,{"$f":"IF(B634=\"\",\"\",VLOOKUP(B634,'Spisak FSS izložbi'!$B$6:$H$318,6,FALSE))","v":""},{"$f":"IF(B634=\"\",\"\",VLOOKUP(B634,'Spisak FSS izložbi'!$B$6:$H$318,5,FALSE))","v":""},null,null,null,null,null,0,0,{"$f":"IF(B634=\"\",1,VLOOKUP(B634,'Spisak FSS izložbi'!$B$6:$H$318,7,FALSE))","v":1},0]
[621,null,{"$f":"IF(B635=\"\",\"\",VLOOKUP(B635,'Spisak FSS izložbi'!$B$6:$H$318,3,FALSE))","v":""},null,{"$f":"IF(B635=\"\",\"\",VLOOKUP(B635,'Spisak FSS izložbi'!$B$6:$H$318,6,FALSE))","v":""},{"$f":"IF(B635=\"\",\"\",VLOOKUP(B635,'Spisak FSS izložbi'!$B$6:$H$318,5,FALSE))","v":""},null,null,null,null,null,0,0,{"$f":"IF(B635=\"\",1,VLOOKUP(B635,'Spisak FSS izložbi'!$B$6:$H$318,7,FALSE))","v":1},0]
[622,null,{"$f":"IF(B636=\"\",\"\",VLOOKUP(B636,'Spisak FSS izložbi'!$B$6:$H$318,3,FALSE))","v":""},null,{"$f":"IF(B636=\"\",\"\",VLOOKUP(B636,'Spisak FSS izložbi'!$B$6:$H$318,6,FALSE))","v":""},{"$f":"IF(B636=\"\",\"\",VLOOKUP(B636,'Spisak FSS izložbi'!$B$6:$H$318,5,FALSE))","v":""},null,null,null,null,null,0,0,{"$f":"IF(B636=\"\",1,VLOOKUP(B636,'Spisak FSS izložbi'!$B$6:$H$318,7,FALSE))","v":1},0]
[623,null,{"$f":"IF(B637=\"\",\"\",VLOOKUP(B637,'Spisak FSS izložbi'!$B$6:$H$318,3,FALSE))","v":""},null,{"$f":"IF(B637=\"\",\"\",VLOOKUP(B637,'Spisak FSS izložbi'!$B$6:$H$318,6,FALSE))","v":""},{"$f":"IF(B637=\"\",\"\",VLOOKUP(B637,'Spisak FSS izložbi'!$B$6:$H$318,5,FALSE))","v":""},null,null,null,null,null,0,0,{"$f":"IF(B637=\"\",1,VLOOKUP(B637,'Spisak FSS izložbi'!$B$6:$H$318,7,FALSE))","v":1},0]
[624,null,{"$f":"IF(B638=\"\",\"\",VLOOKUP(B638,'Spisak FSS izložbi'!$B$6:$H$318,3,FALSE))","v":""},null,{"$f":"IF(B638=\"\",\"\",VLOOKUP(B638,'Spisak FSS izložbi'!$B$6:$H$318,6,FALSE))","v":""},{"$f":"IF(B638=\"\",\"\",VLOOKUP(B638,'Spisak FSS izložbi'!$B$6:$H$318,5,FALSE))","v":""},null,null,null,null,null,0,0,{"$f":"IF(B638=\"\",1,VLOOKUP(B638,'Spisak FSS izložbi'!$B$6:$H$318,7,FALSE))","v":1},0]
[625,null,{"$f":"IF(B639=\"\",\"\",VLOOKUP(B639,'Spisak FSS izložbi'!$B$6:$H$318,3,FALSE))","v":""},null,{"$f":"IF(B639=\"\",\"\",VLOOKUP(B639,'Spisak FSS izložbi'!$B$6:$H$318,6,FALSE))","v":""},{"$f":"IF(B639=\"\",\"\",VLOOKUP(B639,'Spisak FSS izložbi'!$B$6:$H$318,5,FALSE))","v":""},null,null,null,null,null,0,0,{"$f":"IF(B639=\"\",1,VLOOKUP(B639,'Spisak FSS izložbi'!$B$6:$H$318,7,FALSE))","v":1},0]
[626,null,{"$f":"IF(B640=\"\",\"\",VLOOKUP(B640,'Spisak FSS izložbi'!$B$6:$H$318,3,FALSE))","v":""},null,{"$f":"IF(B640=\"\",\"\",VLOOKUP(B640,'Spisak FSS izložbi'!$B$6:$H$318,6,FALSE))","v":""},{"$f":"IF(B640=\"\",\"\",VLOOKUP(B640,'Spisak FSS izložbi'!$B$6:$H$318,5,FALSE))","v":""},null,null,null,null,null,0,0,{"$f":"IF(B640=\"\",1,VLOOKUP(B640,'Spisak FSS izložbi'!$B$6:$H$318,7,FALSE))","v":1},0]
[627,null,{"$f":"IF(B641=\"\",\"\",VLOOKUP(B641,'Spisak FSS izložbi'!$B$6:$H$318,3,FALSE))","v":""},null,{"$f":"IF(B641=\"\",\"\",VLOOKUP(B641,'Spisak FSS izložbi'!$B$6:$H$318,6,FALSE))","v":""},{"$f":"IF(B641=\"\",\"\",VLOOKUP(B641,'Spisak FSS izložbi'!$B$6:$H$318,5,FALSE))","v":""},null,null,null,null,null,0,0,{"$f":"IF(B641=\"\",1,VLOOKUP(B641,'Spisak FSS izložbi'!$B$6:$H$318,7,FALSE))","v":1},0]
[628,null,{"$f":"IF(B642=\"\",\"\",VLOOKUP(B642,'Spisak FSS izložbi'!$B$6:$H$318,3,FALSE))","v":""},null,{"$f":"IF(B642=\"\",\"\",VLOOKUP(B642,'Spisak FSS izložbi'!$B$6:$H$318,6,FALSE))","v":""},{"$f":"IF(B642=\"\",\"\",VLOOKUP(B642,'Spisak FSS izložbi'!$B$6:$H$318,5,FALSE))","v":""},null,null,null,null,null,0,0,{"$f":"IF(B642=\"\",1,VLOOKUP(B642,'Spisak FSS izložbi'!$B$6:$H$318,7,FALSE))","v":1},0]
[629,null,{"$f":"IF(B643=\"\",\"\",VLOOKUP(B643,'Spisak FSS izložbi'!$B$6:$H$318,3,FALSE))","v":""},null,{"$f":"IF(B643=\"\",\"\",VLOOKUP(B643,'Spisak FSS izložbi'!$B$6:$H$318,6,FALSE))","v":""},{"$f":"IF(B643=\"\",\"\",VLOOKUP(B643,'Spisak FSS izložbi'!$B$6:$H$318,5,FALSE))","v":""},null,null,null,null,null,0,0,{"$f":"IF(B643=\"\",1,VLOOKUP(B643,'Spisak FSS izložbi'!$B$6:$H$318,7,FALSE))","v":1},0]
[630,null,{"$f":"IF(B644=\"\",\"\",VLOOKUP(B644,'Spisak FSS izložbi'!$B$6:$H$318,3,FALSE))","v":""},null,{"$f":"IF(B644=\"\",\"\",VLOOKUP(B644,'Spisak FSS izložbi'!$B$6:$H$318,6,FALSE))","v":""},{"$f":"IF(B644=\"\",\"\",VLOOKUP(B644,'Spisak FSS izložbi'!$B$6:$H$318,5,FALSE))","v":""},null,null,null,null,null,0,0,{"$f":"IF(B644=\"\",1,VLOOKUP(B644,'Spisak FSS izložbi'!$B$6:$H$318,7,FALSE))","v":1},0]
[631,null,{"$f":"IF(B645=\"\",\"\",VLOOKUP(B645,'Spisak FSS izložbi'!$B$6:$H$318,3,FALSE))","v":""},null,{"$f":"IF(B645=\"\",\"\",VLOOKUP(B645,'Spisak FSS izložbi'!$B$6:$H$318,6,FALSE))","v":""},{"$f":"IF(B645=\"\",\"\",VLOOKUP(B645,'Spisak FSS izložbi'!$B$6:$H$318,5,FALSE))","v":""},null,null,null,null,null,0,0,{"$f":"IF(B645=\"\",1,VLOOKUP(B645,'Spisak FSS izložbi'!$B$6:$H$318,7,FALSE))","v":1},0]
[632,null,{"$f":"IF(B646=\"\",\"\",VLOOKUP(B646,'Spisak FSS izložbi'!$B$6:$H$318,3,FALSE))","v":""},null,{"$f":"IF(B646=\"\",\"\",VLOOKUP(B646,'Spisak FSS izložbi'!$B$6:$H$318,6,FALSE))","v":""},{"$f":"IF(B646=\"\",\"\",VLOOKUP(B646,'Spisak FSS izložbi'!$B$6:$H$318,5,FALSE))","v":""},null,null,null,null,null,0,0,{"$f":"IF(B646=\"\",1,VLOOKUP(B646,'Spisak FSS izložbi'!$B$6:$H$318,7,FALSE))","v":1},0]
[633,null,{"$f":"IF(B647=\"\",\"\",VLOOKUP(B647,'Spisak FSS izložbi'!$B$6:$H$318,3,FALSE))","v":""},null,{"$f":"IF(B647=\"\",\"\",VLOOKUP(B647,'Spisak FSS izložbi'!$B$6:$H$318,6,FALSE))","v":""},{"$f":"IF(B647=\"\",\"\",VLOOKUP(B647,'Spisak FSS izložbi'!$B$6:$H$318,5,FALSE))","v":""},null,null,null,null,null,0,0,{"$f":"IF(B647=\"\",1,VLOOKUP(B647,'Spisak FSS izložbi'!$B$6:$H$318,7,FALSE))","v":1},0]
[634,null,{"$f":"IF(B648=\"\",\"\",VLOOKUP(B648,'Spisak FSS izložbi'!$B$6:$H$318,3,FALSE))","v":""},null,{"$f":"IF(B648=\"\",\"\",VLOOKUP(B648,'Spisak FSS izložbi'!$B$6:$H$318,6,FALSE))","v":""},{"$f":"IF(B648=\"\",\"\",VLOOKUP(B648,'Spisak FSS izložbi'!$B$6:$H$318,5,FALSE))","v":""},null,null,null,null,null,0,0,{"$f":"IF(B648=\"\",1,VLOOKUP(B648,'Spisak FSS izložbi'!$B$6:$H$318,7,FALSE))","v":1},0]
[635,null,{"$f":"IF(B649=\"\",\"\",VLOOKUP(B649,'Spisak FSS izložbi'!$B$6:$H$318,3,FALSE))","v":""},null,{"$f":"IF(B649=\"\",\"\",VLOOKUP(B649,'Spisak FSS izložbi'!$B$6:$H$318,6,FALSE))","v":""},{"$f":"IF(B649=\"\",\"\",VLOOKUP(B649,'Spisak FSS izložbi'!$B$6:$H$318,5,FALSE))","v":""},null,null,null,null,null,0,0,{"$f":"IF(B649=\"\",1,VLOOKUP(B649,'Spisak FSS izložbi'!$B$6:$H$318,7,FALSE))","v":1},0]
[636,null,{"$f":"IF(B650=\"\",\"\",VLOOKUP(B650,'Spisak FSS izložbi'!$B$6:$H$318,3,FALSE))","v":""},null,{"$f":"IF(B650=\"\",\"\",VLOOKUP(B650,'Spisak FSS izložbi'!$B$6:$H$318,6,FALSE))","v":""},{"$f":"IF(B650=\"\",\"\",VLOOKUP(B650,'Spisak FSS izložbi'!$B$6:$H$318,5,FALSE))","v":""},null,null,null,null,null,0,0,{"$f":"IF(B650=\"\",1,VLOOKUP(B650,'Spisak FSS izložbi'!$B$6:$H$318,7,FALSE))","v":1},0]
[637,null,{"$f":"IF(B651=\"\",\"\",VLOOKUP(B651,'Spisak FSS izložbi'!$B$6:$H$318,3,FALSE))","v":""},null,{"$f":"IF(B651=\"\",\"\",VLOOKUP(B651,'Spisak FSS izložbi'!$B$6:$H$318,6,FALSE))","v":""},{"$f":"IF(B651=\"\",\"\",VLOOKUP(B651,'Spisak FSS izložbi'!$B$6:$H$318,5,FALSE))","v":""},null,null,null,null,null,0,0,{"$f":"IF(B651=\"\",1,VLOOKUP(B651,'Spisak FSS izložbi'!$B$6:$H$318,7,FALSE))","v":1},0]
[638,null,{"$f":"IF(B652=\"\",\"\",VLOOKUP(B652,'Spisak FSS izložbi'!$B$6:$H$318,3,FALSE))","v":""},null,{"$f":"IF(B652=\"\",\"\",VLOOKUP(B652,'Spisak FSS izložbi'!$B$6:$H$318,6,FALSE))","v":""},{"$f":"IF(B652=\"\",\"\",VLOOKUP(B652,'Spisak FSS izložbi'!$B$6:$H$318,5,FALSE))","v":""},null,null,null,null,null,0,0,{"$f":"IF(B652=\"\",1,VLOOKUP(B652,'Spisak FSS izložbi'!$B$6:$H$318,7,FALSE))","v":1},0]
[639,null,{"$f":"IF(B653=\"\",\"\",VLOOKUP(B653,'Spisak FSS izložbi'!$B$6:$H$318,3,FALSE))","v":""},null,{"$f":"IF(B653=\"\",\"\",VLOOKUP(B653,'Spisak FSS izložbi'!$B$6:$H$318,6,FALSE))","v":""},{"$f":"IF(B653=\"\",\"\",VLOOKUP(B653,'Spisak FSS izložbi'!$B$6:$H$318,5,FALSE))","v":""},null,null,null,null,null,0,0,{"$f":"IF(B653=\"\",1,VLOOKUP(B653,'Spisak FSS izložbi'!$B$6:$H$318,7,FALSE))","v":1},0]
[640,null,{"$f":"IF(B654=\"\",\"\",VLOOKUP(B654,'Spisak FSS izložbi'!$B$6:$H$318,3,FALSE))","v":""},null,{"$f":"IF(B654=\"\",\"\",VLOOKUP(B654,'Spisak FSS izložbi'!$B$6:$H$318,6,FALSE))","v":""},{"$f":"IF(B654=\"\",\"\",VLOOKUP(B654,'Spisak FSS izložbi'!$B$6:$H$318,5,FALSE))","v":""},null,null,null,null,null,0,0,{"$f":"IF(B654=\"\",1,VLOOKUP(B654,'Spisak FSS izložbi'!$B$6:$H$318,7,FALSE))","v":1},0]
[641,null,{"$f":"IF(B655=\"\",\"\",VLOOKUP(B655,'Spisak FSS izložbi'!$B$6:$H$318,3,FALSE))","v":""},null,{"$f":"IF(B655=\"\",\"\",VLOOKUP(B655,'Spisak FSS izložbi'!$B$6:$H$318,6,FALSE))","v":""},{"$f":"IF(B655=\"\",\"\",VLOOKUP(B655,'Spisak FSS izložbi'!$B$6:$H$318,5,FALSE))","v":""},null,null,null,null,null,0,0,{"$f":"IF(B655=\"\",1,VLOOKUP(B655,'Spisak FSS izložbi'!$B$6:$H$318,7,FALSE))","v":1},0]
[642,null,{"$f":"IF(B656=\"\",\"\",VLOOKUP(B656,'Spisak FSS izložbi'!$B$6:$H$318,3,FALSE))","v":""},null,{"$f":"IF(B656=\"\",\"\",VLOOKUP(B656,'Spisak FSS izložbi'!$B$6:$H$318,6,FALSE))","v":""},{"$f":"IF(B656=\"\",\"\",VLOOKUP(B656,'Spisak FSS izložbi'!$B$6:$H$318,5,FALSE))","v":""},null,null,null,null,null,{"$f":"IF(E656=$H$1,$H$6,IF(E656=$I$1,$I$6,IF(E656=$J$1,$J$6,IF(E656=$K$1,$K$6,IF(E656=$L$1,$L$6,IF(E656=$M$1,$M$6,IF(E656=$N$1,$N$6,IF(E656=$O$1,$O$6,0))))))))","v":0},{"$f":"IF(OR(E656=\"\",K656=\"\")=TRUE,0,VLOOKUP(K656,$G$1:$O$7,MATCH(E656,$G$1:$O$1,0),FALSE))","v":0},{"$f":"IF(B656=\"\",1,VLOOKUP(B656,'Spisak FSS izložbi'!$B$6:$H$318,7,FALSE))","v":1},{"$f":"(L656+M656)*N656","v":0}]
[643,null,{"$f":"IF(B657=\"\",\"\",VLOOKUP(B657,'Spisak FSS izložbi'!$B$6:$H$318,3,FALSE))","v":""},null,{"$f":"IF(B657=\"\",\"\",VLOOKUP(B657,'Spisak FSS izložbi'!$B$6:$H$318,6,FALSE))","v":""},{"$f":"IF(B657=\"\",\"\",VLOOKUP(B657,'Spisak FSS izložbi'!$B$6:$H$318,5,FALSE))","v":""},null,null,null,null,null,0,0,{"$f":"IF(B657=\"\",1,VLOOKUP(B657,'Spisak FSS izložbi'!$B$6:$H$318,7,FALSE))","v":1},0]
[644,null,{"$f":"IF(B658=\"\",\"\",VLOOKUP(B658,'Spisak FSS izložbi'!$B$6:$H$318,3,FALSE))","v":""},null,{"$f":"IF(B658=\"\",\"\",VLOOKUP(B658,'Spisak FSS izložbi'!$B$6:$H$318,6,FALSE))","v":""},{"$f":"IF(B658=\"\",\"\",VLOOKUP(B658,'Spisak FSS izložbi'!$B$6:$H$318,5,FALSE))","v":""},null,null,null,null,null,0,0,{"$f":"IF(B658=\"\",1,VLOOKUP(B658,'Spisak FSS izložbi'!$B$6:$H$318,7,FALSE))","v":1},0]
[645,null,{"$f":"IF(B659=\"\",\"\",VLOOKUP(B659,'Spisak FSS izložbi'!$B$6:$H$318,3,FALSE))","v":""},null,{"$f":"IF(B659=\"\",\"\",VLOOKUP(B659,'Spisak FSS izložbi'!$B$6:$H$318,6,FALSE))","v":""},{"$f":"IF(B659=\"\",\"\",VLOOKUP(B659,'Spisak FSS izložbi'!$B$6:$H$318,5,FALSE))","v":""},null,null,null,null,null,0,0,{"$f":"IF(B659=\"\",1,VLOOKUP(B659,'Spisak FSS izložbi'!$B$6:$H$318,7,FALSE))","v":1},0]
[646,null,{"$f":"IF(B660=\"\",\"\",VLOOKUP(B660,'Spisak FSS izložbi'!$B$6:$H$318,3,FALSE))","v":""},null,{"$f":"IF(B660=\"\",\"\",VLOOKUP(B660,'Spisak FSS izložbi'!$B$6:$H$318,6,FALSE))","v":""},{"$f":"IF(B660=\"\",\"\",VLOOKUP(B660,'Spisak FSS izložbi'!$B$6:$H$318,5,FALSE))","v":""},null,null,null,null,null,0,0,{"$f":"IF(B660=\"\",1,VLOOKUP(B660,'Spisak FSS izložbi'!$B$6:$H$318,7,FALSE))","v":1},0]
[647,null,{"$f":"IF(B661=\"\",\"\",VLOOKUP(B661,'Spisak FSS izložbi'!$B$6:$H$318,3,FALSE))","v":""},null,{"$f":"IF(B661=\"\",\"\",VLOOKUP(B661,'Spisak FSS izložbi'!$B$6:$H$318,6,FALSE))","v":""},{"$f":"IF(B661=\"\",\"\",VLOOKUP(B661,'Spisak FSS izložbi'!$B$6:$H$318,5,FALSE))","v":""},null,null,null,null,null,0,0,{"$f":"IF(B661=\"\",1,VLOOKUP(B661,'Spisak FSS izložbi'!$B$6:$H$318,7,FALSE))","v":1},0]
[648,null,{"$f":"IF(B662=\"\",\"\",VLOOKUP(B662,'Spisak FSS izložbi'!$B$6:$H$318,3,FALSE))","v":""},null,{"$f":"IF(B662=\"\",\"\",VLOOKUP(B662,'Spisak FSS izložbi'!$B$6:$H$318,6,FALSE))","v":""},{"$f":"IF(B662=\"\",\"\",VLOOKUP(B662,'Spisak FSS izložbi'!$B$6:$H$318,5,FALSE))","v":""},null,null,null,null,null,0,0,{"$f":"IF(B662=\"\",1,VLOOKUP(B662,'Spisak FSS izložbi'!$B$6:$H$318,7,FALSE))","v":1},0]
[649,null,{"$f":"IF(B663=\"\",\"\",VLOOKUP(B663,'Spisak FSS izložbi'!$B$6:$H$318,3,FALSE))","v":""},null,{"$f":"IF(B663=\"\",\"\",VLOOKUP(B663,'Spisak FSS izložbi'!$B$6:$H$318,6,FALSE))","v":""},{"$f":"IF(B663=\"\",\"\",VLOOKUP(B663,'Spisak FSS izložbi'!$B$6:$H$318,5,FALSE))","v":""},null,null,null,null,null,0,0,{"$f":"IF(B663=\"\",1,VLOOKUP(B663,'Spisak FSS izložbi'!$B$6:$H$318,7,FALSE))","v":1},0]
[650,null,{"$f":"IF(B664=\"\",\"\",VLOOKUP(B664,'Spisak FSS izložbi'!$B$6:$H$318,3,FALSE))","v":""},null,{"$f":"IF(B664=\"\",\"\",VLOOKUP(B664,'Spisak FSS izložbi'!$B$6:$H$318,6,FALSE))","v":""},{"$f":"IF(B664=\"\",\"\",VLOOKUP(B664,'Spisak FSS izložbi'!$B$6:$H$318,5,FALSE))","v":""},null,null,null,null,null,0,0,{"$f":"IF(B664=\"\",1,VLOOKUP(B664,'Spisak FSS izložbi'!$B$6:$H$318,7,FALSE))","v":1},0]
[651,null,{"$f":"IF(B665=\"\",\"\",VLOOKUP(B665,'Spisak FSS izložbi'!$B$6:$H$318,3,FALSE))","v":""},null,{"$f":"IF(B665=\"\",\"\",VLOOKUP(B665,'Spisak FSS izložbi'!$B$6:$H$318,6,FALSE))","v":""},{"$f":"IF(B665=\"\",\"\",VLOOKUP(B665,'Spisak FSS izložbi'!$B$6:$H$318,5,FALSE))","v":""},null,null,null,null,null,0,0,{"$f":"IF(B665=\"\",1,VLOOKUP(B665,'Spisak FSS izložbi'!$B$6:$H$318,7,FALSE))","v":1},0]
[652,null,{"$f":"IF(B666=\"\",\"\",VLOOKUP(B666,'Spisak FSS izložbi'!$B$6:$H$318,3,FALSE))","v":""},null,{"$f":"IF(B666=\"\",\"\",VLOOKUP(B666,'Spisak FSS izložbi'!$B$6:$H$318,6,FALSE))","v":""},{"$f":"IF(B666=\"\",\"\",VLOOKUP(B666,'Spisak FSS izložbi'!$B$6:$H$318,5,FALSE))","v":""},null,null,null,null,null,0,0,{"$f":"IF(B666=\"\",1,VLOOKUP(B666,'Spisak FSS izložbi'!$B$6:$H$318,7,FALSE))","v":1},0]
[653,null,{"$f":"IF(B667=\"\",\"\",VLOOKUP(B667,'Spisak FSS izložbi'!$B$6:$H$318,3,FALSE))","v":""},null,{"$f":"IF(B667=\"\",\"\",VLOOKUP(B667,'Spisak FSS izložbi'!$B$6:$H$318,6,FALSE))","v":""},{"$f":"IF(B667=\"\",\"\",VLOOKUP(B667,'Spisak FSS izložbi'!$B$6:$H$318,5,FALSE))","v":""},null,null,null,null,null,0,0,{"$f":"IF(B667=\"\",1,VLOOKUP(B667,'Spisak FSS izložbi'!$B$6:$H$318,7,FALSE))","v":1},0]
[654,null,{"$f":"IF(B668=\"\",\"\",VLOOKUP(B668,'Spisak FSS izložbi'!$B$6:$H$318,3,FALSE))","v":""},null,{"$f":"IF(B668=\"\",\"\",VLOOKUP(B668,'Spisak FSS izložbi'!$B$6:$H$318,6,FALSE))","v":""},{"$f":"IF(B668=\"\",\"\",VLOOKUP(B668,'Spisak FSS izložbi'!$B$6:$H$318,5,FALSE))","v":""},null,null,null,null,null,0,0,{"$f":"IF(B668=\"\",1,VLOOKUP(B668,'Spisak FSS izložbi'!$B$6:$H$318,7,FALSE))","v":1},0]
[655,null,{"$f":"IF(B669=\"\",\"\",VLOOKUP(B669,'Spisak FSS izložbi'!$B$6:$H$318,3,FALSE))","v":""},null,{"$f":"IF(B669=\"\",\"\",VLOOKUP(B669,'Spisak FSS izložbi'!$B$6:$H$318,6,FALSE))","v":""},{"$f":"IF(B669=\"\",\"\",VLOOKUP(B669,'Spisak FSS izložbi'!$B$6:$H$318,5,FALSE))","v":""},null,null,null,null,null,0,0,{"$f":"IF(B669=\"\",1,VLOOKUP(B669,'Spisak FSS izložbi'!$B$6:$H$318,7,FALSE))","v":1},0]
[656,null,{"$f":"IF(B670=\"\",\"\",VLOOKUP(B670,'Spisak FSS izložbi'!$B$6:$H$318,3,FALSE))","v":""},null,{"$f":"IF(B670=\"\",\"\",VLOOKUP(B670,'Spisak FSS izložbi'!$B$6:$H$318,6,FALSE))","v":""},{"$f":"IF(B670=\"\",\"\",VLOOKUP(B670,'Spisak FSS izložbi'!$B$6:$H$318,5,FALSE))","v":""},null,null,null,null,null,0,0,{"$f":"IF(B670=\"\",1,VLOOKUP(B670,'Spisak FSS izložbi'!$B$6:$H$318,7,FALSE))","v":1},0]
[657,null,{"$f":"IF(B671=\"\",\"\",VLOOKUP(B671,'Spisak FSS izložbi'!$B$6:$H$318,3,FALSE))","v":""},null,{"$f":"IF(B671=\"\",\"\",VLOOKUP(B671,'Spisak FSS izložbi'!$B$6:$H$318,6,FALSE))","v":""},{"$f":"IF(B671=\"\",\"\",VLOOKUP(B671,'Spisak FSS izložbi'!$B$6:$H$318,5,FALSE))","v":""},null,null,null,null,null,0,0,{"$f":"IF(B671=\"\",1,VLOOKUP(B671,'Spisak FSS izložbi'!$B$6:$H$318,7,FALSE))","v":1},0]
[658,null,{"$f":"IF(B672=\"\",\"\",VLOOKUP(B672,'Spisak FSS izložbi'!$B$6:$H$318,3,FALSE))","v":""},null,{"$f":"IF(B672=\"\",\"\",VLOOKUP(B672,'Spisak FSS izložbi'!$B$6:$H$318,6,FALSE))","v":""},{"$f":"IF(B672=\"\",\"\",VLOOKUP(B672,'Spisak FSS izložbi'!$B$6:$H$318,5,FALSE))","v":""},null,null,null,null,null,0,0,{"$f":"IF(B672=\"\",1,VLOOKUP(B672,'Spisak FSS izložbi'!$B$6:$H$318,7,FALSE))","v":1},0]
[659,null,{"$f":"IF(B673=\"\",\"\",VLOOKUP(B673,'Spisak FSS izložbi'!$B$6:$H$318,3,FALSE))","v":""},null,{"$f":"IF(B673=\"\",\"\",VLOOKUP(B673,'Spisak FSS izložbi'!$B$6:$H$318,6,FALSE))","v":""},{"$f":"IF(B673=\"\",\"\",VLOOKUP(B673,'Spisak FSS izložbi'!$B$6:$H$318,5,FALSE))","v":""},null,null,null,null,null,0,0,{"$f":"IF(B673=\"\",1,VLOOKUP(B673,'Spisak FSS izložbi'!$B$6:$H$318,7,FALSE))","v":1},0]
[660,null,{"$f":"IF(B674=\"\",\"\",VLOOKUP(B674,'Spisak FSS izložbi'!$B$6:$H$318,3,FALSE))","v":""},null,{"$f":"IF(B674=\"\",\"\",VLOOKUP(B674,'Spisak FSS izložbi'!$B$6:$H$318,6,FALSE))","v":""},{"$f":"IF(B674=\"\",\"\",VLOOKUP(B674,'Spisak FSS izložbi'!$B$6:$H$318,5,FALSE))","v":""},null,null,null,null,null,0,0,{"$f":"IF(B674=\"\",1,VLOOKUP(B674,'Spisak FSS izložbi'!$B$6:$H$318,7,FALSE))","v":1},0]
[661,null,{"$f":"IF(B675=\"\",\"\",VLOOKUP(B675,'Spisak FSS izložbi'!$B$6:$H$318,3,FALSE))","v":""},null,{"$f":"IF(B675=\"\",\"\",VLOOKUP(B675,'Spisak FSS izložbi'!$B$6:$H$318,6,FALSE))","v":""},{"$f":"IF(B675=\"\",\"\",VLOOKUP(B675,'Spisak FSS izložbi'!$B$6:$H$318,5,FALSE))","v":""},null,null,null,null,null,0,0,{"$f":"IF(B675=\"\",1,VLOOKUP(B675,'Spisak FSS izložbi'!$B$6:$H$318,7,FALSE))","v":1},0]
[662,null,{"$f":"IF(B676=\"\",\"\",VLOOKUP(B676,'Spisak FSS izložbi'!$B$6:$H$318,3,FALSE))","v":""},null,{"$f":"IF(B676=\"\",\"\",VLOOKUP(B676,'Spisak FSS izložbi'!$B$6:$H$318,6,FALSE))","v":""},{"$f":"IF(B676=\"\",\"\",VLOOKUP(B676,'Spisak FSS izložbi'!$B$6:$H$318,5,FALSE))","v":""},null,null,null,null,null,0,0,{"$f":"IF(B676=\"\",1,VLOOKUP(B676,'Spisak FSS izložbi'!$B$6:$H$318,7,FALSE))","v":1},0]
[663,null,{"$f":"IF(B677=\"\",\"\",VLOOKUP(B677,'Spisak FSS izložbi'!$B$6:$H$318,3,FALSE))","v":""},null,{"$f":"IF(B677=\"\",\"\",VLOOKUP(B677,'Spisak FSS izložbi'!$B$6:$H$318,6,FALSE))","v":""},{"$f":"IF(B677=\"\",\"\",VLOOKUP(B677,'Spisak FSS izložbi'!$B$6:$H$318,5,FALSE))","v":""},null,null,null,null,null,0,0,{"$f":"IF(B677=\"\",1,VLOOKUP(B677,'Spisak FSS izložbi'!$B$6:$H$318,7,FALSE))","v":1},0]
[664,null,{"$f":"IF(B678=\"\",\"\",VLOOKUP(B678,'Spisak FSS izložbi'!$B$6:$H$318,3,FALSE))","v":""},null,{"$f":"IF(B678=\"\",\"\",VLOOKUP(B678,'Spisak FSS izložbi'!$B$6:$H$318,6,FALSE))","v":""},{"$f":"IF(B678=\"\",\"\",VLOOKUP(B678,'Spisak FSS izložbi'!$B$6:$H$318,5,FALSE))","v":""},null,null,null,null,null,0,0,{"$f":"IF(B678=\"\",1,VLOOKUP(B678,'Spisak FSS izložbi'!$B$6:$H$318,7,FALSE))","v":1},0]
[665,null,{"$f":"IF(B679=\"\",\"\",VLOOKUP(B679,'Spisak FSS izložbi'!$B$6:$H$318,3,FALSE))","v":""},null,{"$f":"IF(B679=\"\",\"\",VLOOKUP(B679,'Spisak FSS izložbi'!$B$6:$H$318,6,FALSE))","v":""},{"$f":"IF(B679=\"\",\"\",VLOOKUP(B679,'Spisak FSS izložbi'!$B$6:$H$318,5,FALSE))","v":""},null,null,null,null,null,0,0,{"$f":"IF(B679=\"\",1,VLOOKUP(B679,'Spisak FSS izložbi'!$B$6:$H$318,7,FALSE))","v":1},0]
[666,null,{"$f":"IF(B680=\"\",\"\",VLOOKUP(B680,'Spisak FSS izložbi'!$B$6:$H$318,3,FALSE))","v":""},null,{"$f":"IF(B680=\"\",\"\",VLOOKUP(B680,'Spisak FSS izložbi'!$B$6:$H$318,6,FALSE))","v":""},{"$f":"IF(B680=\"\",\"\",VLOOKUP(B680,'Spisak FSS izložbi'!$B$6:$H$318,5,FALSE))","v":""},null,null,null,null,null,0,0,{"$f":"IF(B680=\"\",1,VLOOKUP(B680,'Spisak FSS izložbi'!$B$6:$H$318,7,FALSE))","v":1},0]
[667,null,{"$f":"IF(B681=\"\",\"\",VLOOKUP(B681,'Spisak FSS izložbi'!$B$6:$H$318,3,FALSE))","v":""},null,{"$f":"IF(B681=\"\",\"\",VLOOKUP(B681,'Spisak FSS izložbi'!$B$6:$H$318,6,FALSE))","v":""},{"$f":"IF(B681=\"\",\"\",VLOOKUP(B681,'Spisak FSS izložbi'!$B$6:$H$318,5,FALSE))","v":""},null,null,null,null,null,0,0,{"$f":"IF(B681=\"\",1,VLOOKUP(B681,'Spisak FSS izložbi'!$B$6:$H$318,7,FALSE))","v":1},0]
[668,null,{"$f":"IF(B682=\"\",\"\",VLOOKUP(B682,'Spisak FSS izložbi'!$B$6:$H$318,3,FALSE))","v":""},null,{"$f":"IF(B682=\"\",\"\",VLOOKUP(B682,'Spisak FSS izložbi'!$B$6:$H$318,6,FALSE))","v":""},{"$f":"IF(B682=\"\",\"\",VLOOKUP(B682,'Spisak FSS izložbi'!$B$6:$H$318,5,FALSE))","v":""},null,null,null,null,null,0,0,{"$f":"IF(B682=\"\",1,VLOOKUP(B682,'Spisak FSS izložbi'!$B$6:$H$318,7,FALSE))","v":1},0]
[669,null,{"$f":"IF(B683=\"\",\"\",VLOOKUP(B683,'Spisak FSS izložbi'!$B$6:$H$318,3,FALSE))","v":""},null,{"$f":"IF(B683=\"\",\"\",VLOOKUP(B683,'Spisak FSS izložbi'!$B$6:$H$318,6,FALSE))","v":""},{"$f":"IF(B683=\"\",\"\",VLOOKUP(B683,'Spisak FSS izložbi'!$B$6:$H$318,5,FALSE))","v":""},null,null,null,null,null,0,0,{"$f":"IF(B683=\"\",1,VLOOKUP(B683,'Spisak FSS izložbi'!$B$6:$H$318,7,FALSE))","v":1},0]
[670,null,{"$f":"IF(B684=\"\",\"\",VLOOKUP(B684,'Spisak FSS izložbi'!$B$6:$H$318,3,FALSE))","v":""},null,{"$f":"IF(B684=\"\",\"\",VLOOKUP(B684,'Spisak FSS izložbi'!$B$6:$H$318,6,FALSE))","v":""},{"$f":"IF(B684=\"\",\"\",VLOOKUP(B684,'Spisak FSS izložbi'!$B$6:$H$318,5,FALSE))","v":""},null,null,null,null,null,0,0,{"$f":"IF(B684=\"\",1,VLOOKUP(B684,'Spisak FSS izložbi'!$B$6:$H$318,7,FALSE))","v":1},0]
[671,null,{"$f":"IF(B685=\"\",\"\",VLOOKUP(B685,'Spisak FSS izložbi'!$B$6:$H$318,3,FALSE))","v":""},null,{"$f":"IF(B685=\"\",\"\",VLOOKUP(B685,'Spisak FSS izložbi'!$B$6:$H$318,6,FALSE))","v":""},{"$f":"IF(B685=\"\",\"\",VLOOKUP(B685,'Spisak FSS izložbi'!$B$6:$H$318,5,FALSE))","v":""},null,null,null,null,null,0,0,{"$f":"IF(B685=\"\",1,VLOOKUP(B685,'Spisak FSS izložbi'!$B$6:$H$318,7,FALSE))","v":1},0]
[672,null,{"$f":"IF(B686=\"\",\"\",VLOOKUP(B686,'Spisak FSS izložbi'!$B$6:$H$318,3,FALSE))","v":""},null,{"$f":"IF(B686=\"\",\"\",VLOOKUP(B686,'Spisak FSS izložbi'!$B$6:$H$318,6,FALSE))","v":""},{"$f":"IF(B686=\"\",\"\",VLOOKUP(B686,'Spisak FSS izložbi'!$B$6:$H$318,5,FALSE))","v":""},null,null,null,null,null,0,0,{"$f":"IF(B686=\"\",1,VLOOKUP(B686,'Spisak FSS izložbi'!$B$6:$H$318,7,FALSE))","v":1},0]
[673,null,{"$f":"IF(B687=\"\",\"\",VLOOKUP(B687,'Spisak FSS izložbi'!$B$6:$H$318,3,FALSE))","v":""},null,{"$f":"IF(B687=\"\",\"\",VLOOKUP(B687,'Spisak FSS izložbi'!$B$6:$H$318,6,FALSE))","v":""},{"$f":"IF(B687=\"\",\"\",VLOOKUP(B687,'Spisak FSS izložbi'!$B$6:$H$318,5,FALSE))","v":""},null,null,null,null,null,0,0,{"$f":"IF(B687=\"\",1,VLOOKUP(B687,'Spisak FSS izložbi'!$B$6:$H$318,7,FALSE))","v":1},0]
[674,null,{"$f":"IF(B688=\"\",\"\",VLOOKUP(B688,'Spisak FSS izložbi'!$B$6:$H$318,3,FALSE))","v":""},null,{"$f":"IF(B688=\"\",\"\",VLOOKUP(B688,'Spisak FSS izložbi'!$B$6:$H$318,6,FALSE))","v":""},{"$f":"IF(B688=\"\",\"\",VLOOKUP(B688,'Spisak FSS izložbi'!$B$6:$H$318,5,FALSE))","v":""},null,null,null,null,null,0,0,{"$f":"IF(B688=\"\",1,VLOOKUP(B688,'Spisak FSS izložbi'!$B$6:$H$318,7,FALSE))","v":1},0]
[675,null,{"$f":"IF(B689=\"\",\"\",VLOOKUP(B689,'Spisak FSS izložbi'!$B$6:$H$318,3,FALSE))","v":""},null,{"$f":"IF(B689=\"\",\"\",VLOOKUP(B689,'Spisak FSS izložbi'!$B$6:$H$318,6,FALSE))","v":""},{"$f":"IF(B689=\"\",\"\",VLOOKUP(B689,'Spisak FSS izložbi'!$B$6:$H$318,5,FALSE))","v":""},null,null,null,null,null,0,0,{"$f":"IF(B689=\"\",1,VLOOKUP(B689,'Spisak FSS izložbi'!$B$6:$H$318,7,FALSE))","v":1},0]
[676,null,{"$f":"IF(B690=\"\",\"\",VLOOKUP(B690,'Spisak FSS izložbi'!$B$6:$H$318,3,FALSE))","v":""},null,{"$f":"IF(B690=\"\",\"\",VLOOKUP(B690,'Spisak FSS izložbi'!$B$6:$H$318,6,FALSE))","v":""},{"$f":"IF(B690=\"\",\"\",VLOOKUP(B690,'Spisak FSS izložbi'!$B$6:$H$318,5,FALSE))","v":""},null,null,null,null,null,0,0,{"$f":"IF(B690=\"\",1,VLOOKUP(B690,'Spisak FSS izložbi'!$B$6:$H$318,7,FALSE))","v":1},0]
[677,null,{"$f":"IF(B691=\"\",\"\",VLOOKUP(B691,'Spisak FSS izložbi'!$B$6:$H$318,3,FALSE))","v":""},null,{"$f":"IF(B691=\"\",\"\",VLOOKUP(B691,'Spisak FSS izložbi'!$B$6:$H$318,6,FALSE))","v":""},{"$f":"IF(B691=\"\",\"\",VLOOKUP(B691,'Spisak FSS izložbi'!$B$6:$H$318,5,FALSE))","v":""},null,null,null,null,null,0,0,{"$f":"IF(B691=\"\",1,VLOOKUP(B691,'Spisak FSS izložbi'!$B$6:$H$318,7,FALSE))","v":1},0]
[678,null,{"$f":"IF(B692=\"\",\"\",VLOOKUP(B692,'Spisak FSS izložbi'!$B$6:$H$318,3,FALSE))","v":""},null,{"$f":"IF(B692=\"\",\"\",VLOOKUP(B692,'Spisak FSS izložbi'!$B$6:$H$318,6,FALSE))","v":""},{"$f":"IF(B692=\"\",\"\",VLOOKUP(B692,'Spisak FSS izložbi'!$B$6:$H$318,5,FALSE))","v":""},null,null,null,null,null,0,0,{"$f":"IF(B692=\"\",1,VLOOKUP(B692,'Spisak FSS izložbi'!$B$6:$H$318,7,FALSE))","v":1},0]
[679,null,{"$f":"IF(B693=\"\",\"\",VLOOKUP(B693,'Spisak FSS izložbi'!$B$6:$H$318,3,FALSE))","v":""},null,{"$f":"IF(B693=\"\",\"\",VLOOKUP(B693,'Spisak FSS izložbi'!$B$6:$H$318,6,FALSE))","v":""},{"$f":"IF(B693=\"\",\"\",VLOOKUP(B693,'Spisak FSS izložbi'!$B$6:$H$318,5,FALSE))","v":""},null,null,null,null,null,0,0,{"$f":"IF(B693=\"\",1,VLOOKUP(B693,'Spisak FSS izložbi'!$B$6:$H$318,7,FALSE))","v":1},0]
[680,null,{"$f":"IF(B694=\"\",\"\",VLOOKUP(B694,'Spisak FSS izložbi'!$B$6:$H$318,3,FALSE))","v":""},null,{"$f":"IF(B694=\"\",\"\",VLOOKUP(B694,'Spisak FSS izložbi'!$B$6:$H$318,6,FALSE))","v":""},{"$f":"IF(B694=\"\",\"\",VLOOKUP(B694,'Spisak FSS izložbi'!$B$6:$H$318,5,FALSE))","v":""},null,null,null,null,null,0,0,{"$f":"IF(B694=\"\",1,VLOOKUP(B694,'Spisak FSS izložbi'!$B$6:$H$318,7,FALSE))","v":1},0]
[681,null,{"$f":"IF(B695=\"\",\"\",VLOOKUP(B695,'Spisak FSS izložbi'!$B$6:$H$318,3,FALSE))","v":""},null,{"$f":"IF(B695=\"\",\"\",VLOOKUP(B695,'Spisak FSS izložbi'!$B$6:$H$318,6,FALSE))","v":""},{"$f":"IF(B695=\"\",\"\",VLOOKUP(B695,'Spisak FSS izložbi'!$B$6:$H$318,5,FALSE))","v":""},null,null,null,null,null,0,0,{"$f":"IF(B695=\"\",1,VLOOKUP(B695,'Spisak FSS izložbi'!$B$6:$H$318,7,FALSE))","v":1},0]
[682,null,{"$f":"IF(B696=\"\",\"\",VLOOKUP(B696,'Spisak FSS izložbi'!$B$6:$H$318,3,FALSE))","v":""},null,{"$f":"IF(B696=\"\",\"\",VLOOKUP(B696,'Spisak FSS izložbi'!$B$6:$H$318,6,FALSE))","v":""},{"$f":"IF(B696=\"\",\"\",VLOOKUP(B696,'Spisak FSS izložbi'!$B$6:$H$318,5,FALSE))","v":""},null,null,null,null,null,0,0,{"$f":"IF(B696=\"\",1,VLOOKUP(B696,'Spisak FSS izložbi'!$B$6:$H$318,7,FALSE))","v":1},0]
[683,null,{"$f":"IF(B697=\"\",\"\",VLOOKUP(B697,'Spisak FSS izložbi'!$B$6:$H$318,3,FALSE))","v":""},null,{"$f":"IF(B697=\"\",\"\",VLOOKUP(B697,'Spisak FSS izložbi'!$B$6:$H$318,6,FALSE))","v":""},{"$f":"IF(B697=\"\",\"\",VLOOKUP(B697,'Spisak FSS izložbi'!$B$6:$H$318,5,FALSE))","v":""},null,null,null,null,null,0,0,{"$f":"IF(B697=\"\",1,VLOOKUP(B697,'Spisak FSS izložbi'!$B$6:$H$318,7,FALSE))","v":1},0]
[684,null,{"$f":"IF(B698=\"\",\"\",VLOOKUP(B698,'Spisak FSS izložbi'!$B$6:$H$318,3,FALSE))","v":""},null,{"$f":"IF(B698=\"\",\"\",VLOOKUP(B698,'Spisak FSS izložbi'!$B$6:$H$318,6,FALSE))","v":""},{"$f":"IF(B698=\"\",\"\",VLOOKUP(B698,'Spisak FSS izložbi'!$B$6:$H$318,5,FALSE))","v":""},null,null,null,null,null,0,0,{"$f":"IF(B698=\"\",1,VLOOKUP(B698,'Spisak FSS izložbi'!$B$6:$H$318,7,FALSE))","v":1},0]
[685,null,{"$f":"IF(B699=\"\",\"\",VLOOKUP(B699,'Spisak FSS izložbi'!$B$6:$H$318,3,FALSE))","v":""},null,{"$f":"IF(B699=\"\",\"\",VLOOKUP(B699,'Spisak FSS izložbi'!$B$6:$H$318,6,FALSE))","v":""},{"$f":"IF(B699=\"\",\"\",VLOOKUP(B699,'Spisak FSS izložbi'!$B$6:$H$318,5,FALSE))","v":""},null,null,null,null,null,0,0,{"$f":"IF(B699=\"\",1,VLOOKUP(B699,'Spisak FSS izložbi'!$B$6:$H$318,7,FALSE))","v":1},0]
[686,null,{"$f":"IF(B700=\"\",\"\",VLOOKUP(B700,'Spisak FSS izložbi'!$B$6:$H$318,3,FALSE))","v":""},null,{"$f":"IF(B700=\"\",\"\",VLOOKUP(B700,'Spisak FSS izložbi'!$B$6:$H$318,6,FALSE))","v":""},{"$f":"IF(B700=\"\",\"\",VLOOKUP(B700,'Spisak FSS izložbi'!$B$6:$H$318,5,FALSE))","v":""},null,null,null,null,null,0,0,{"$f":"IF(B700=\"\",1,VLOOKUP(B700,'Spisak FSS izložbi'!$B$6:$H$318,7,FALSE))","v":1},0]
[687,null,{"$f":"IF(B701=\"\",\"\",VLOOKUP(B701,'Spisak FSS izložbi'!$B$6:$H$318,3,FALSE))","v":""},null,{"$f":"IF(B701=\"\",\"\",VLOOKUP(B701,'Spisak FSS izložbi'!$B$6:$H$318,6,FALSE))","v":""},{"$f":"IF(B701=\"\",\"\",VLOOKUP(B701,'Spisak FSS izložbi'!$B$6:$H$318,5,FALSE))","v":""},null,null,null,null,null,0,0,{"$f":"IF(B701=\"\",1,VLOOKUP(B701,'Spisak FSS izložbi'!$B$6:$H$318,7,FALSE))","v":1},0]
[688,null,{"$f":"IF(B702=\"\",\"\",VLOOKUP(B702,'Spisak FSS izložbi'!$B$6:$H$318,3,FALSE))","v":""},null,{"$f":"IF(B702=\"\",\"\",VLOOKUP(B702,'Spisak FSS izložbi'!$B$6:$H$318,6,FALSE))","v":""},{"$f":"IF(B702=\"\",\"\",VLOOKUP(B702,'Spisak FSS izložbi'!$B$6:$H$318,5,FALSE))","v":""},null,null,null,null,null,0,0,{"$f":"IF(B702=\"\",1,VLOOKUP(B702,'Spisak FSS izložbi'!$B$6:$H$318,7,FALSE))","v":1},0]
[689,null,{"$f":"IF(B703=\"\",\"\",VLOOKUP(B703,'Spisak FSS izložbi'!$B$6:$H$318,3,FALSE))","v":""},null,{"$f":"IF(B703=\"\",\"\",VLOOKUP(B703,'Spisak FSS izložbi'!$B$6:$H$318,6,FALSE))","v":""},{"$f":"IF(B703=\"\",\"\",VLOOKUP(B703,'Spisak FSS izložbi'!$B$6:$H$318,5,FALSE))","v":""},null,null,null,null,null,0,0,{"$f":"IF(B703=\"\",1,VLOOKUP(B703,'Spisak FSS izložbi'!$B$6:$H$318,7,FALSE))","v":1},0]
[690,null,{"$f":"IF(B704=\"\",\"\",VLOOKUP(B704,'Spisak FSS izložbi'!$B$6:$H$318,3,FALSE))","v":""},null,{"$f":"IF(B704=\"\",\"\",VLOOKUP(B704,'Spisak FSS izložbi'!$B$6:$H$318,6,FALSE))","v":""},{"$f":"IF(B704=\"\",\"\",VLOOKUP(B704,'Spisak FSS izložbi'!$B$6:$H$318,5,FALSE))","v":""},null,null,null,null,null,0,0,{"$f":"IF(B704=\"\",1,VLOOKUP(B704,'Spisak FSS izložbi'!$B$6:$H$318,7,FALSE))","v":1},0]
[691,null,{"$f":"IF(B705=\"\",\"\",VLOOKUP(B705,'Spisak FSS izložbi'!$B$6:$H$318,3,FALSE))","v":""},null,{"$f":"IF(B705=\"\",\"\",VLOOKUP(B705,'Spisak FSS izložbi'!$B$6:$H$318,6,FALSE))","v":""},{"$f":"IF(B705=\"\",\"\",VLOOKUP(B705,'Spisak FSS izložbi'!$B$6:$H$318,5,FALSE))","v":""},null,null,null,null,null,0,0,{"$f":"IF(B705=\"\",1,VLOOKUP(B705,'Spisak FSS izložbi'!$B$6:$H$318,7,FALSE))","v":1},0]
[692,null,{"$f":"IF(B706=\"\",\"\",VLOOKUP(B706,'Spisak FSS izložbi'!$B$6:$H$318,3,FALSE))","v":""},null,{"$f":"IF(B706=\"\",\"\",VLOOKUP(B706,'Spisak FSS izložbi'!$B$6:$H$318,6,FALSE))","v":""},{"$f":"IF(B706=\"\",\"\",VLOOKUP(B706,'Spisak FSS izložbi'!$B$6:$H$318,5,FALSE))","v":""},null,null,null,null,null,0,0,{"$f":"IF(B706=\"\",1,VLOOKUP(B706,'Spisak FSS izložbi'!$B$6:$H$318,7,FALSE))","v":1},0]
[693,null,{"$f":"IF(B707=\"\",\"\",VLOOKUP(B707,'Spisak FSS izložbi'!$B$6:$H$318,3,FALSE))","v":""},null,{"$f":"IF(B707=\"\",\"\",VLOOKUP(B707,'Spisak FSS izložbi'!$B$6:$H$318,6,FALSE))","v":""},{"$f":"IF(B707=\"\",\"\",VLOOKUP(B707,'Spisak FSS izložbi'!$B$6:$H$318,5,FALSE))","v":""},null,null,null,null,null,0,0,{"$f":"IF(B707=\"\",1,VLOOKUP(B707,'Spisak FSS izložbi'!$B$6:$H$318,7,FALSE))","v":1},0]
[694,null,{"$f":"IF(B708=\"\",\"\",VLOOKUP(B708,'Spisak FSS izložbi'!$B$6:$H$318,3,FALSE))","v":""},null,{"$f":"IF(B708=\"\",\"\",VLOOKUP(B708,'Spisak FSS izložbi'!$B$6:$H$318,6,FALSE))","v":""},{"$f":"IF(B708=\"\",\"\",VLOOKUP(B708,'Spisak FSS izložbi'!$B$6:$H$318,5,FALSE))","v":""},null,null,null,null,null,0,0,{"$f":"IF(B708=\"\",1,VLOOKUP(B708,'Spisak FSS izložbi'!$B$6:$H$318,7,FALSE))","v":1},0]
[695,null,{"$f":"IF(B709=\"\",\"\",VLOOKUP(B709,'Spisak FSS izložbi'!$B$6:$H$318,3,FALSE))","v":""},null,{"$f":"IF(B709=\"\",\"\",VLOOKUP(B709,'Spisak FSS izložbi'!$B$6:$H$318,6,FALSE))","v":""},{"$f":"IF(B709=\"\",\"\",VLOOKUP(B709,'Spisak FSS izložbi'!$B$6:$H$318,5,FALSE))","v":""},null,null,null,null,null,0,0,{"$f":"IF(B709=\"\",1,VLOOKUP(B709,'Spisak FSS izložbi'!$B$6:$H$318,7,FALSE))","v":1},0]
[696,null,{"$f":"IF(B710=\"\",\"\",VLOOKUP(B710,'Spisak FSS izložbi'!$B$6:$H$318,3,FALSE))","v":""},null,{"$f":"IF(B710=\"\",\"\",VLOOKUP(B710,'Spisak FSS izložbi'!$B$6:$H$318,6,FALSE))","v":""},{"$f":"IF(B710=\"\",\"\",VLOOKUP(B710,'Spisak FSS izložbi'!$B$6:$H$318,5,FALSE))","v":""},null,null,null,null,null,0,0,{"$f":"IF(B710=\"\",1,VLOOKUP(B710,'Spisak FSS izložbi'!$B$6:$H$318,7,FALSE))","v":1},0]
[697,null,{"$f":"IF(B711=\"\",\"\",VLOOKUP(B711,'Spisak FSS izložbi'!$B$6:$H$318,3,FALSE))","v":""},null,{"$f":"IF(B711=\"\",\"\",VLOOKUP(B711,'Spisak FSS izložbi'!$B$6:$H$318,6,FALSE))","v":""},{"$f":"IF(B711=\"\",\"\",VLOOKUP(B711,'Spisak FSS izložbi'!$B$6:$H$318,5,FALSE))","v":""},null,null,null,null,null,0,0,{"$f":"IF(B711=\"\",1,VLOOKUP(B711,'Spisak FSS izložbi'!$B$6:$H$318,7,FALSE))","v":1},0]
[698,null,{"$f":"IF(B712=\"\",\"\",VLOOKUP(B712,'Spisak FSS izložbi'!$B$6:$H$318,3,FALSE))","v":""},null,{"$f":"IF(B712=\"\",\"\",VLOOKUP(B712,'Spisak FSS izložbi'!$B$6:$H$318,6,FALSE))","v":""},{"$f":"IF(B712=\"\",\"\",VLOOKUP(B712,'Spisak FSS izložbi'!$B$6:$H$318,5,FALSE))","v":""},null,null,null,null,null,0,0,{"$f":"IF(B712=\"\",1,VLOOKUP(B712,'Spisak FSS izložbi'!$B$6:$H$318,7,FALSE))","v":1},0]
[699,null,{"$f":"IF(B713=\"\",\"\",VLOOKUP(B713,'Spisak FSS izložbi'!$B$6:$H$318,3,FALSE))","v":""},null,{"$f":"IF(B713=\"\",\"\",VLOOKUP(B713,'Spisak FSS izložbi'!$B$6:$H$318,6,FALSE))","v":""},{"$f":"IF(B713=\"\",\"\",VLOOKUP(B713,'Spisak FSS izložbi'!$B$6:$H$318,5,FALSE))","v":""},null,null,null,null,null,0,0,{"$f":"IF(B713=\"\",1,VLOOKUP(B713,'Spisak FSS izložbi'!$B$6:$H$318,7,FALSE))","v":1},0]
[700,null,{"$f":"IF(B714=\"\",\"\",VLOOKUP(B714,'Spisak FSS izložbi'!$B$6:$H$318,3,FALSE))","v":""},null,{"$f":"IF(B714=\"\",\"\",VLOOKUP(B714,'Spisak FSS izložbi'!$B$6:$H$318,6,FALSE))","v":""},{"$f":"IF(B714=\"\",\"\",VLOOKUP(B714,'Spisak FSS izložbi'!$B$6:$H$318,5,FALSE))","v":""},null,null,null,null,null,0,0,{"$f":"IF(B714=\"\",1,VLOOKUP(B714,'Spisak FSS izložbi'!$B$6:$H$318,7,FALSE))","v":1},0]
[701,null,{"$f":"IF(B715=\"\",\"\",VLOOKUP(B715,'Spisak FSS izložbi'!$B$6:$H$318,3,FALSE))","v":""},null,{"$f":"IF(B715=\"\",\"\",VLOOKUP(B715,'Spisak FSS izložbi'!$B$6:$H$318,6,FALSE))","v":""},{"$f":"IF(B715=\"\",\"\",VLOOKUP(B715,'Spisak FSS izložbi'!$B$6:$H$318,5,FALSE))","v":""},null,null,null,null,null,0,0,{"$f":"IF(B715=\"\",1,VLOOKUP(B715,'Spisak FSS izložbi'!$B$6:$H$318,7,FALSE))","v":1},0]
[702,null,{"$f":"IF(B716=\"\",\"\",VLOOKUP(B716,'Spisak FSS izložbi'!$B$6:$H$318,3,FALSE))","v":""},null,{"$f":"IF(B716=\"\",\"\",VLOOKUP(B716,'Spisak FSS izložbi'!$B$6:$H$318,6,FALSE))","v":""},{"$f":"IF(B716=\"\",\"\",VLOOKUP(B716,'Spisak FSS izložbi'!$B$6:$H$318,5,FALSE))","v":""},null,null,null,null,null,0,0,{"$f":"IF(B716=\"\",1,VLOOKUP(B716,'Spisak FSS izložbi'!$B$6:$H$318,7,FALSE))","v":1},0]
[703,null,{"$f":"IF(B717=\"\",\"\",VLOOKUP(B717,'Spisak FSS izložbi'!$B$6:$H$318,3,FALSE))","v":""},null,{"$f":"IF(B717=\"\",\"\",VLOOKUP(B717,'Spisak FSS izložbi'!$B$6:$H$318,6,FALSE))","v":""},{"$f":"IF(B717=\"\",\"\",VLOOKUP(B717,'Spisak FSS izložbi'!$B$6:$H$318,5,FALSE))","v":""},null,null,null,null,null,0,0,{"$f":"IF(B717=\"\",1,VLOOKUP(B717,'Spisak FSS izložbi'!$B$6:$H$318,7,FALSE))","v":1},0]
[704,null,{"$f":"IF(B718=\"\",\"\",VLOOKUP(B718,'Spisak FSS izložbi'!$B$6:$H$318,3,FALSE))","v":""},null,{"$f":"IF(B718=\"\",\"\",VLOOKUP(B718,'Spisak FSS izložbi'!$B$6:$H$318,6,FALSE))","v":""},{"$f":"IF(B718=\"\",\"\",VLOOKUP(B718,'Spisak FSS izložbi'!$B$6:$H$318,5,FALSE))","v":""},null,null,null,null,null,0,0,{"$f":"IF(B718=\"\",1,VLOOKUP(B718,'Spisak FSS izložbi'!$B$6:$H$318,7,FALSE))","v":1},0]
[705,null,{"$f":"IF(B719=\"\",\"\",VLOOKUP(B719,'Spisak FSS izložbi'!$B$6:$H$318,3,FALSE))","v":""},null,{"$f":"IF(B719=\"\",\"\",VLOOKUP(B719,'Spisak FSS izložbi'!$B$6:$H$318,6,FALSE))","v":""},{"$f":"IF(B719=\"\",\"\",VLOOKUP(B719,'Spisak FSS izložbi'!$B$6:$H$318,5,FALSE))","v":""},null,null,null,null,null,0,0,{"$f":"IF(B719=\"\",1,VLOOKUP(B719,'Spisak FSS izložbi'!$B$6:$H$318,7,FALSE))","v":1},0]
[706,null,{"$f":"IF(B720=\"\",\"\",VLOOKUP(B720,'Spisak FSS izložbi'!$B$6:$H$318,3,FALSE))","v":""},null,{"$f":"IF(B720=\"\",\"\",VLOOKUP(B720,'Spisak FSS izložbi'!$B$6:$H$318,6,FALSE))","v":""},{"$f":"IF(B720=\"\",\"\",VLOOKUP(B720,'Spisak FSS izložbi'!$B$6:$H$318,5,FALSE))","v":""},null,null,null,null,null,{"$f":"IF(E720=$H$1,$H$6,IF(E720=$I$1,$I$6,IF(E720=$J$1,$J$6,IF(E720=$K$1,$K$6,IF(E720=$L$1,$L$6,IF(E720=$M$1,$M$6,IF(E720=$N$1,$N$6,IF(E720=$O$1,$O$6,0))))))))","v":0},{"$f":"IF(OR(E720=\"\",K720=\"\")=TRUE,0,VLOOKUP(K720,$G$1:$O$7,MATCH(E720,$G$1:$O$1,0),FALSE))","v":0},{"$f":"IF(B720=\"\",1,VLOOKUP(B720,'Spisak FSS izložbi'!$B$6:$H$318,7,FALSE))","v":1},{"$f":"(L720+M720)*N720","v":0}]
[707,null,{"$f":"IF(B721=\"\",\"\",VLOOKUP(B721,'Spisak FSS izložbi'!$B$6:$H$318,3,FALSE))","v":""},null,{"$f":"IF(B721=\"\",\"\",VLOOKUP(B721,'Spisak FSS izložbi'!$B$6:$H$318,6,FALSE))","v":""},{"$f":"IF(B721=\"\",\"\",VLOOKUP(B721,'Spisak FSS izložbi'!$B$6:$H$318,5,FALSE))","v":""},null,null,null,null,null,0,0,{"$f":"IF(B721=\"\",1,VLOOKUP(B721,'Spisak FSS izložbi'!$B$6:$H$318,7,FALSE))","v":1},0]
[708,null,{"$f":"IF(B722=\"\",\"\",VLOOKUP(B722,'Spisak FSS izložbi'!$B$6:$H$318,3,FALSE))","v":""},null,{"$f":"IF(B722=\"\",\"\",VLOOKUP(B722,'Spisak FSS izložbi'!$B$6:$H$318,6,FALSE))","v":""},{"$f":"IF(B722=\"\",\"\",VLOOKUP(B722,'Spisak FSS izložbi'!$B$6:$H$318,5,FALSE))","v":""},null,null,null,null,null,0,0,{"$f":"IF(B722=\"\",1,VLOOKUP(B722,'Spisak FSS izložbi'!$B$6:$H$318,7,FALSE))","v":1},0]
[709,null,{"$f":"IF(B723=\"\",\"\",VLOOKUP(B723,'Spisak FSS izložbi'!$B$6:$H$318,3,FALSE))","v":""},null,{"$f":"IF(B723=\"\",\"\",VLOOKUP(B723,'Spisak FSS izložbi'!$B$6:$H$318,6,FALSE))","v":""},{"$f":"IF(B723=\"\",\"\",VLOOKUP(B723,'Spisak FSS izložbi'!$B$6:$H$318,5,FALSE))","v":""},null,null,null,null,null,0,0,{"$f":"IF(B723=\"\",1,VLOOKUP(B723,'Spisak FSS izložbi'!$B$6:$H$318,7,FALSE))","v":1},0]
[710,null,{"$f":"IF(B724=\"\",\"\",VLOOKUP(B724,'Spisak FSS izložbi'!$B$6:$H$318,3,FALSE))","v":""},null,{"$f":"IF(B724=\"\",\"\",VLOOKUP(B724,'Spisak FSS izložbi'!$B$6:$H$318,6,FALSE))","v":""},{"$f":"IF(B724=\"\",\"\",VLOOKUP(B724,'Spisak FSS izložbi'!$B$6:$H$318,5,FALSE))","v":""},null,null,null,null,null,0,0,{"$f":"IF(B724=\"\",1,VLOOKUP(B724,'Spisak FSS izložbi'!$B$6:$H$318,7,FALSE))","v":1},0]
[711,null,{"$f":"IF(B725=\"\",\"\",VLOOKUP(B725,'Spisak FSS izložbi'!$B$6:$H$318,3,FALSE))","v":""},null,{"$f":"IF(B725=\"\",\"\",VLOOKUP(B725,'Spisak FSS izložbi'!$B$6:$H$318,6,FALSE))","v":""},{"$f":"IF(B725=\"\",\"\",VLOOKUP(B725,'Spisak FSS izložbi'!$B$6:$H$318,5,FALSE))","v":""},null,null,null,null,null,0,0,{"$f":"IF(B725=\"\",1,VLOOKUP(B725,'Spisak FSS izložbi'!$B$6:$H$318,7,FALSE))","v":1},0]
[712,null,{"$f":"IF(B726=\"\",\"\",VLOOKUP(B726,'Spisak FSS izložbi'!$B$6:$H$318,3,FALSE))","v":""},null,{"$f":"IF(B726=\"\",\"\",VLOOKUP(B726,'Spisak FSS izložbi'!$B$6:$H$318,6,FALSE))","v":""},{"$f":"IF(B726=\"\",\"\",VLOOKUP(B726,'Spisak FSS izložbi'!$B$6:$H$318,5,FALSE))","v":""},null,null,null,null,null,0,0,{"$f":"IF(B726=\"\",1,VLOOKUP(B726,'Spisak FSS izložbi'!$B$6:$H$318,7,FALSE))","v":1},0]
[713,null,{"$f":"IF(B727=\"\",\"\",VLOOKUP(B727,'Spisak FSS izložbi'!$B$6:$H$318,3,FALSE))","v":""},null,{"$f":"IF(B727=\"\",\"\",VLOOKUP(B727,'Spisak FSS izložbi'!$B$6:$H$318,6,FALSE))","v":""},{"$f":"IF(B727=\"\",\"\",VLOOKUP(B727,'Spisak FSS izložbi'!$B$6:$H$318,5,FALSE))","v":""},null,null,null,null,null,0,0,{"$f":"IF(B727=\"\",1,VLOOKUP(B727,'Spisak FSS izložbi'!$B$6:$H$318,7,FALSE))","v":1},0]
[714,null,{"$f":"IF(B728=\"\",\"\",VLOOKUP(B728,'Spisak FSS izložbi'!$B$6:$H$318,3,FALSE))","v":""},null,{"$f":"IF(B728=\"\",\"\",VLOOKUP(B728,'Spisak FSS izložbi'!$B$6:$H$318,6,FALSE))","v":""},{"$f":"IF(B728=\"\",\"\",VLOOKUP(B728,'Spisak FSS izložbi'!$B$6:$H$318,5,FALSE))","v":""},null,null,null,null,null,0,0,{"$f":"IF(B728=\"\",1,VLOOKUP(B728,'Spisak FSS izložbi'!$B$6:$H$318,7,FALSE))","v":1},0]
[715,null,{"$f":"IF(B729=\"\",\"\",VLOOKUP(B729,'Spisak FSS izložbi'!$B$6:$H$318,3,FALSE))","v":""},null,{"$f":"IF(B729=\"\",\"\",VLOOKUP(B729,'Spisak FSS izložbi'!$B$6:$H$318,6,FALSE))","v":""},{"$f":"IF(B729=\"\",\"\",VLOOKUP(B729,'Spisak FSS izložbi'!$B$6:$H$318,5,FALSE))","v":""},null,null,null,null,null,0,0,{"$f":"IF(B729=\"\",1,VLOOKUP(B729,'Spisak FSS izložbi'!$B$6:$H$318,7,FALSE))","v":1},0]
[716,null,{"$f":"IF(B730=\"\",\"\",VLOOKUP(B730,'Spisak FSS izložbi'!$B$6:$H$318,3,FALSE))","v":""},null,{"$f":"IF(B730=\"\",\"\",VLOOKUP(B730,'Spisak FSS izložbi'!$B$6:$H$318,6,FALSE))","v":""},{"$f":"IF(B730=\"\",\"\",VLOOKUP(B730,'Spisak FSS izložbi'!$B$6:$H$318,5,FALSE))","v":""},null,null,null,null,null,0,0,{"$f":"IF(B730=\"\",1,VLOOKUP(B730,'Spisak FSS izložbi'!$B$6:$H$318,7,FALSE))","v":1},0]
[717,null,{"$f":"IF(B731=\"\",\"\",VLOOKUP(B731,'Spisak FSS izložbi'!$B$6:$H$318,3,FALSE))","v":""},null,{"$f":"IF(B731=\"\",\"\",VLOOKUP(B731,'Spisak FSS izložbi'!$B$6:$H$318,6,FALSE))","v":""},{"$f":"IF(B731=\"\",\"\",VLOOKUP(B731,'Spisak FSS izložbi'!$B$6:$H$318,5,FALSE))","v":""},null,null,null,null,null,0,0,{"$f":"IF(B731=\"\",1,VLOOKUP(B731,'Spisak FSS izložbi'!$B$6:$H$318,7,FALSE))","v":1},0]
[718,null,{"$f":"IF(B732=\"\",\"\",VLOOKUP(B732,'Spisak FSS izložbi'!$B$6:$H$318,3,FALSE))","v":""},null,{"$f":"IF(B732=\"\",\"\",VLOOKUP(B732,'Spisak FSS izložbi'!$B$6:$H$318,6,FALSE))","v":""},{"$f":"IF(B732=\"\",\"\",VLOOKUP(B732,'Spisak FSS izložbi'!$B$6:$H$318,5,FALSE))","v":""},null,null,null,null,null,0,0,{"$f":"IF(B732=\"\",1,VLOOKUP(B732,'Spisak FSS izložbi'!$B$6:$H$318,7,FALSE))","v":1},0]
[719,null,{"$f":"IF(B733=\"\",\"\",VLOOKUP(B733,'Spisak FSS izložbi'!$B$6:$H$318,3,FALSE))","v":""},null,{"$f":"IF(B733=\"\",\"\",VLOOKUP(B733,'Spisak FSS izložbi'!$B$6:$H$318,6,FALSE))","v":""},{"$f":"IF(B733=\"\",\"\",VLOOKUP(B733,'Spisak FSS izložbi'!$B$6:$H$318,5,FALSE))","v":""},null,null,null,null,null,0,0,{"$f":"IF(B733=\"\",1,VLOOKUP(B733,'Spisak FSS izložbi'!$B$6:$H$318,7,FALSE))","v":1},0]
[720,null,{"$f":"IF(B734=\"\",\"\",VLOOKUP(B734,'Spisak FSS izložbi'!$B$6:$H$318,3,FALSE))","v":""},null,{"$f":"IF(B734=\"\",\"\",VLOOKUP(B734,'Spisak FSS izložbi'!$B$6:$H$318,6,FALSE))","v":""},{"$f":"IF(B734=\"\",\"\",VLOOKUP(B734,'Spisak FSS izložbi'!$B$6:$H$318,5,FALSE))","v":""},null,null,null,null,null,0,0,{"$f":"IF(B734=\"\",1,VLOOKUP(B734,'Spisak FSS izložbi'!$B$6:$H$318,7,FALSE))","v":1},0]
[721,null,{"$f":"IF(B735=\"\",\"\",VLOOKUP(B735,'Spisak FSS izložbi'!$B$6:$H$318,3,FALSE))","v":""},null,{"$f":"IF(B735=\"\",\"\",VLOOKUP(B735,'Spisak FSS izložbi'!$B$6:$H$318,6,FALSE))","v":""},{"$f":"IF(B735=\"\",\"\",VLOOKUP(B735,'Spisak FSS izložbi'!$B$6:$H$318,5,FALSE))","v":""},null,null,null,null,null,0,0,{"$f":"IF(B735=\"\",1,VLOOKUP(B735,'Spisak FSS izložbi'!$B$6:$H$318,7,FALSE))","v":1},0]
[722,null,{"$f":"IF(B736=\"\",\"\",VLOOKUP(B736,'Spisak FSS izložbi'!$B$6:$H$318,3,FALSE))","v":""},null,{"$f":"IF(B736=\"\",\"\",VLOOKUP(B736,'Spisak FSS izložbi'!$B$6:$H$318,6,FALSE))","v":""},{"$f":"IF(B736=\"\",\"\",VLOOKUP(B736,'Spisak FSS izložbi'!$B$6:$H$318,5,FALSE))","v":""},null,null,null,null,null,0,0,{"$f":"IF(B736=\"\",1,VLOOKUP(B736,'Spisak FSS izložbi'!$B$6:$H$318,7,FALSE))","v":1},0]
[723,null,{"$f":"IF(B737=\"\",\"\",VLOOKUP(B737,'Spisak FSS izložbi'!$B$6:$H$318,3,FALSE))","v":""},null,{"$f":"IF(B737=\"\",\"\",VLOOKUP(B737,'Spisak FSS izložbi'!$B$6:$H$318,6,FALSE))","v":""},{"$f":"IF(B737=\"\",\"\",VLOOKUP(B737,'Spisak FSS izložbi'!$B$6:$H$318,5,FALSE))","v":""},null,null,null,null,null,0,0,{"$f":"IF(B737=\"\",1,VLOOKUP(B737,'Spisak FSS izložbi'!$B$6:$H$318,7,FALSE))","v":1},0]
[724,null,{"$f":"IF(B738=\"\",\"\",VLOOKUP(B738,'Spisak FSS izložbi'!$B$6:$H$318,3,FALSE))","v":""},null,{"$f":"IF(B738=\"\",\"\",VLOOKUP(B738,'Spisak FSS izložbi'!$B$6:$H$318,6,FALSE))","v":""},{"$f":"IF(B738=\"\",\"\",VLOOKUP(B738,'Spisak FSS izložbi'!$B$6:$H$318,5,FALSE))","v":""},null,null,null,null,null,0,0,{"$f":"IF(B738=\"\",1,VLOOKUP(B738,'Spisak FSS izložbi'!$B$6:$H$318,7,FALSE))","v":1},0]
[725,null,{"$f":"IF(B739=\"\",\"\",VLOOKUP(B739,'Spisak FSS izložbi'!$B$6:$H$318,3,FALSE))","v":""},null,{"$f":"IF(B739=\"\",\"\",VLOOKUP(B739,'Spisak FSS izložbi'!$B$6:$H$318,6,FALSE))","v":""},{"$f":"IF(B739=\"\",\"\",VLOOKUP(B739,'Spisak FSS izložbi'!$B$6:$H$318,5,FALSE))","v":""},null,null,null,null,null,0,0,{"$f":"IF(B739=\"\",1,VLOOKUP(B739,'Spisak FSS izložbi'!$B$6:$H$318,7,FALSE))","v":1},0]
[726,null,{"$f":"IF(B740=\"\",\"\",VLOOKUP(B740,'Spisak FSS izložbi'!$B$6:$H$318,3,FALSE))","v":""},null,{"$f":"IF(B740=\"\",\"\",VLOOKUP(B740,'Spisak FSS izložbi'!$B$6:$H$318,6,FALSE))","v":""},{"$f":"IF(B740=\"\",\"\",VLOOKUP(B740,'Spisak FSS izložbi'!$B$6:$H$318,5,FALSE))","v":""},null,null,null,null,null,0,0,{"$f":"IF(B740=\"\",1,VLOOKUP(B740,'Spisak FSS izložbi'!$B$6:$H$318,7,FALSE))","v":1},0]
[727,null,{"$f":"IF(B741=\"\",\"\",VLOOKUP(B741,'Spisak FSS izložbi'!$B$6:$H$318,3,FALSE))","v":""},null,{"$f":"IF(B741=\"\",\"\",VLOOKUP(B741,'Spisak FSS izložbi'!$B$6:$H$318,6,FALSE))","v":""},{"$f":"IF(B741=\"\",\"\",VLOOKUP(B741,'Spisak FSS izložbi'!$B$6:$H$318,5,FALSE))","v":""},null,null,null,null,null,0,0,{"$f":"IF(B741=\"\",1,VLOOKUP(B741,'Spisak FSS izložbi'!$B$6:$H$318,7,FALSE))","v":1},0]
[728,null,{"$f":"IF(B742=\"\",\"\",VLOOKUP(B742,'Spisak FSS izložbi'!$B$6:$H$318,3,FALSE))","v":""},null,{"$f":"IF(B742=\"\",\"\",VLOOKUP(B742,'Spisak FSS izložbi'!$B$6:$H$318,6,FALSE))","v":""},{"$f":"IF(B742=\"\",\"\",VLOOKUP(B742,'Spisak FSS izložbi'!$B$6:$H$318,5,FALSE))","v":""},null,null,null,null,null,0,0,{"$f":"IF(B742=\"\",1,VLOOKUP(B742,'Spisak FSS izložbi'!$B$6:$H$318,7,FALSE))","v":1},0]
[729,null,{"$f":"IF(B743=\"\",\"\",VLOOKUP(B743,'Spisak FSS izložbi'!$B$6:$H$318,3,FALSE))","v":""},null,{"$f":"IF(B743=\"\",\"\",VLOOKUP(B743,'Spisak FSS izložbi'!$B$6:$H$318,6,FALSE))","v":""},{"$f":"IF(B743=\"\",\"\",VLOOKUP(B743,'Spisak FSS izložbi'!$B$6:$H$318,5,FALSE))","v":""},null,null,null,null,null,0,0,{"$f":"IF(B743=\"\",1,VLOOKUP(B743,'Spisak FSS izložbi'!$B$6:$H$318,7,FALSE))","v":1},0]
[730,null,{"$f":"IF(B744=\"\",\"\",VLOOKUP(B744,'Spisak FSS izložbi'!$B$6:$H$318,3,FALSE))","v":""},null,{"$f":"IF(B744=\"\",\"\",VLOOKUP(B744,'Spisak FSS izložbi'!$B$6:$H$318,6,FALSE))","v":""},{"$f":"IF(B744=\"\",\"\",VLOOKUP(B744,'Spisak FSS izložbi'!$B$6:$H$318,5,FALSE))","v":""},null,null,null,null,null,0,0,{"$f":"IF(B744=\"\",1,VLOOKUP(B744,'Spisak FSS izložbi'!$B$6:$H$318,7,FALSE))","v":1},0]
[731,null,{"$f":"IF(B745=\"\",\"\",VLOOKUP(B745,'Spisak FSS izložbi'!$B$6:$H$318,3,FALSE))","v":""},null,{"$f":"IF(B745=\"\",\"\",VLOOKUP(B745,'Spisak FSS izložbi'!$B$6:$H$318,6,FALSE))","v":""},{"$f":"IF(B745=\"\",\"\",VLOOKUP(B745,'Spisak FSS izložbi'!$B$6:$H$318,5,FALSE))","v":""},null,null,null,null,null,0,0,{"$f":"IF(B745=\"\",1,VLOOKUP(B745,'Spisak FSS izložbi'!$B$6:$H$318,7,FALSE))","v":1},0]
[732,null,{"$f":"IF(B746=\"\",\"\",VLOOKUP(B746,'Spisak FSS izložbi'!$B$6:$H$318,3,FALSE))","v":""},null,{"$f":"IF(B746=\"\",\"\",VLOOKUP(B746,'Spisak FSS izložbi'!$B$6:$H$318,6,FALSE))","v":""},{"$f":"IF(B746=\"\",\"\",VLOOKUP(B746,'Spisak FSS izložbi'!$B$6:$H$318,5,FALSE))","v":""},null,null,null,null,null,0,0,{"$f":"IF(B746=\"\",1,VLOOKUP(B746,'Spisak FSS izložbi'!$B$6:$H$318,7,FALSE))","v":1},0]
[733,null,{"$f":"IF(B747=\"\",\"\",VLOOKUP(B747,'Spisak FSS izložbi'!$B$6:$H$318,3,FALSE))","v":""},null,{"$f":"IF(B747=\"\",\"\",VLOOKUP(B747,'Spisak FSS izložbi'!$B$6:$H$318,6,FALSE))","v":""},{"$f":"IF(B747=\"\",\"\",VLOOKUP(B747,'Spisak FSS izložbi'!$B$6:$H$318,5,FALSE))","v":""},null,null,null,null,null,0,0,{"$f":"IF(B747=\"\",1,VLOOKUP(B747,'Spisak FSS izložbi'!$B$6:$H$318,7,FALSE))","v":1},0]
[734,null,{"$f":"IF(B748=\"\",\"\",VLOOKUP(B748,'Spisak FSS izložbi'!$B$6:$H$318,3,FALSE))","v":""},null,{"$f":"IF(B748=\"\",\"\",VLOOKUP(B748,'Spisak FSS izložbi'!$B$6:$H$318,6,FALSE))","v":""},{"$f":"IF(B748=\"\",\"\",VLOOKUP(B748,'Spisak FSS izložbi'!$B$6:$H$318,5,FALSE))","v":""},null,null,null,null,null,0,0,{"$f":"IF(B748=\"\",1,VLOOKUP(B748,'Spisak FSS izložbi'!$B$6:$H$318,7,FALSE))","v":1},0]
[735,null,{"$f":"IF(B749=\"\",\"\",VLOOKUP(B749,'Spisak FSS izložbi'!$B$6:$H$318,3,FALSE))","v":""},null,{"$f":"IF(B749=\"\",\"\",VLOOKUP(B749,'Spisak FSS izložbi'!$B$6:$H$318,6,FALSE))","v":""},{"$f":"IF(B749=\"\",\"\",VLOOKUP(B749,'Spisak FSS izložbi'!$B$6:$H$318,5,FALSE))","v":""},null,null,null,null,null,0,0,{"$f":"IF(B749=\"\",1,VLOOKUP(B749,'Spisak FSS izložbi'!$B$6:$H$318,7,FALSE))","v":1},0]
[736,null,{"$f":"IF(B750=\"\",\"\",VLOOKUP(B750,'Spisak FSS izložbi'!$B$6:$H$318,3,FALSE))","v":""},null,{"$f":"IF(B750=\"\",\"\",VLOOKUP(B750,'Spisak FSS izložbi'!$B$6:$H$318,6,FALSE))","v":""},{"$f":"IF(B750=\"\",\"\",VLOOKUP(B750,'Spisak FSS izložbi'!$B$6:$H$318,5,FALSE))","v":""},null,null,null,null,null,0,0,{"$f":"IF(B750=\"\",1,VLOOKUP(B750,'Spisak FSS izložbi'!$B$6:$H$318,7,FALSE))","v":1},0]
[737,null,{"$f":"IF(B751=\"\",\"\",VLOOKUP(B751,'Spisak FSS izložbi'!$B$6:$H$318,3,FALSE))","v":""},null,{"$f":"IF(B751=\"\",\"\",VLOOKUP(B751,'Spisak FSS izložbi'!$B$6:$H$318,6,FALSE))","v":""},{"$f":"IF(B751=\"\",\"\",VLOOKUP(B751,'Spisak FSS izložbi'!$B$6:$H$318,5,FALSE))","v":""},null,null,null,null,null,0,0,{"$f":"IF(B751=\"\",1,VLOOKUP(B751,'Spisak FSS izložbi'!$B$6:$H$318,7,FALSE))","v":1},0]
[738,null,{"$f":"IF(B752=\"\",\"\",VLOOKUP(B752,'Spisak FSS izložbi'!$B$6:$H$318,3,FALSE))","v":""},null,{"$f":"IF(B752=\"\",\"\",VLOOKUP(B752,'Spisak FSS izložbi'!$B$6:$H$318,6,FALSE))","v":""},{"$f":"IF(B752=\"\",\"\",VLOOKUP(B752,'Spisak FSS izložbi'!$B$6:$H$318,5,FALSE))","v":""},null,null,null,null,null,0,0,{"$f":"IF(B752=\"\",1,VLOOKUP(B752,'Spisak FSS izložbi'!$B$6:$H$318,7,FALSE))","v":1},0]
[739,null,{"$f":"IF(B753=\"\",\"\",VLOOKUP(B753,'Spisak FSS izložbi'!$B$6:$H$318,3,FALSE))","v":""},null,{"$f":"IF(B753=\"\",\"\",VLOOKUP(B753,'Spisak FSS izložbi'!$B$6:$H$318,6,FALSE))","v":""},{"$f":"IF(B753=\"\",\"\",VLOOKUP(B753,'Spisak FSS izložbi'!$B$6:$H$318,5,FALSE))","v":""},null,null,null,null,null,0,0,{"$f":"IF(B753=\"\",1,VLOOKUP(B753,'Spisak FSS izložbi'!$B$6:$H$318,7,FALSE))","v":1},0]
[740,null,{"$f":"IF(B754=\"\",\"\",VLOOKUP(B754,'Spisak FSS izložbi'!$B$6:$H$318,3,FALSE))","v":""},null,{"$f":"IF(B754=\"\",\"\",VLOOKUP(B754,'Spisak FSS izložbi'!$B$6:$H$318,6,FALSE))","v":""},{"$f":"IF(B754=\"\",\"\",VLOOKUP(B754,'Spisak FSS izložbi'!$B$6:$H$318,5,FALSE))","v":""},null,null,null,null,null,0,0,{"$f":"IF(B754=\"\",1,VLOOKUP(B754,'Spisak FSS izložbi'!$B$6:$H$318,7,FALSE))","v":1},0]
[741,null,{"$f":"IF(B755=\"\",\"\",VLOOKUP(B755,'Spisak FSS izložbi'!$B$6:$H$318,3,FALSE))","v":""},null,{"$f":"IF(B755=\"\",\"\",VLOOKUP(B755,'Spisak FSS izložbi'!$B$6:$H$318,6,FALSE))","v":""},{"$f":"IF(B755=\"\",\"\",VLOOKUP(B755,'Spisak FSS izložbi'!$B$6:$H$318,5,FALSE))","v":""},null,null,null,null,null,0,0,{"$f":"IF(B755=\"\",1,VLOOKUP(B755,'Spisak FSS izložbi'!$B$6:$H$318,7,FALSE))","v":1},0]
[742,null,{"$f":"IF(B756=\"\",\"\",VLOOKUP(B756,'Spisak FSS izložbi'!$B$6:$H$318,3,FALSE))","v":""},null,{"$f":"IF(B756=\"\",\"\",VLOOKUP(B756,'Spisak FSS izložbi'!$B$6:$H$318,6,FALSE))","v":""},{"$f":"IF(B756=\"\",\"\",VLOOKUP(B756,'Spisak FSS izložbi'!$B$6:$H$318,5,FALSE))","v":""},null,null,null,null,null,0,0,{"$f":"IF(B756=\"\",1,VLOOKUP(B756,'Spisak FSS izložbi'!$B$6:$H$318,7,FALSE))","v":1},0]
[743,null,{"$f":"IF(B757=\"\",\"\",VLOOKUP(B757,'Spisak FSS izložbi'!$B$6:$H$318,3,FALSE))","v":""},null,{"$f":"IF(B757=\"\",\"\",VLOOKUP(B757,'Spisak FSS izložbi'!$B$6:$H$318,6,FALSE))","v":""},{"$f":"IF(B757=\"\",\"\",VLOOKUP(B757,'Spisak FSS izložbi'!$B$6:$H$318,5,FALSE))","v":""},null,null,null,null,null,0,0,{"$f":"IF(B757=\"\",1,VLOOKUP(B757,'Spisak FSS izložbi'!$B$6:$H$318,7,FALSE))","v":1},0]
[744,null,{"$f":"IF(B758=\"\",\"\",VLOOKUP(B758,'Spisak FSS izložbi'!$B$6:$H$318,3,FALSE))","v":""},null,{"$f":"IF(B758=\"\",\"\",VLOOKUP(B758,'Spisak FSS izložbi'!$B$6:$H$318,6,FALSE))","v":""},{"$f":"IF(B758=\"\",\"\",VLOOKUP(B758,'Spisak FSS izložbi'!$B$6:$H$318,5,FALSE))","v":""},null,null,null,null,null,0,0,{"$f":"IF(B758=\"\",1,VLOOKUP(B758,'Spisak FSS izložbi'!$B$6:$H$318,7,FALSE))","v":1},0]
[745,null,{"$f":"IF(B759=\"\",\"\",VLOOKUP(B759,'Spisak FSS izložbi'!$B$6:$H$318,3,FALSE))","v":""},null,{"$f":"IF(B759=\"\",\"\",VLOOKUP(B759,'Spisak FSS izložbi'!$B$6:$H$318,6,FALSE))","v":""},{"$f":"IF(B759=\"\",\"\",VLOOKUP(B759,'Spisak FSS izložbi'!$B$6:$H$318,5,FALSE))","v":""},null,null,null,null,null,0,0,{"$f":"IF(B759=\"\",1,VLOOKUP(B759,'Spisak FSS izložbi'!$B$6:$H$318,7,FALSE))","v":1},0]
[746,null,{"$f":"IF(B760=\"\",\"\",VLOOKUP(B760,'Spisak FSS izložbi'!$B$6:$H$318,3,FALSE))","v":""},null,{"$f":"IF(B760=\"\",\"\",VLOOKUP(B760,'Spisak FSS izložbi'!$B$6:$H$318,6,FALSE))","v":""},{"$f":"IF(B760=\"\",\"\",VLOOKUP(B760,'Spisak FSS izložbi'!$B$6:$H$318,5,FALSE))","v":""},null,null,null,null,null,0,0,{"$f":"IF(B760=\"\",1,VLOOKUP(B760,'Spisak FSS izložbi'!$B$6:$H$318,7,FALSE))","v":1},0]
[747,null,{"$f":"IF(B761=\"\",\"\",VLOOKUP(B761,'Spisak FSS izložbi'!$B$6:$H$318,3,FALSE))","v":""},null,{"$f":"IF(B761=\"\",\"\",VLOOKUP(B761,'Spisak FSS izložbi'!$B$6:$H$318,6,FALSE))","v":""},{"$f":"IF(B761=\"\",\"\",VLOOKUP(B761,'Spisak FSS izložbi'!$B$6:$H$318,5,FALSE))","v":""},null,null,null,null,null,0,0,{"$f":"IF(B761=\"\",1,VLOOKUP(B761,'Spisak FSS izložbi'!$B$6:$H$318,7,FALSE))","v":1},0]
[748,null,{"$f":"IF(B762=\"\",\"\",VLOOKUP(B762,'Spisak FSS izložbi'!$B$6:$H$318,3,FALSE))","v":""},null,{"$f":"IF(B762=\"\",\"\",VLOOKUP(B762,'Spisak FSS izložbi'!$B$6:$H$318,6,FALSE))","v":""},{"$f":"IF(B762=\"\",\"\",VLOOKUP(B762,'Spisak FSS izložbi'!$B$6:$H$318,5,FALSE))","v":""},null,null,null,null,null,0,0,{"$f":"IF(B762=\"\",1,VLOOKUP(B762,'Spisak FSS izložbi'!$B$6:$H$318,7,FALSE))","v":1},0]
[749,null,{"$f":"IF(B763=\"\",\"\",VLOOKUP(B763,'Spisak FSS izložbi'!$B$6:$H$318,3,FALSE))","v":""},null,{"$f":"IF(B763=\"\",\"\",VLOOKUP(B763,'Spisak FSS izložbi'!$B$6:$H$318,6,FALSE))","v":""},{"$f":"IF(B763=\"\",\"\",VLOOKUP(B763,'Spisak FSS izložbi'!$B$6:$H$318,5,FALSE))","v":""},null,null,null,null,null,0,0,{"$f":"IF(B763=\"\",1,VLOOKUP(B763,'Spisak FSS izložbi'!$B$6:$H$318,7,FALSE))","v":1},0]
[750,null,{"$f":"IF(B764=\"\",\"\",VLOOKUP(B764,'Spisak FSS izložbi'!$B$6:$H$318,3,FALSE))","v":""},null,{"$f":"IF(B764=\"\",\"\",VLOOKUP(B764,'Spisak FSS izložbi'!$B$6:$H$318,6,FALSE))","v":""},{"$f":"IF(B764=\"\",\"\",VLOOKUP(B764,'Spisak FSS izložbi'!$B$6:$H$318,5,FALSE))","v":""},null,null,null,null,null,0,0,{"$f":"IF(B764=\"\",1,VLOOKUP(B764,'Spisak FSS izložbi'!$B$6:$H$318,7,FALSE))","v":1},0]
[751,null,{"$f":"IF(B765=\"\",\"\",VLOOKUP(B765,'Spisak FSS izložbi'!$B$6:$H$318,3,FALSE))","v":""},null,{"$f":"IF(B765=\"\",\"\",VLOOKUP(B765,'Spisak FSS izložbi'!$B$6:$H$318,6,FALSE))","v":""},{"$f":"IF(B765=\"\",\"\",VLOOKUP(B765,'Spisak FSS izložbi'!$B$6:$H$318,5,FALSE))","v":""},null,null,null,null,null,0,0,{"$f":"IF(B765=\"\",1,VLOOKUP(B765,'Spisak FSS izložbi'!$B$6:$H$318,7,FALSE))","v":1},0]
[752,null,{"$f":"IF(B766=\"\",\"\",VLOOKUP(B766,'Spisak FSS izložbi'!$B$6:$H$318,3,FALSE))","v":""},null,{"$f":"IF(B766=\"\",\"\",VLOOKUP(B766,'Spisak FSS izložbi'!$B$6:$H$318,6,FALSE))","v":""},{"$f":"IF(B766=\"\",\"\",VLOOKUP(B766,'Spisak FSS izložbi'!$B$6:$H$318,5,FALSE))","v":""},null,null,null,null,null,0,0,{"$f":"IF(B766=\"\",1,VLOOKUP(B766,'Spisak FSS izložbi'!$B$6:$H$318,7,FALSE))","v":1},0]
[753,null,{"$f":"IF(B767=\"\",\"\",VLOOKUP(B767,'Spisak FSS izložbi'!$B$6:$H$318,3,FALSE))","v":""},null,{"$f":"IF(B767=\"\",\"\",VLOOKUP(B767,'Spisak FSS izložbi'!$B$6:$H$318,6,FALSE))","v":""},{"$f":"IF(B767=\"\",\"\",VLOOKUP(B767,'Spisak FSS izložbi'!$B$6:$H$318,5,FALSE))","v":""},null,null,null,null,null,0,0,{"$f":"IF(B767=\"\",1,VLOOKUP(B767,'Spisak FSS izložbi'!$B$6:$H$318,7,FALSE))","v":1},0]
[754,null,{"$f":"IF(B768=\"\",\"\",VLOOKUP(B768,'Spisak FSS izložbi'!$B$6:$H$318,3,FALSE))","v":""},null,{"$f":"IF(B768=\"\",\"\",VLOOKUP(B768,'Spisak FSS izložbi'!$B$6:$H$318,6,FALSE))","v":""},{"$f":"IF(B768=\"\",\"\",VLOOKUP(B768,'Spisak FSS izložbi'!$B$6:$H$318,5,FALSE))","v":""},null,null,null,null,null,0,0,{"$f":"IF(B768=\"\",1,VLOOKUP(B768,'Spisak FSS izložbi'!$B$6:$H$318,7,FALSE))","v":1},0]
[755,null,{"$f":"IF(B769=\"\",\"\",VLOOKUP(B769,'Spisak FSS izložbi'!$B$6:$H$318,3,FALSE))","v":""},null,{"$f":"IF(B769=\"\",\"\",VLOOKUP(B769,'Spisak FSS izložbi'!$B$6:$H$318,6,FALSE))","v":""},{"$f":"IF(B769=\"\",\"\",VLOOKUP(B769,'Spisak FSS izložbi'!$B$6:$H$318,5,FALSE))","v":""},null,null,null,null,null,0,0,{"$f":"IF(B769=\"\",1,VLOOKUP(B769,'Spisak FSS izložbi'!$B$6:$H$318,7,FALSE))","v":1},0]
[756,null,{"$f":"IF(B770=\"\",\"\",VLOOKUP(B770,'Spisak FSS izložbi'!$B$6:$H$318,3,FALSE))","v":""},null,{"$f":"IF(B770=\"\",\"\",VLOOKUP(B770,'Spisak FSS izložbi'!$B$6:$H$318,6,FALSE))","v":""},{"$f":"IF(B770=\"\",\"\",VLOOKUP(B770,'Spisak FSS izložbi'!$B$6:$H$318,5,FALSE))","v":""},null,null,null,null,null,0,0,{"$f":"IF(B770=\"\",1,VLOOKUP(B770,'Spisak FSS izložbi'!$B$6:$H$318,7,FALSE))","v":1},0]
[757,null,{"$f":"IF(B771=\"\",\"\",VLOOKUP(B771,'Spisak FSS izložbi'!$B$6:$H$318,3,FALSE))","v":""},null,{"$f":"IF(B771=\"\",\"\",VLOOKUP(B771,'Spisak FSS izložbi'!$B$6:$H$318,6,FALSE))","v":""},{"$f":"IF(B771=\"\",\"\",VLOOKUP(B771,'Spisak FSS izložbi'!$B$6:$H$318,5,FALSE))","v":""},null,null,null,null,null,0,0,{"$f":"IF(B771=\"\",1,VLOOKUP(B771,'Spisak FSS izložbi'!$B$6:$H$318,7,FALSE))","v":1},0]
[758,null,{"$f":"IF(B772=\"\",\"\",VLOOKUP(B772,'Spisak FSS izložbi'!$B$6:$H$318,3,FALSE))","v":""},null,{"$f":"IF(B772=\"\",\"\",VLOOKUP(B772,'Spisak FSS izložbi'!$B$6:$H$318,6,FALSE))","v":""},{"$f":"IF(B772=\"\",\"\",VLOOKUP(B772,'Spisak FSS izložbi'!$B$6:$H$318,5,FALSE))","v":""},null,null,null,null,null,0,0,{"$f":"IF(B772=\"\",1,VLOOKUP(B772,'Spisak FSS izložbi'!$B$6:$H$318,7,FALSE))","v":1},0]
[759,null,{"$f":"IF(B773=\"\",\"\",VLOOKUP(B773,'Spisak FSS izložbi'!$B$6:$H$318,3,FALSE))","v":""},null,{"$f":"IF(B773=\"\",\"\",VLOOKUP(B773,'Spisak FSS izložbi'!$B$6:$H$318,6,FALSE))","v":""},{"$f":"IF(B773=\"\",\"\",VLOOKUP(B773,'Spisak FSS izložbi'!$B$6:$H$318,5,FALSE))","v":""},null,null,null,null,null,0,0,{"$f":"IF(B773=\"\",1,VLOOKUP(B773,'Spisak FSS izložbi'!$B$6:$H$318,7,FALSE))","v":1},0]
[760,null,{"$f":"IF(B774=\"\",\"\",VLOOKUP(B774,'Spisak FSS izložbi'!$B$6:$H$318,3,FALSE))","v":""},null,{"$f":"IF(B774=\"\",\"\",VLOOKUP(B774,'Spisak FSS izložbi'!$B$6:$H$318,6,FALSE))","v":""},{"$f":"IF(B774=\"\",\"\",VLOOKUP(B774,'Spisak FSS izložbi'!$B$6:$H$318,5,FALSE))","v":""},null,null,null,null,null,0,0,{"$f":"IF(B774=\"\",1,VLOOKUP(B774,'Spisak FSS izložbi'!$B$6:$H$318,7,FALSE))","v":1},0]
[761,null,{"$f":"IF(B775=\"\",\"\",VLOOKUP(B775,'Spisak FSS izložbi'!$B$6:$H$318,3,FALSE))","v":""},null,{"$f":"IF(B775=\"\",\"\",VLOOKUP(B775,'Spisak FSS izložbi'!$B$6:$H$318,6,FALSE))","v":""},{"$f":"IF(B775=\"\",\"\",VLOOKUP(B775,'Spisak FSS izložbi'!$B$6:$H$318,5,FALSE))","v":""},null,null,null,null,null,0,0,{"$f":"IF(B775=\"\",1,VLOOKUP(B775,'Spisak FSS izložbi'!$B$6:$H$318,7,FALSE))","v":1},0]
[762,null,{"$f":"IF(B776=\"\",\"\",VLOOKUP(B776,'Spisak FSS izložbi'!$B$6:$H$318,3,FALSE))","v":""},null,{"$f":"IF(B776=\"\",\"\",VLOOKUP(B776,'Spisak FSS izložbi'!$B$6:$H$318,6,FALSE))","v":""},{"$f":"IF(B776=\"\",\"\",VLOOKUP(B776,'Spisak FSS izložbi'!$B$6:$H$318,5,FALSE))","v":""},null,null,null,null,null,0,0,{"$f":"IF(B776=\"\",1,VLOOKUP(B776,'Spisak FSS izložbi'!$B$6:$H$318,7,FALSE))","v":1},0]
[763,null,{"$f":"IF(B777=\"\",\"\",VLOOKUP(B777,'Spisak FSS izložbi'!$B$6:$H$318,3,FALSE))","v":""},null,{"$f":"IF(B777=\"\",\"\",VLOOKUP(B777,'Spisak FSS izložbi'!$B$6:$H$318,6,FALSE))","v":""},{"$f":"IF(B777=\"\",\"\",VLOOKUP(B777,'Spisak FSS izložbi'!$B$6:$H$318,5,FALSE))","v":""},null,null,null,null,null,0,0,{"$f":"IF(B777=\"\",1,VLOOKUP(B777,'Spisak FSS izložbi'!$B$6:$H$318,7,FALSE))","v":1},0]
[764,null,{"$f":"IF(B778=\"\",\"\",VLOOKUP(B778,'Spisak FSS izložbi'!$B$6:$H$318,3,FALSE))","v":""},null,{"$f":"IF(B778=\"\",\"\",VLOOKUP(B778,'Spisak FSS izložbi'!$B$6:$H$318,6,FALSE))","v":""},{"$f":"IF(B778=\"\",\"\",VLOOKUP(B778,'Spisak FSS izložbi'!$B$6:$H$318,5,FALSE))","v":""},null,null,null,null,null,0,0,{"$f":"IF(B778=\"\",1,VLOOKUP(B778,'Spisak FSS izložbi'!$B$6:$H$318,7,FALSE))","v":1},0]
[765,null,{"$f":"IF(B779=\"\",\"\",VLOOKUP(B779,'Spisak FSS izložbi'!$B$6:$H$318,3,FALSE))","v":""},null,{"$f":"IF(B779=\"\",\"\",VLOOKUP(B779,'Spisak FSS izložbi'!$B$6:$H$318,6,FALSE))","v":""},{"$f":"IF(B779=\"\",\"\",VLOOKUP(B779,'Spisak FSS izložbi'!$B$6:$H$318,5,FALSE))","v":""},null,null,null,null,null,0,0,{"$f":"IF(B779=\"\",1,VLOOKUP(B779,'Spisak FSS izložbi'!$B$6:$H$318,7,FALSE))","v":1},0]
[766,null,{"$f":"IF(B780=\"\",\"\",VLOOKUP(B780,'Spisak FSS izložbi'!$B$6:$H$318,3,FALSE))","v":""},null,{"$f":"IF(B780=\"\",\"\",VLOOKUP(B780,'Spisak FSS izložbi'!$B$6:$H$318,6,FALSE))","v":""},{"$f":"IF(B780=\"\",\"\",VLOOKUP(B780,'Spisak FSS izložbi'!$B$6:$H$318,5,FALSE))","v":""},null,null,null,null,null,0,0,{"$f":"IF(B780=\"\",1,VLOOKUP(B780,'Spisak FSS izložbi'!$B$6:$H$318,7,FALSE))","v":1},0]
[767,null,{"$f":"IF(B781=\"\",\"\",VLOOKUP(B781,'Spisak FSS izložbi'!$B$6:$H$318,3,FALSE))","v":""},null,{"$f":"IF(B781=\"\",\"\",VLOOKUP(B781,'Spisak FSS izložbi'!$B$6:$H$318,6,FALSE))","v":""},{"$f":"IF(B781=\"\",\"\",VLOOKUP(B781,'Spisak FSS izložbi'!$B$6:$H$318,5,FALSE))","v":""},null,null,null,null,null,0,0,{"$f":"IF(B781=\"\",1,VLOOKUP(B781,'Spisak FSS izložbi'!$B$6:$H$318,7,FALSE))","v":1},0]
[768,null,{"$f":"IF(B782=\"\",\"\",VLOOKUP(B782,'Spisak FSS izložbi'!$B$6:$H$318,3,FALSE))","v":""},null,{"$f":"IF(B782=\"\",\"\",VLOOKUP(B782,'Spisak FSS izložbi'!$B$6:$H$318,6,FALSE))","v":""},{"$f":"IF(B782=\"\",\"\",VLOOKUP(B782,'Spisak FSS izložbi'!$B$6:$H$318,5,FALSE))","v":""},null,null,null,null,null,0,0,{"$f":"IF(B782=\"\",1,VLOOKUP(B782,'Spisak FSS izložbi'!$B$6:$H$318,7,FALSE))","v":1},0]
[769,null,{"$f":"IF(B783=\"\",\"\",VLOOKUP(B783,'Spisak FSS izložbi'!$B$6:$H$318,3,FALSE))","v":""},null,{"$f":"IF(B783=\"\",\"\",VLOOKUP(B783,'Spisak FSS izložbi'!$B$6:$H$318,6,FALSE))","v":""},{"$f":"IF(B783=\"\",\"\",VLOOKUP(B783,'Spisak FSS izložbi'!$B$6:$H$318,5,FALSE))","v":""},null,null,null,null,null,0,0,{"$f":"IF(B783=\"\",1,VLOOKUP(B783,'Spisak FSS izložbi'!$B$6:$H$318,7,FALSE))","v":1},0]
[770,null,{"$f":"IF(B784=\"\",\"\",VLOOKUP(B784,'Spisak FSS izložbi'!$B$6:$H$318,3,FALSE))","v":""},null,{"$f":"IF(B784=\"\",\"\",VLOOKUP(B784,'Spisak FSS izložbi'!$B$6:$H$318,6,FALSE))","v":""},{"$f":"IF(B784=\"\",\"\",VLOOKUP(B784,'Spisak FSS izložbi'!$B$6:$H$318,5,FALSE))","v":""},null,null,null,null,null,{"$f":"IF(E784=$H$1,$H$6,IF(E784=$I$1,$I$6,IF(E784=$J$1,$J$6,IF(E784=$K$1,$K$6,IF(E784=$L$1,$L$6,IF(E784=$M$1,$M$6,IF(E784=$N$1,$N$6,IF(E784=$O$1,$O$6,0))))))))","v":0},{"$f":"IF(OR(E784=\"\",K784=\"\")=TRUE,0,VLOOKUP(K784,$G$1:$O$7,MATCH(E784,$G$1:$O$1,0),FALSE))","v":0},{"$f":"IF(B784=\"\",1,VLOOKUP(B784,'Spisak FSS izložbi'!$B$6:$H$318,7,FALSE))","v":1},{"$f":"(L784+M784)*N784","v":0}]
[771,null,{"$f":"IF(B785=\"\",\"\",VLOOKUP(B785,'Spisak FSS izložbi'!$B$6:$H$318,3,FALSE))","v":""},null,{"$f":"IF(B785=\"\",\"\",VLOOKUP(B785,'Spisak FSS izložbi'!$B$6:$H$318,6,FALSE))","v":""},{"$f":"IF(B785=\"\",\"\",VLOOKUP(B785,'Spisak FSS izložbi'!$B$6:$H$318,5,FALSE))","v":""},null,null,null,null,null,0,0,{"$f":"IF(B785=\"\",1,VLOOKUP(B785,'Spisak FSS izložbi'!$B$6:$H$318,7,FALSE))","v":1},0]
[772,null,{"$f":"IF(B786=\"\",\"\",VLOOKUP(B786,'Spisak FSS izložbi'!$B$6:$H$318,3,FALSE))","v":""},null,{"$f":"IF(B786=\"\",\"\",VLOOKUP(B786,'Spisak FSS izložbi'!$B$6:$H$318,6,FALSE))","v":""},{"$f":"IF(B786=\"\",\"\",VLOOKUP(B786,'Spisak FSS izložbi'!$B$6:$H$318,5,FALSE))","v":""},null,null,null,null,null,0,0,{"$f":"IF(B786=\"\",1,VLOOKUP(B786,'Spisak FSS izložbi'!$B$6:$H$318,7,FALSE))","v":1},0]
[773,null,{"$f":"IF(B787=\"\",\"\",VLOOKUP(B787,'Spisak FSS izložbi'!$B$6:$H$318,3,FALSE))","v":""},null,{"$f":"IF(B787=\"\",\"\",VLOOKUP(B787,'Spisak FSS izložbi'!$B$6:$H$318,6,FALSE))","v":""},{"$f":"IF(B787=\"\",\"\",VLOOKUP(B787,'Spisak FSS izložbi'!$B$6:$H$318,5,FALSE))","v":""},null,null,null,null,null,0,0,{"$f":"IF(B787=\"\",1,VLOOKUP(B787,'Spisak FSS izložbi'!$B$6:$H$318,7,FALSE))","v":1},0]
[774,null,{"$f":"IF(B788=\"\",\"\",VLOOKUP(B788,'Spisak FSS izložbi'!$B$6:$H$318,3,FALSE))","v":""},null,{"$f":"IF(B788=\"\",\"\",VLOOKUP(B788,'Spisak FSS izložbi'!$B$6:$H$318,6,FALSE))","v":""},{"$f":"IF(B788=\"\",\"\",VLOOKUP(B788,'Spisak FSS izložbi'!$B$6:$H$318,5,FALSE))","v":""},null,null,null,null,null,0,0,{"$f":"IF(B788=\"\",1,VLOOKUP(B788,'Spisak FSS izložbi'!$B$6:$H$318,7,FALSE))","v":1},0]
[775,null,{"$f":"IF(B789=\"\",\"\",VLOOKUP(B789,'Spisak FSS izložbi'!$B$6:$H$318,3,FALSE))","v":""},null,{"$f":"IF(B789=\"\",\"\",VLOOKUP(B789,'Spisak FSS izložbi'!$B$6:$H$318,6,FALSE))","v":""},{"$f":"IF(B789=\"\",\"\",VLOOKUP(B789,'Spisak FSS izložbi'!$B$6:$H$318,5,FALSE))","v":""},null,null,null,null,null,0,0,{"$f":"IF(B789=\"\",1,VLOOKUP(B789,'Spisak FSS izložbi'!$B$6:$H$318,7,FALSE))","v":1},0]
[776,null,{"$f":"IF(B790=\"\",\"\",VLOOKUP(B790,'Spisak FSS izložbi'!$B$6:$H$318,3,FALSE))","v":""},null,{"$f":"IF(B790=\"\",\"\",VLOOKUP(B790,'Spisak FSS izložbi'!$B$6:$H$318,6,FALSE))","v":""},{"$f":"IF(B790=\"\",\"\",VLOOKUP(B790,'Spisak FSS izložbi'!$B$6:$H$318,5,FALSE))","v":""},null,null,null,null,null,0,0,{"$f":"IF(B790=\"\",1,VLOOKUP(B790,'Spisak FSS izložbi'!$B$6:$H$318,7,FALSE))","v":1},0]
[777,null,{"$f":"IF(B791=\"\",\"\",VLOOKUP(B791,'Spisak FSS izložbi'!$B$6:$H$318,3,FALSE))","v":""},null,{"$f":"IF(B791=\"\",\"\",VLOOKUP(B791,'Spisak FSS izložbi'!$B$6:$H$318,6,FALSE))","v":""},{"$f":"IF(B791=\"\",\"\",VLOOKUP(B791,'Spisak FSS izložbi'!$B$6:$H$318,5,FALSE))","v":""},null,null,null,null,null,0,0,{"$f":"IF(B791=\"\",1,VLOOKUP(B791,'Spisak FSS izložbi'!$B$6:$H$318,7,FALSE))","v":1},0]
[778,null,{"$f":"IF(B792=\"\",\"\",VLOOKUP(B792,'Spisak FSS izložbi'!$B$6:$H$318,3,FALSE))","v":""},null,{"$f":"IF(B792=\"\",\"\",VLOOKUP(B792,'Spisak FSS izložbi'!$B$6:$H$318,6,FALSE))","v":""},{"$f":"IF(B792=\"\",\"\",VLOOKUP(B792,'Spisak FSS izložbi'!$B$6:$H$318,5,FALSE))","v":""},null,null,null,null,null,0,0,{"$f":"IF(B792=\"\",1,VLOOKUP(B792,'Spisak FSS izložbi'!$B$6:$H$318,7,FALSE))","v":1},0]
[779,null,{"$f":"IF(B793=\"\",\"\",VLOOKUP(B793,'Spisak FSS izložbi'!$B$6:$H$318,3,FALSE))","v":""},null,{"$f":"IF(B793=\"\",\"\",VLOOKUP(B793,'Spisak FSS izložbi'!$B$6:$H$318,6,FALSE))","v":""},{"$f":"IF(B793=\"\",\"\",VLOOKUP(B793,'Spisak FSS izložbi'!$B$6:$H$318,5,FALSE))","v":""},null,null,null,null,null,0,0,{"$f":"IF(B793=\"\",1,VLOOKUP(B793,'Spisak FSS izložbi'!$B$6:$H$318,7,FALSE))","v":1},0]
[780,null,{"$f":"IF(B794=\"\",\"\",VLOOKUP(B794,'Spisak FSS izložbi'!$B$6:$H$318,3,FALSE))","v":""},null,{"$f":"IF(B794=\"\",\"\",VLOOKUP(B794,'Spisak FSS izložbi'!$B$6:$H$318,6,FALSE))","v":""},{"$f":"IF(B794=\"\",\"\",VLOOKUP(B794,'Spisak FSS izložbi'!$B$6:$H$318,5,FALSE))","v":""},null,null,null,null,null,0,0,{"$f":"IF(B794=\"\",1,VLOOKUP(B794,'Spisak FSS izložbi'!$B$6:$H$318,7,FALSE))","v":1},0]
[781,null,{"$f":"IF(B795=\"\",\"\",VLOOKUP(B795,'Spisak FSS izložbi'!$B$6:$H$318,3,FALSE))","v":""},null,{"$f":"IF(B795=\"\",\"\",VLOOKUP(B795,'Spisak FSS izložbi'!$B$6:$H$318,6,FALSE))","v":""},{"$f":"IF(B795=\"\",\"\",VLOOKUP(B795,'Spisak FSS izložbi'!$B$6:$H$318,5,FALSE))","v":""},null,null,null,null,null,0,0,{"$f":"IF(B795=\"\",1,VLOOKUP(B795,'Spisak FSS izložbi'!$B$6:$H$318,7,FALSE))","v":1},0]
[782,null,{"$f":"IF(B796=\"\",\"\",VLOOKUP(B796,'Spisak FSS izložbi'!$B$6:$H$318,3,FALSE))","v":""},null,{"$f":"IF(B796=\"\",\"\",VLOOKUP(B796,'Spisak FSS izložbi'!$B$6:$H$318,6,FALSE))","v":""},{"$f":"IF(B796=\"\",\"\",VLOOKUP(B796,'Spisak FSS izložbi'!$B$6:$H$318,5,FALSE))","v":""},null,null,null,null,null,0,0,{"$f":"IF(B796=\"\",1,VLOOKUP(B796,'Spisak FSS izložbi'!$B$6:$H$318,7,FALSE))","v":1},0]
[783,null,{"$f":"IF(B797=\"\",\"\",VLOOKUP(B797,'Spisak FSS izložbi'!$B$6:$H$318,3,FALSE))","v":""},null,{"$f":"IF(B797=\"\",\"\",VLOOKUP(B797,'Spisak FSS izložbi'!$B$6:$H$318,6,FALSE))","v":""},{"$f":"IF(B797=\"\",\"\",VLOOKUP(B797,'Spisak FSS izložbi'!$B$6:$H$318,5,FALSE))","v":""},null,null,null,null,null,0,0,{"$f":"IF(B797=\"\",1,VLOOKUP(B797,'Spisak FSS izložbi'!$B$6:$H$318,7,FALSE))","v":1},0]
[784,null,{"$f":"IF(B798=\"\",\"\",VLOOKUP(B798,'Spisak FSS izložbi'!$B$6:$H$318,3,FALSE))","v":""},null,{"$f":"IF(B798=\"\",\"\",VLOOKUP(B798,'Spisak FSS izložbi'!$B$6:$H$318,6,FALSE))","v":""},{"$f":"IF(B798=\"\",\"\",VLOOKUP(B798,'Spisak FSS izložbi'!$B$6:$H$318,5,FALSE))","v":""},null,null,null,null,null,0,0,{"$f":"IF(B798=\"\",1,VLOOKUP(B798,'Spisak FSS izložbi'!$B$6:$H$318,7,FALSE))","v":1},0]
[785,null,{"$f":"IF(B799=\"\",\"\",VLOOKUP(B799,'Spisak FSS izložbi'!$B$6:$H$318,3,FALSE))","v":""},null,{"$f":"IF(B799=\"\",\"\",VLOOKUP(B799,'Spisak FSS izložbi'!$B$6:$H$318,6,FALSE))","v":""},{"$f":"IF(B799=\"\",\"\",VLOOKUP(B799,'Spisak FSS izložbi'!$B$6:$H$318,5,FALSE))","v":""},null,null,null,null,null,0,0,{"$f":"IF(B799=\"\",1,VLOOKUP(B799,'Spisak FSS izložbi'!$B$6:$H$318,7,FALSE))","v":1},0]
[786,null,{"$f":"IF(B800=\"\",\"\",VLOOKUP(B800,'Spisak FSS izložbi'!$B$6:$H$318,3,FALSE))","v":""},null,{"$f":"IF(B800=\"\",\"\",VLOOKUP(B800,'Spisak FSS izložbi'!$B$6:$H$318,6,FALSE))","v":""},{"$f":"IF(B800=\"\",\"\",VLOOKUP(B800,'Spisak FSS izložbi'!$B$6:$H$318,5,FALSE))","v":""},null,null,null,null,null,0,0,{"$f":"IF(B800=\"\",1,VLOOKUP(B800,'Spisak FSS izložbi'!$B$6:$H$318,7,FALSE))","v":1},0]
[787,null,{"$f":"IF(B801=\"\",\"\",VLOOKUP(B801,'Spisak FSS izložbi'!$B$6:$H$318,3,FALSE))","v":""},null,{"$f":"IF(B801=\"\",\"\",VLOOKUP(B801,'Spisak FSS izložbi'!$B$6:$H$318,6,FALSE))","v":""},{"$f":"IF(B801=\"\",\"\",VLOOKUP(B801,'Spisak FSS izložbi'!$B$6:$H$318,5,FALSE))","v":""},null,null,null,null,null,0,0,{"$f":"IF(B801=\"\",1,VLOOKUP(B801,'Spisak FSS izložbi'!$B$6:$H$318,7,FALSE))","v":1},0]
[788,null,{"$f":"IF(B802=\"\",\"\",VLOOKUP(B802,'Spisak FSS izložbi'!$B$6:$H$318,3,FALSE))","v":""},null,{"$f":"IF(B802=\"\",\"\",VLOOKUP(B802,'Spisak FSS izložbi'!$B$6:$H$318,6,FALSE))","v":""},{"$f":"IF(B802=\"\",\"\",VLOOKUP(B802,'Spisak FSS izložbi'!$B$6:$H$318,5,FALSE))","v":""},null,null,null,null,null,0,0,{"$f":"IF(B802=\"\",1,VLOOKUP(B802,'Spisak FSS izložbi'!$B$6:$H$318,7,FALSE))","v":1},0]
[789,null,{"$f":"IF(B803=\"\",\"\",VLOOKUP(B803,'Spisak FSS izložbi'!$B$6:$H$318,3,FALSE))","v":""},null,{"$f":"IF(B803=\"\",\"\",VLOOKUP(B803,'Spisak FSS izložbi'!$B$6:$H$318,6,FALSE))","v":""},{"$f":"IF(B803=\"\",\"\",VLOOKUP(B803,'Spisak FSS izložbi'!$B$6:$H$318,5,FALSE))","v":""},null,null,null,null,null,0,0,{"$f":"IF(B803=\"\",1,VLOOKUP(B803,'Spisak FSS izložbi'!$B$6:$H$318,7,FALSE))","v":1},0]
[790,null,{"$f":"IF(B804=\"\",\"\",VLOOKUP(B804,'Spisak FSS izložbi'!$B$6:$H$318,3,FALSE))","v":""},null,{"$f":"IF(B804=\"\",\"\",VLOOKUP(B804,'Spisak FSS izložbi'!$B$6:$H$318,6,FALSE))","v":""},{"$f":"IF(B804=\"\",\"\",VLOOKUP(B804,'Spisak FSS izložbi'!$B$6:$H$318,5,FALSE))","v":""},null,null,null,null,null,0,0,{"$f":"IF(B804=\"\",1,VLOOKUP(B804,'Spisak FSS izložbi'!$B$6:$H$318,7,FALSE))","v":1},0]
[791,null,{"$f":"IF(B805=\"\",\"\",VLOOKUP(B805,'Spisak FSS izložbi'!$B$6:$H$318,3,FALSE))","v":""},null,{"$f":"IF(B805=\"\",\"\",VLOOKUP(B805,'Spisak FSS izložbi'!$B$6:$H$318,6,FALSE))","v":""},{"$f":"IF(B805=\"\",\"\",VLOOKUP(B805,'Spisak FSS izložbi'!$B$6:$H$318,5,FALSE))","v":""},null,null,null,null,null,0,0,{"$f":"IF(B805=\"\",1,VLOOKUP(B805,'Spisak FSS izložbi'!$B$6:$H$318,7,FALSE))","v":1},0]
[792,null,{"$f":"IF(B806=\"\",\"\",VLOOKUP(B806,'Spisak FSS izložbi'!$B$6:$H$318,3,FALSE))","v":""},null,{"$f":"IF(B806=\"\",\"\",VLOOKUP(B806,'Spisak FSS izložbi'!$B$6:$H$318,6,FALSE))","v":""},{"$f":"IF(B806=\"\",\"\",VLOOKUP(B806,'Spisak FSS izložbi'!$B$6:$H$318,5,FALSE))","v":""},null,null,null,null,null,0,0,{"$f":"IF(B806=\"\",1,VLOOKUP(B806,'Spisak FSS izložbi'!$B$6:$H$318,7,FALSE))","v":1},0]
[793,null,{"$f":"IF(B807=\"\",\"\",VLOOKUP(B807,'Spisak FSS izložbi'!$B$6:$H$318,3,FALSE))","v":""},null,{"$f":"IF(B807=\"\",\"\",VLOOKUP(B807,'Spisak FSS izložbi'!$B$6:$H$318,6,FALSE))","v":""},{"$f":"IF(B807=\"\",\"\",VLOOKUP(B807,'Spisak FSS izložbi'!$B$6:$H$318,5,FALSE))","v":""},null,null,null,null,null,0,0,{"$f":"IF(B807=\"\",1,VLOOKUP(B807,'Spisak FSS izložbi'!$B$6:$H$318,7,FALSE))","v":1},0]
[794,null,{"$f":"IF(B808=\"\",\"\",VLOOKUP(B808,'Spisak FSS izložbi'!$B$6:$H$318,3,FALSE))","v":""},null,{"$f":"IF(B808=\"\",\"\",VLOOKUP(B808,'Spisak FSS izložbi'!$B$6:$H$318,6,FALSE))","v":""},{"$f":"IF(B808=\"\",\"\",VLOOKUP(B808,'Spisak FSS izložbi'!$B$6:$H$318,5,FALSE))","v":""},null,null,null,null,null,0,0,{"$f":"IF(B808=\"\",1,VLOOKUP(B808,'Spisak FSS izložbi'!$B$6:$H$318,7,FALSE))","v":1},0]
[795,null,{"$f":"IF(B809=\"\",\"\",VLOOKUP(B809,'Spisak FSS izložbi'!$B$6:$H$318,3,FALSE))","v":""},null,{"$f":"IF(B809=\"\",\"\",VLOOKUP(B809,'Spisak FSS izložbi'!$B$6:$H$318,6,FALSE))","v":""},{"$f":"IF(B809=\"\",\"\",VLOOKUP(B809,'Spisak FSS izložbi'!$B$6:$H$318,5,FALSE))","v":""},null,null,null,null,null,0,0,{"$f":"IF(B809=\"\",1,VLOOKUP(B809,'Spisak FSS izložbi'!$B$6:$H$318,7,FALSE))","v":1},0]
[796,null,{"$f":"IF(B810=\"\",\"\",VLOOKUP(B810,'Spisak FSS izložbi'!$B$6:$H$318,3,FALSE))","v":""},null,{"$f":"IF(B810=\"\",\"\",VLOOKUP(B810,'Spisak FSS izložbi'!$B$6:$H$318,6,FALSE))","v":""},{"$f":"IF(B810=\"\",\"\",VLOOKUP(B810,'Spisak FSS izložbi'!$B$6:$H$318,5,FALSE))","v":""},null,null,null,null,null,0,0,{"$f":"IF(B810=\"\",1,VLOOKUP(B810,'Spisak FSS izložbi'!$B$6:$H$318,7,FALSE))","v":1},0]
[797,null,{"$f":"IF(B811=\"\",\"\",VLOOKUP(B811,'Spisak FSS izložbi'!$B$6:$H$318,3,FALSE))","v":""},null,{"$f":"IF(B811=\"\",\"\",VLOOKUP(B811,'Spisak FSS izložbi'!$B$6:$H$318,6,FALSE))","v":""},{"$f":"IF(B811=\"\",\"\",VLOOKUP(B811,'Spisak FSS izložbi'!$B$6:$H$318,5,FALSE))","v":""},null,null,null,null,null,0,0,{"$f":"IF(B811=\"\",1,VLOOKUP(B811,'Spisak FSS izložbi'!$B$6:$H$318,7,FALSE))","v":1},0]
[798,null,{"$f":"IF(B812=\"\",\"\",VLOOKUP(B812,'Spisak FSS izložbi'!$B$6:$H$318,3,FALSE))","v":""},null,{"$f":"IF(B812=\"\",\"\",VLOOKUP(B812,'Spisak FSS izložbi'!$B$6:$H$318,6,FALSE))","v":""},{"$f":"IF(B812=\"\",\"\",VLOOKUP(B812,'Spisak FSS izložbi'!$B$6:$H$318,5,FALSE))","v":""},null,null,null,null,null,0,0,{"$f":"IF(B812=\"\",1,VLOOKUP(B812,'Spisak FSS izložbi'!$B$6:$H$318,7,FALSE))","v":1},0]
[799,null,{"$f":"IF(B813=\"\",\"\",VLOOKUP(B813,'Spisak FSS izložbi'!$B$6:$H$318,3,FALSE))","v":""},null,{"$f":"IF(B813=\"\",\"\",VLOOKUP(B813,'Spisak FSS izložbi'!$B$6:$H$318,6,FALSE))","v":""},{"$f":"IF(B813=\"\",\"\",VLOOKUP(B813,'Spisak FSS izložbi'!$B$6:$H$318,5,FALSE))","v":""},null,null,null,null,null,0,0,{"$f":"IF(B813=\"\",1,VLOOKUP(B813,'Spisak FSS izložbi'!$B$6:$H$318,7,FALSE))","v":1},0]
[800,null,{"$f":"IF(B814=\"\",\"\",VLOOKUP(B814,'Spisak FSS izložbi'!$B$6:$H$318,3,FALSE))","v":""},null,{"$f":"IF(B814=\"\",\"\",VLOOKUP(B814,'Spisak FSS izložbi'!$B$6:$H$318,6,FALSE))","v":""},{"$f":"IF(B814=\"\",\"\",VLOOKUP(B814,'Spisak FSS izložbi'!$B$6:$H$318,5,FALSE))","v":""},null,null,null,null,null,0,0,{"$f":"IF(B814=\"\",1,VLOOKUP(B814,'Spisak FSS izložbi'!$B$6:$H$318,7,FALSE))","v":1},0]
[801,null,{"$f":"IF(B815=\"\",\"\",VLOOKUP(B815,'Spisak FSS izložbi'!$B$6:$H$318,3,FALSE))","v":""},null,{"$f":"IF(B815=\"\",\"\",VLOOKUP(B815,'Spisak FSS izložbi'!$B$6:$H$318,6,FALSE))","v":""},{"$f":"IF(B815=\"\",\"\",VLOOKUP(B815,'Spisak FSS izložbi'!$B$6:$H$318,5,FALSE))","v":""},null,null,null,null,null,0,0,{"$f":"IF(B815=\"\",1,VLOOKUP(B815,'Spisak FSS izložbi'!$B$6:$H$318,7,FALSE))","v":1},0]
[802,null,{"$f":"IF(B816=\"\",\"\",VLOOKUP(B816,'Spisak FSS izložbi'!$B$6:$H$318,3,FALSE))","v":""},null,{"$f":"IF(B816=\"\",\"\",VLOOKUP(B816,'Spisak FSS izložbi'!$B$6:$H$318,6,FALSE))","v":""},{"$f":"IF(B816=\"\",\"\",VLOOKUP(B816,'Spisak FSS izložbi'!$B$6:$H$318,5,FALSE))","v":""},null,null,null,null,null,0,0,{"$f":"IF(B816=\"\",1,VLOOKUP(B816,'Spisak FSS izložbi'!$B$6:$H$318,7,FALSE))","v":1},0]
[803,null,{"$f":"IF(B817=\"\",\"\",VLOOKUP(B817,'Spisak FSS izložbi'!$B$6:$H$318,3,FALSE))","v":""},null,{"$f":"IF(B817=\"\",\"\",VLOOKUP(B817,'Spisak FSS izložbi'!$B$6:$H$318,6,FALSE))","v":""},{"$f":"IF(B817=\"\",\"\",VLOOKUP(B817,'Spisak FSS izložbi'!$B$6:$H$318,5,FALSE))","v":""},null,null,null,null,null,0,0,{"$f":"IF(B817=\"\",1,VLOOKUP(B817,'Spisak FSS izložbi'!$B$6:$H$318,7,FALSE))","v":1},0]
[804,null,{"$f":"IF(B818=\"\",\"\",VLOOKUP(B818,'Spisak FSS izložbi'!$B$6:$H$318,3,FALSE))","v":""},null,{"$f":"IF(B818=\"\",\"\",VLOOKUP(B818,'Spisak FSS izložbi'!$B$6:$H$318,6,FALSE))","v":""},{"$f":"IF(B818=\"\",\"\",VLOOKUP(B818,'Spisak FSS izložbi'!$B$6:$H$318,5,FALSE))","v":""},null,null,null,null,null,0,0,{"$f":"IF(B818=\"\",1,VLOOKUP(B818,'Spisak FSS izložbi'!$B$6:$H$318,7,FALSE))","v":1},0]
[805,null,{"$f":"IF(B819=\"\",\"\",VLOOKUP(B819,'Spisak FSS izložbi'!$B$6:$H$318,3,FALSE))","v":""},null,{"$f":"IF(B819=\"\",\"\",VLOOKUP(B819,'Spisak FSS izložbi'!$B$6:$H$318,6,FALSE))","v":""},{"$f":"IF(B819=\"\",\"\",VLOOKUP(B819,'Spisak FSS izložbi'!$B$6:$H$318,5,FALSE))","v":""},null,null,null,null,null,0,0,{"$f":"IF(B819=\"\",1,VLOOKUP(B819,'Spisak FSS izložbi'!$B$6:$H$318,7,FALSE))","v":1},0]
[806,null,{"$f":"IF(B820=\"\",\"\",VLOOKUP(B820,'Spisak FSS izložbi'!$B$6:$H$318,3,FALSE))","v":""},null,{"$f":"IF(B820=\"\",\"\",VLOOKUP(B820,'Spisak FSS izložbi'!$B$6:$H$318,6,FALSE))","v":""},{"$f":"IF(B820=\"\",\"\",VLOOKUP(B820,'Spisak FSS izložbi'!$B$6:$H$318,5,FALSE))","v":""},null,null,null,null,null,0,0,{"$f":"IF(B820=\"\",1,VLOOKUP(B820,'Spisak FSS izložbi'!$B$6:$H$318,7,FALSE))","v":1},0]
[807,null,{"$f":"IF(B821=\"\",\"\",VLOOKUP(B821,'Spisak FSS izložbi'!$B$6:$H$318,3,FALSE))","v":""},null,{"$f":"IF(B821=\"\",\"\",VLOOKUP(B821,'Spisak FSS izložbi'!$B$6:$H$318,6,FALSE))","v":""},{"$f":"IF(B821=\"\",\"\",VLOOKUP(B821,'Spisak FSS izložbi'!$B$6:$H$318,5,FALSE))","v":""},null,null,null,null,null,0,0,{"$f":"IF(B821=\"\",1,VLOOKUP(B821,'Spisak FSS izložbi'!$B$6:$H$318,7,FALSE))","v":1},0]
[808,null,{"$f":"IF(B822=\"\",\"\",VLOOKUP(B822,'Spisak FSS izložbi'!$B$6:$H$318,3,FALSE))","v":""},null,{"$f":"IF(B822=\"\",\"\",VLOOKUP(B822,'Spisak FSS izložbi'!$B$6:$H$318,6,FALSE))","v":""},{"$f":"IF(B822=\"\",\"\",VLOOKUP(B822,'Spisak FSS izložbi'!$B$6:$H$318,5,FALSE))","v":""},null,null,null,null,null,0,0,{"$f":"IF(B822=\"\",1,VLOOKUP(B822,'Spisak FSS izložbi'!$B$6:$H$318,7,FALSE))","v":1},0]
[809,null,{"$f":"IF(B823=\"\",\"\",VLOOKUP(B823,'Spisak FSS izložbi'!$B$6:$H$318,3,FALSE))","v":""},null,{"$f":"IF(B823=\"\",\"\",VLOOKUP(B823,'Spisak FSS izložbi'!$B$6:$H$318,6,FALSE))","v":""},{"$f":"IF(B823=\"\",\"\",VLOOKUP(B823,'Spisak FSS izložbi'!$B$6:$H$318,5,FALSE))","v":""},null,null,null,null,null,0,0,{"$f":"IF(B823=\"\",1,VLOOKUP(B823,'Spisak FSS izložbi'!$B$6:$H$318,7,FALSE))","v":1},0]
[810,null,{"$f":"IF(B824=\"\",\"\",VLOOKUP(B824,'Spisak FSS izložbi'!$B$6:$H$318,3,FALSE))","v":""},null,{"$f":"IF(B824=\"\",\"\",VLOOKUP(B824,'Spisak FSS izložbi'!$B$6:$H$318,6,FALSE))","v":""},{"$f":"IF(B824=\"\",\"\",VLOOKUP(B824,'Spisak FSS izložbi'!$B$6:$H$318,5,FALSE))","v":""},null,null,null,null,null,0,0,{"$f":"IF(B824=\"\",1,VLOOKUP(B824,'Spisak FSS izložbi'!$B$6:$H$318,7,FALSE))","v":1},0]
[811,null,{"$f":"IF(B825=\"\",\"\",VLOOKUP(B825,'Spisak FSS izložbi'!$B$6:$H$318,3,FALSE))","v":""},null,{"$f":"IF(B825=\"\",\"\",VLOOKUP(B825,'Spisak FSS izložbi'!$B$6:$H$318,6,FALSE))","v":""},{"$f":"IF(B825=\"\",\"\",VLOOKUP(B825,'Spisak FSS izložbi'!$B$6:$H$318,5,FALSE))","v":""},null,null,null,null,null,0,0,{"$f":"IF(B825=\"\",1,VLOOKUP(B825,'Spisak FSS izložbi'!$B$6:$H$318,7,FALSE))","v":1},0]
[812,null,{"$f":"IF(B826=\"\",\"\",VLOOKUP(B826,'Spisak FSS izložbi'!$B$6:$H$318,3,FALSE))","v":""},null,{"$f":"IF(B826=\"\",\"\",VLOOKUP(B826,'Spisak FSS izložbi'!$B$6:$H$318,6,FALSE))","v":""},{"$f":"IF(B826=\"\",\"\",VLOOKUP(B826,'Spisak FSS izložbi'!$B$6:$H$318,5,FALSE))","v":""},null,null,null,null,null,0,0,{"$f":"IF(B826=\"\",1,VLOOKUP(B826,'Spisak FSS izložbi'!$B$6:$H$318,7,FALSE))","v":1},0]
[813,null,{"$f":"IF(B827=\"\",\"\",VLOOKUP(B827,'Spisak FSS izložbi'!$B$6:$H$318,3,FALSE))","v":""},null,{"$f":"IF(B827=\"\",\"\",VLOOKUP(B827,'Spisak FSS izložbi'!$B$6:$H$318,6,FALSE))","v":""},{"$f":"IF(B827=\"\",\"\",VLOOKUP(B827,'Spisak FSS izložbi'!$B$6:$H$318,5,FALSE))","v":""},null,null,null,null,null,0,0,{"$f":"IF(B827=\"\",1,VLOOKUP(B827,'Spisak FSS izložbi'!$B$6:$H$318,7,FALSE))","v":1},0]
[814,null,{"$f":"IF(B828=\"\",\"\",VLOOKUP(B828,'Spisak FSS izložbi'!$B$6:$H$318,3,FALSE))","v":""},null,{"$f":"IF(B828=\"\",\"\",VLOOKUP(B828,'Spisak FSS izložbi'!$B$6:$H$318,6,FALSE))","v":""},{"$f":"IF(B828=\"\",\"\",VLOOKUP(B828,'Spisak FSS izložbi'!$B$6:$H$318,5,FALSE))","v":""},null,null,null,null,null,0,0,{"$f":"IF(B828=\"\",1,VLOOKUP(B828,'Spisak FSS izložbi'!$B$6:$H$318,7,FALSE))","v":1},0]
[815,null,{"$f":"IF(B829=\"\",\"\",VLOOKUP(B829,'Spisak FSS izložbi'!$B$6:$H$318,3,FALSE))","v":""},null,{"$f":"IF(B829=\"\",\"\",VLOOKUP(B829,'Spisak FSS izložbi'!$B$6:$H$318,6,FALSE))","v":""},{"$f":"IF(B829=\"\",\"\",VLOOKUP(B829,'Spisak FSS izložbi'!$B$6:$H$318,5,FALSE))","v":""},null,null,null,null,null,0,0,{"$f":"IF(B829=\"\",1,VLOOKUP(B829,'Spisak FSS izložbi'!$B$6:$H$318,7,FALSE))","v":1},0]
[816,null,{"$f":"IF(B830=\"\",\"\",VLOOKUP(B830,'Spisak FSS izložbi'!$B$6:$H$318,3,FALSE))","v":""},null,{"$f":"IF(B830=\"\",\"\",VLOOKUP(B830,'Spisak FSS izložbi'!$B$6:$H$318,6,FALSE))","v":""},{"$f":"IF(B830=\"\",\"\",VLOOKUP(B830,'Spisak FSS izložbi'!$B$6:$H$318,5,FALSE))","v":""},null,null,null,null,null,0,0,{"$f":"IF(B830=\"\",1,VLOOKUP(B830,'Spisak FSS izložbi'!$B$6:$H$318,7,FALSE))","v":1},0]
[817,null,{"$f":"IF(B831=\"\",\"\",VLOOKUP(B831,'Spisak FSS izložbi'!$B$6:$H$318,3,FALSE))","v":""},null,{"$f":"IF(B831=\"\",\"\",VLOOKUP(B831,'Spisak FSS izložbi'!$B$6:$H$318,6,FALSE))","v":""},{"$f":"IF(B831=\"\",\"\",VLOOKUP(B831,'Spisak FSS izložbi'!$B$6:$H$318,5,FALSE))","v":""},null,null,null,null,null,0,0,{"$f":"IF(B831=\"\",1,VLOOKUP(B831,'Spisak FSS izložbi'!$B$6:$H$318,7,FALSE))","v":1},0]
[818,null,{"$f":"IF(B832=\"\",\"\",VLOOKUP(B832,'Spisak FSS izložbi'!$B$6:$H$318,3,FALSE))","v":""},null,{"$f":"IF(B832=\"\",\"\",VLOOKUP(B832,'Spisak FSS izložbi'!$B$6:$H$318,6,FALSE))","v":""},{"$f":"IF(B832=\"\",\"\",VLOOKUP(B832,'Spisak FSS izložbi'!$B$6:$H$318,5,FALSE))","v":""},null,null,null,null,null,0,0,{"$f":"IF(B832=\"\",1,VLOOKUP(B832,'Spisak FSS izložbi'!$B$6:$H$318,7,FALSE))","v":1},0]
[819,null,{"$f":"IF(B833=\"\",\"\",VLOOKUP(B833,'Spisak FSS izložbi'!$B$6:$H$318,3,FALSE))","v":""},null,{"$f":"IF(B833=\"\",\"\",VLOOKUP(B833,'Spisak FSS izložbi'!$B$6:$H$318,6,FALSE))","v":""},{"$f":"IF(B833=\"\",\"\",VLOOKUP(B833,'Spisak FSS izložbi'!$B$6:$H$318,5,FALSE))","v":""},null,null,null,null,null,0,0,{"$f":"IF(B833=\"\",1,VLOOKUP(B833,'Spisak FSS izložbi'!$B$6:$H$318,7,FALSE))","v":1},0]
[820,null,{"$f":"IF(B834=\"\",\"\",VLOOKUP(B834,'Spisak FSS izložbi'!$B$6:$H$318,3,FALSE))","v":""},null,{"$f":"IF(B834=\"\",\"\",VLOOKUP(B834,'Spisak FSS izložbi'!$B$6:$H$318,6,FALSE))","v":""},{"$f":"IF(B834=\"\",\"\",VLOOKUP(B834,'Spisak FSS izložbi'!$B$6:$H$318,5,FALSE))","v":""},null,null,null,null,null,0,0,{"$f":"IF(B834=\"\",1,VLOOKUP(B834,'Spisak FSS izložbi'!$B$6:$H$318,7,FALSE))","v":1},0]
[821,null,{"$f":"IF(B835=\"\",\"\",VLOOKUP(B835,'Spisak FSS izložbi'!$B$6:$H$318,3,FALSE))","v":""},null,{"$f":"IF(B835=\"\",\"\",VLOOKUP(B835,'Spisak FSS izložbi'!$B$6:$H$318,6,FALSE))","v":""},{"$f":"IF(B835=\"\",\"\",VLOOKUP(B835,'Spisak FSS izložbi'!$B$6:$H$318,5,FALSE))","v":""},null,null,null,null,null,0,0,{"$f":"IF(B835=\"\",1,VLOOKUP(B835,'Spisak FSS izložbi'!$B$6:$H$318,7,FALSE))","v":1},0]
[822,null,{"$f":"IF(B836=\"\",\"\",VLOOKUP(B836,'Spisak FSS izložbi'!$B$6:$H$318,3,FALSE))","v":""},null,{"$f":"IF(B836=\"\",\"\",VLOOKUP(B836,'Spisak FSS izložbi'!$B$6:$H$318,6,FALSE))","v":""},{"$f":"IF(B836=\"\",\"\",VLOOKUP(B836,'Spisak FSS izložbi'!$B$6:$H$318,5,FALSE))","v":""},null,null,null,null,null,0,0,{"$f":"IF(B836=\"\",1,VLOOKUP(B836,'Spisak FSS izložbi'!$B$6:$H$318,7,FALSE))","v":1},0]
[823,null,{"$f":"IF(B837=\"\",\"\",VLOOKUP(B837,'Spisak FSS izložbi'!$B$6:$H$318,3,FALSE))","v":""},null,{"$f":"IF(B837=\"\",\"\",VLOOKUP(B837,'Spisak FSS izložbi'!$B$6:$H$318,6,FALSE))","v":""},{"$f":"IF(B837=\"\",\"\",VLOOKUP(B837,'Spisak FSS izložbi'!$B$6:$H$318,5,FALSE))","v":""},null,null,null,null,null,0,0,{"$f":"IF(B837=\"\",1,VLOOKUP(B837,'Spisak FSS izložbi'!$B$6:$H$318,7,FALSE))","v":1},0]
[824,null,{"$f":"IF(B838=\"\",\"\",VLOOKUP(B838,'Spisak FSS izložbi'!$B$6:$H$318,3,FALSE))","v":""},null,{"$f":"IF(B838=\"\",\"\",VLOOKUP(B838,'Spisak FSS izložbi'!$B$6:$H$318,6,FALSE))","v":""},{"$f":"IF(B838=\"\",\"\",VLOOKUP(B838,'Spisak FSS izložbi'!$B$6:$H$318,5,FALSE))","v":""},null,null,null,null,null,0,0,{"$f":"IF(B838=\"\",1,VLOOKUP(B838,'Spisak FSS izložbi'!$B$6:$H$318,7,FALSE))","v":1},0]
[825,null,{"$f":"IF(B839=\"\",\"\",VLOOKUP(B839,'Spisak FSS izložbi'!$B$6:$H$318,3,FALSE))","v":""},null,{"$f":"IF(B839=\"\",\"\",VLOOKUP(B839,'Spisak FSS izložbi'!$B$6:$H$318,6,FALSE))","v":""},{"$f":"IF(B839=\"\",\"\",VLOOKUP(B839,'Spisak FSS izložbi'!$B$6:$H$318,5,FALSE))","v":""},null,null,null,null,null,0,0,{"$f":"IF(B839=\"\",1,VLOOKUP(B839,'Spisak FSS izložbi'!$B$6:$H$318,7,FALSE))","v":1},0]
[826,null,{"$f":"IF(B840=\"\",\"\",VLOOKUP(B840,'Spisak FSS izložbi'!$B$6:$H$318,3,FALSE))","v":""},null,{"$f":"IF(B840=\"\",\"\",VLOOKUP(B840,'Spisak FSS izložbi'!$B$6:$H$318,6,FALSE))","v":""},{"$f":"IF(B840=\"\",\"\",VLOOKUP(B840,'Spisak FSS izložbi'!$B$6:$H$318,5,FALSE))","v":""},null,null,null,null,null,0,0,{"$f":"IF(B840=\"\",1,VLOOKUP(B840,'Spisak FSS izložbi'!$B$6:$H$318,7,FALSE))","v":1},0]
[827,null,{"$f":"IF(B841=\"\",\"\",VLOOKUP(B841,'Spisak FSS izložbi'!$B$6:$H$318,3,FALSE))","v":""},null,{"$f":"IF(B841=\"\",\"\",VLOOKUP(B841,'Spisak FSS izložbi'!$B$6:$H$318,6,FALSE))","v":""},{"$f":"IF(B841=\"\",\"\",VLOOKUP(B841,'Spisak FSS izložbi'!$B$6:$H$318,5,FALSE))","v":""},null,null,null,null,null,0,0,{"$f":"IF(B841=\"\",1,VLOOKUP(B841,'Spisak FSS izložbi'!$B$6:$H$318,7,FALSE))","v":1},0]
[828,null,{"$f":"IF(B842=\"\",\"\",VLOOKUP(B842,'Spisak FSS izložbi'!$B$6:$H$318,3,FALSE))","v":""},null,{"$f":"IF(B842=\"\",\"\",VLOOKUP(B842,'Spisak FSS izložbi'!$B$6:$H$318,6,FALSE))","v":""},{"$f":"IF(B842=\"\",\"\",VLOOKUP(B842,'Spisak FSS izložbi'!$B$6:$H$318,5,FALSE))","v":""},null,null,null,null,null,0,0,{"$f":"IF(B842=\"\",1,VLOOKUP(B842,'Spisak FSS izložbi'!$B$6:$H$318,7,FALSE))","v":1},0]
[829,null,{"$f":"IF(B843=\"\",\"\",VLOOKUP(B843,'Spisak FSS izložbi'!$B$6:$H$318,3,FALSE))","v":""},null,{"$f":"IF(B843=\"\",\"\",VLOOKUP(B843,'Spisak FSS izložbi'!$B$6:$H$318,6,FALSE))","v":""},{"$f":"IF(B843=\"\",\"\",VLOOKUP(B843,'Spisak FSS izložbi'!$B$6:$H$318,5,FALSE))","v":""},null,null,null,null,null,0,0,{"$f":"IF(B843=\"\",1,VLOOKUP(B843,'Spisak FSS izložbi'!$B$6:$H$318,7,FALSE))","v":1},0]
[830,null,{"$f":"IF(B844=\"\",\"\",VLOOKUP(B844,'Spisak FSS izložbi'!$B$6:$H$318,3,FALSE))","v":""},null,{"$f":"IF(B844=\"\",\"\",VLOOKUP(B844,'Spisak FSS izložbi'!$B$6:$H$318,6,FALSE))","v":""},{"$f":"IF(B844=\"\",\"\",VLOOKUP(B844,'Spisak FSS izložbi'!$B$6:$H$318,5,FALSE))","v":""},null,null,null,null,null,0,0,{"$f":"IF(B844=\"\",1,VLOOKUP(B844,'Spisak FSS izložbi'!$B$6:$H$318,7,FALSE))","v":1},0]
[831,null,{"$f":"IF(B845=\"\",\"\",VLOOKUP(B845,'Spisak FSS izložbi'!$B$6:$H$318,3,FALSE))","v":""},null,{"$f":"IF(B845=\"\",\"\",VLOOKUP(B845,'Spisak FSS izložbi'!$B$6:$H$318,6,FALSE))","v":""},{"$f":"IF(B845=\"\",\"\",VLOOKUP(B845,'Spisak FSS izložbi'!$B$6:$H$318,5,FALSE))","v":""},null,null,null,null,null,0,0,{"$f":"IF(B845=\"\",1,VLOOKUP(B845,'Spisak FSS izložbi'!$B$6:$H$318,7,FALSE))","v":1},0]
[832,null,{"$f":"IF(B846=\"\",\"\",VLOOKUP(B846,'Spisak FSS izložbi'!$B$6:$H$318,3,FALSE))","v":""},null,{"$f":"IF(B846=\"\",\"\",VLOOKUP(B846,'Spisak FSS izložbi'!$B$6:$H$318,6,FALSE))","v":""},{"$f":"IF(B846=\"\",\"\",VLOOKUP(B846,'Spisak FSS izložbi'!$B$6:$H$318,5,FALSE))","v":""},null,null,null,null,null,0,0,{"$f":"IF(B846=\"\",1,VLOOKUP(B846,'Spisak FSS izložbi'!$B$6:$H$318,7,FALSE))","v":1},0]
[833,null,{"$f":"IF(B847=\"\",\"\",VLOOKUP(B847,'Spisak FSS izložbi'!$B$6:$H$318,3,FALSE))","v":""},null,{"$f":"IF(B847=\"\",\"\",VLOOKUP(B847,'Spisak FSS izložbi'!$B$6:$H$318,6,FALSE))","v":""},{"$f":"IF(B847=\"\",\"\",VLOOKUP(B847,'Spisak FSS izložbi'!$B$6:$H$318,5,FALSE))","v":""},null,null,null,null,null,0,0,{"$f":"IF(B847=\"\",1,VLOOKUP(B847,'Spisak FSS izložbi'!$B$6:$H$318,7,FALSE))","v":1},0]
[834,null,{"$f":"IF(B848=\"\",\"\",VLOOKUP(B848,'Spisak FSS izložbi'!$B$6:$H$318,3,FALSE))","v":""},null,{"$f":"IF(B848=\"\",\"\",VLOOKUP(B848,'Spisak FSS izložbi'!$B$6:$H$318,6,FALSE))","v":""},{"$f":"IF(B848=\"\",\"\",VLOOKUP(B848,'Spisak FSS izložbi'!$B$6:$H$318,5,FALSE))","v":""},null,null,null,null,null,{"$f":"IF(E848=$H$1,$H$6,IF(E848=$I$1,$I$6,IF(E848=$J$1,$J$6,IF(E848=$K$1,$K$6,IF(E848=$L$1,$L$6,IF(E848=$M$1,$M$6,IF(E848=$N$1,$N$6,IF(E848=$O$1,$O$6,0))))))))","v":0},{"$f":"IF(OR(E848=\"\",K848=\"\")=TRUE,0,VLOOKUP(K848,$G$1:$O$7,MATCH(E848,$G$1:$O$1,0),FALSE))","v":0},{"$f":"IF(B848=\"\",1,VLOOKUP(B848,'Spisak FSS izložbi'!$B$6:$H$318,7,FALSE))","v":1},{"$f":"(L848+M848)*N848","v":0}]
[835,null,{"$f":"IF(B849=\"\",\"\",VLOOKUP(B849,'Spisak FSS izložbi'!$B$6:$H$318,3,FALSE))","v":""},null,{"$f":"IF(B849=\"\",\"\",VLOOKUP(B849,'Spisak FSS izložbi'!$B$6:$H$318,6,FALSE))","v":""},{"$f":"IF(B849=\"\",\"\",VLOOKUP(B849,'Spisak FSS izložbi'!$B$6:$H$318,5,FALSE))","v":""},null,null,null,null,null,0,0,{"$f":"IF(B849=\"\",1,VLOOKUP(B849,'Spisak FSS izložbi'!$B$6:$H$318,7,FALSE))","v":1},0]
[836,null,{"$f":"IF(B850=\"\",\"\",VLOOKUP(B850,'Spisak FSS izložbi'!$B$6:$H$318,3,FALSE))","v":""},null,{"$f":"IF(B850=\"\",\"\",VLOOKUP(B850,'Spisak FSS izložbi'!$B$6:$H$318,6,FALSE))","v":""},{"$f":"IF(B850=\"\",\"\",VLOOKUP(B850,'Spisak FSS izložbi'!$B$6:$H$318,5,FALSE))","v":""},null,null,null,null,null,0,0,{"$f":"IF(B850=\"\",1,VLOOKUP(B850,'Spisak FSS izložbi'!$B$6:$H$318,7,FALSE))","v":1},0]
[837,null,{"$f":"IF(B851=\"\",\"\",VLOOKUP(B851,'Spisak FSS izložbi'!$B$6:$H$318,3,FALSE))","v":""},null,{"$f":"IF(B851=\"\",\"\",VLOOKUP(B851,'Spisak FSS izložbi'!$B$6:$H$318,6,FALSE))","v":""},{"$f":"IF(B851=\"\",\"\",VLOOKUP(B851,'Spisak FSS izložbi'!$B$6:$H$318,5,FALSE))","v":""},null,null,null,null,null,0,0,{"$f":"IF(B851=\"\",1,VLOOKUP(B851,'Spisak FSS izložbi'!$B$6:$H$318,7,FALSE))","v":1},0]
[838,null,{"$f":"IF(B852=\"\",\"\",VLOOKUP(B852,'Spisak FSS izložbi'!$B$6:$H$318,3,FALSE))","v":""},null,{"$f":"IF(B852=\"\",\"\",VLOOKUP(B852,'Spisak FSS izložbi'!$B$6:$H$318,6,FALSE))","v":""},{"$f":"IF(B852=\"\",\"\",VLOOKUP(B852,'Spisak FSS izložbi'!$B$6:$H$318,5,FALSE))","v":""},null,null,null,null,null,0,0,{"$f":"IF(B852=\"\",1,VLOOKUP(B852,'Spisak FSS izložbi'!$B$6:$H$318,7,FALSE))","v":1},0]
[839,null,{"$f":"IF(B853=\"\",\"\",VLOOKUP(B853,'Spisak FSS izložbi'!$B$6:$H$318,3,FALSE))","v":""},null,{"$f":"IF(B853=\"\",\"\",VLOOKUP(B853,'Spisak FSS izložbi'!$B$6:$H$318,6,FALSE))","v":""},{"$f":"IF(B853=\"\",\"\",VLOOKUP(B853,'Spisak FSS izložbi'!$B$6:$H$318,5,FALSE))","v":""},null,null,null,null,null,0,0,{"$f":"IF(B853=\"\",1,VLOOKUP(B853,'Spisak FSS izložbi'!$B$6:$H$318,7,FALSE))","v":1},0]
[840,null,{"$f":"IF(B854=\"\",\"\",VLOOKUP(B854,'Spisak FSS izložbi'!$B$6:$H$318,3,FALSE))","v":""},null,{"$f":"IF(B854=\"\",\"\",VLOOKUP(B854,'Spisak FSS izložbi'!$B$6:$H$318,6,FALSE))","v":""},{"$f":"IF(B854=\"\",\"\",VLOOKUP(B854,'Spisak FSS izložbi'!$B$6:$H$318,5,FALSE))","v":""},null,null,null,null,null,0,0,{"$f":"IF(B854=\"\",1,VLOOKUP(B854,'Spisak FSS izložbi'!$B$6:$H$318,7,FALSE))","v":1},0]
[841,null,{"$f":"IF(B855=\"\",\"\",VLOOKUP(B855,'Spisak FSS izložbi'!$B$6:$H$318,3,FALSE))","v":""},null,{"$f":"IF(B855=\"\",\"\",VLOOKUP(B855,'Spisak FSS izložbi'!$B$6:$H$318,6,FALSE))","v":""},{"$f":"IF(B855=\"\",\"\",VLOOKUP(B855,'Spisak FSS izložbi'!$B$6:$H$318,5,FALSE))","v":""},null,null,null,null,null,0,0,{"$f":"IF(B855=\"\",1,VLOOKUP(B855,'Spisak FSS izložbi'!$B$6:$H$318,7,FALSE))","v":1},0]
[842,null,{"$f":"IF(B856=\"\",\"\",VLOOKUP(B856,'Spisak FSS izložbi'!$B$6:$H$318,3,FALSE))","v":""},null,{"$f":"IF(B856=\"\",\"\",VLOOKUP(B856,'Spisak FSS izložbi'!$B$6:$H$318,6,FALSE))","v":""},{"$f":"IF(B856=\"\",\"\",VLOOKUP(B856,'Spisak FSS izložbi'!$B$6:$H$318,5,FALSE))","v":""},null,null,null,null,null,0,0,{"$f":"IF(B856=\"\",1,VLOOKUP(B856,'Spisak FSS izložbi'!$B$6:$H$318,7,FALSE))","v":1},0]
[843,null,{"$f":"IF(B857=\"\",\"\",VLOOKUP(B857,'Spisak FSS izložbi'!$B$6:$H$318,3,FALSE))","v":""},null,{"$f":"IF(B857=\"\",\"\",VLOOKUP(B857,'Spisak FSS izložbi'!$B$6:$H$318,6,FALSE))","v":""},{"$f":"IF(B857=\"\",\"\",VLOOKUP(B857,'Spisak FSS izložbi'!$B$6:$H$318,5,FALSE))","v":""},null,null,null,null,null,0,0,{"$f":"IF(B857=\"\",1,VLOOKUP(B857,'Spisak FSS izložbi'!$B$6:$H$318,7,FALSE))","v":1},0]
[844,null,{"$f":"IF(B858=\"\",\"\",VLOOKUP(B858,'Spisak FSS izložbi'!$B$6:$H$318,3,FALSE))","v":""},null,{"$f":"IF(B858=\"\",\"\",VLOOKUP(B858,'Spisak FSS izložbi'!$B$6:$H$318,6,FALSE))","v":""},{"$f":"IF(B858=\"\",\"\",VLOOKUP(B858,'Spisak FSS izložbi'!$B$6:$H$318,5,FALSE))","v":""},null,null,null,null,null,0,0,{"$f":"IF(B858=\"\",1,VLOOKUP(B858,'Spisak FSS izložbi'!$B$6:$H$318,7,FALSE))","v":1},0]
[845,null,{"$f":"IF(B859=\"\",\"\",VLOOKUP(B859,'Spisak FSS izložbi'!$B$6:$H$318,3,FALSE))","v":""},null,{"$f":"IF(B859=\"\",\"\",VLOOKUP(B859,'Spisak FSS izložbi'!$B$6:$H$318,6,FALSE))","v":""},{"$f":"IF(B859=\"\",\"\",VLOOKUP(B859,'Spisak FSS izložbi'!$B$6:$H$318,5,FALSE))","v":""},null,null,null,null,null,0,0,{"$f":"IF(B859=\"\",1,VLOOKUP(B859,'Spisak FSS izložbi'!$B$6:$H$318,7,FALSE))","v":1},0]
[846,null,{"$f":"IF(B860=\"\",\"\",VLOOKUP(B860,'Spisak FSS izložbi'!$B$6:$H$318,3,FALSE))","v":""},null,{"$f":"IF(B860=\"\",\"\",VLOOKUP(B860,'Spisak FSS izložbi'!$B$6:$H$318,6,FALSE))","v":""},{"$f":"IF(B860=\"\",\"\",VLOOKUP(B860,'Spisak FSS izložbi'!$B$6:$H$318,5,FALSE))","v":""},null,null,null,null,null,0,0,{"$f":"IF(B860=\"\",1,VLOOKUP(B860,'Spisak FSS izložbi'!$B$6:$H$318,7,FALSE))","v":1},0]
[847,null,{"$f":"IF(B861=\"\",\"\",VLOOKUP(B861,'Spisak FSS izložbi'!$B$6:$H$318,3,FALSE))","v":""},null,{"$f":"IF(B861=\"\",\"\",VLOOKUP(B861,'Spisak FSS izložbi'!$B$6:$H$318,6,FALSE))","v":""},{"$f":"IF(B861=\"\",\"\",VLOOKUP(B861,'Spisak FSS izložbi'!$B$6:$H$318,5,FALSE))","v":""},null,null,null,null,null,0,0,{"$f":"IF(B861=\"\",1,VLOOKUP(B861,'Spisak FSS izložbi'!$B$6:$H$318,7,FALSE))","v":1},0]
[848,null,{"$f":"IF(B862=\"\",\"\",VLOOKUP(B862,'Spisak FSS izložbi'!$B$6:$H$318,3,FALSE))","v":""},null,{"$f":"IF(B862=\"\",\"\",VLOOKUP(B862,'Spisak FSS izložbi'!$B$6:$H$318,6,FALSE))","v":""},{"$f":"IF(B862=\"\",\"\",VLOOKUP(B862,'Spisak FSS izložbi'!$B$6:$H$318,5,FALSE))","v":""},null,null,null,null,null,0,0,{"$f":"IF(B862=\"\",1,VLOOKUP(B862,'Spisak FSS izložbi'!$B$6:$H$318,7,FALSE))","v":1},0]
[849,null,{"$f":"IF(B863=\"\",\"\",VLOOKUP(B863,'Spisak FSS izložbi'!$B$6:$H$318,3,FALSE))","v":""},null,{"$f":"IF(B863=\"\",\"\",VLOOKUP(B863,'Spisak FSS izložbi'!$B$6:$H$318,6,FALSE))","v":""},{"$f":"IF(B863=\"\",\"\",VLOOKUP(B863,'Spisak FSS izložbi'!$B$6:$H$318,5,FALSE))","v":""},null,null,null,null,null,0,0,{"$f":"IF(B863=\"\",1,VLOOKUP(B863,'Spisak FSS izložbi'!$B$6:$H$318,7,FALSE))","v":1},0]
[850,null,{"$f":"IF(B864=\"\",\"\",VLOOKUP(B864,'Spisak FSS izložbi'!$B$6:$H$318,3,FALSE))","v":""},null,{"$f":"IF(B864=\"\",\"\",VLOOKUP(B864,'Spisak FSS izložbi'!$B$6:$H$318,6,FALSE))","v":""},{"$f":"IF(B864=\"\",\"\",VLOOKUP(B864,'Spisak FSS izložbi'!$B$6:$H$318,5,FALSE))","v":""},null,null,null,null,null,0,0,{"$f":"IF(B864=\"\",1,VLOOKUP(B864,'Spisak FSS izložbi'!$B$6:$H$318,7,FALSE))","v":1},0]
[851,null,{"$f":"IF(B865=\"\",\"\",VLOOKUP(B865,'Spisak FSS izložbi'!$B$6:$H$318,3,FALSE))","v":""},null,{"$f":"IF(B865=\"\",\"\",VLOOKUP(B865,'Spisak FSS izložbi'!$B$6:$H$318,6,FALSE))","v":""},{"$f":"IF(B865=\"\",\"\",VLOOKUP(B865,'Spisak FSS izložbi'!$B$6:$H$318,5,FALSE))","v":""},null,null,null,null,null,0,0,{"$f":"IF(B865=\"\",1,VLOOKUP(B865,'Spisak FSS izložbi'!$B$6:$H$318,7,FALSE))","v":1},0]
[852,null,{"$f":"IF(B866=\"\",\"\",VLOOKUP(B866,'Spisak FSS izložbi'!$B$6:$H$318,3,FALSE))","v":""},null,{"$f":"IF(B866=\"\",\"\",VLOOKUP(B866,'Spisak FSS izložbi'!$B$6:$H$318,6,FALSE))","v":""},{"$f":"IF(B866=\"\",\"\",VLOOKUP(B866,'Spisak FSS izložbi'!$B$6:$H$318,5,FALSE))","v":""},null,null,null,null,null,0,0,{"$f":"IF(B866=\"\",1,VLOOKUP(B866,'Spisak FSS izložbi'!$B$6:$H$318,7,FALSE))","v":1},0]
[853,null,{"$f":"IF(B867=\"\",\"\",VLOOKUP(B867,'Spisak FSS izložbi'!$B$6:$H$318,3,FALSE))","v":""},null,{"$f":"IF(B867=\"\",\"\",VLOOKUP(B867,'Spisak FSS izložbi'!$B$6:$H$318,6,FALSE))","v":""},{"$f":"IF(B867=\"\",\"\",VLOOKUP(B867,'Spisak FSS izložbi'!$B$6:$H$318,5,FALSE))","v":""},null,null,null,null,null,0,0,{"$f":"IF(B867=\"\",1,VLOOKUP(B867,'Spisak FSS izložbi'!$B$6:$H$318,7,FALSE))","v":1},0]
[854,null,{"$f":"IF(B868=\"\",\"\",VLOOKUP(B868,'Spisak FSS izložbi'!$B$6:$H$318,3,FALSE))","v":""},null,{"$f":"IF(B868=\"\",\"\",VLOOKUP(B868,'Spisak FSS izložbi'!$B$6:$H$318,6,FALSE))","v":""},{"$f":"IF(B868=\"\",\"\",VLOOKUP(B868,'Spisak FSS izložbi'!$B$6:$H$318,5,FALSE))","v":""},null,null,null,null,null,0,0,{"$f":"IF(B868=\"\",1,VLOOKUP(B868,'Spisak FSS izložbi'!$B$6:$H$318,7,FALSE))","v":1},0]
[855,null,{"$f":"IF(B869=\"\",\"\",VLOOKUP(B869,'Spisak FSS izložbi'!$B$6:$H$318,3,FALSE))","v":""},null,{"$f":"IF(B869=\"\",\"\",VLOOKUP(B869,'Spisak FSS izložbi'!$B$6:$H$318,6,FALSE))","v":""},{"$f":"IF(B869=\"\",\"\",VLOOKUP(B869,'Spisak FSS izložbi'!$B$6:$H$318,5,FALSE))","v":""},null,null,null,null,null,0,0,{"$f":"IF(B869=\"\",1,VLOOKUP(B869,'Spisak FSS izložbi'!$B$6:$H$318,7,FALSE))","v":1},0]
[856,null,{"$f":"IF(B870=\"\",\"\",VLOOKUP(B870,'Spisak FSS izložbi'!$B$6:$H$318,3,FALSE))","v":""},null,{"$f":"IF(B870=\"\",\"\",VLOOKUP(B870,'Spisak FSS izložbi'!$B$6:$H$318,6,FALSE))","v":""},{"$f":"IF(B870=\"\",\"\",VLOOKUP(B870,'Spisak FSS izložbi'!$B$6:$H$318,5,FALSE))","v":""},null,null,null,null,null,0,0,{"$f":"IF(B870=\"\",1,VLOOKUP(B870,'Spisak FSS izložbi'!$B$6:$H$318,7,FALSE))","v":1},0]
[857,null,{"$f":"IF(B871=\"\",\"\",VLOOKUP(B871,'Spisak FSS izložbi'!$B$6:$H$318,3,FALSE))","v":""},null,{"$f":"IF(B871=\"\",\"\",VLOOKUP(B871,'Spisak FSS izložbi'!$B$6:$H$318,6,FALSE))","v":""},{"$f":"IF(B871=\"\",\"\",VLOOKUP(B871,'Spisak FSS izložbi'!$B$6:$H$318,5,FALSE))","v":""},null,null,null,null,null,0,0,{"$f":"IF(B871=\"\",1,VLOOKUP(B871,'Spisak FSS izložbi'!$B$6:$H$318,7,FALSE))","v":1},0]
[858,null,{"$f":"IF(B872=\"\",\"\",VLOOKUP(B872,'Spisak FSS izložbi'!$B$6:$H$318,3,FALSE))","v":""},null,{"$f":"IF(B872=\"\",\"\",VLOOKUP(B872,'Spisak FSS izložbi'!$B$6:$H$318,6,FALSE))","v":""},{"$f":"IF(B872=\"\",\"\",VLOOKUP(B872,'Spisak FSS izložbi'!$B$6:$H$318,5,FALSE))","v":""},null,null,null,null,null,0,0,{"$f":"IF(B872=\"\",1,VLOOKUP(B872,'Spisak FSS izložbi'!$B$6:$H$318,7,FALSE))","v":1},0]
[859,null,{"$f":"IF(B873=\"\",\"\",VLOOKUP(B873,'Spisak FSS izložbi'!$B$6:$H$318,3,FALSE))","v":""},null,{"$f":"IF(B873=\"\",\"\",VLOOKUP(B873,'Spisak FSS izložbi'!$B$6:$H$318,6,FALSE))","v":""},{"$f":"IF(B873=\"\",\"\",VLOOKUP(B873,'Spisak FSS izložbi'!$B$6:$H$318,5,FALSE))","v":""},null,null,null,null,null,0,0,{"$f":"IF(B873=\"\",1,VLOOKUP(B873,'Spisak FSS izložbi'!$B$6:$H$318,7,FALSE))","v":1},0]
[860,null,{"$f":"IF(B874=\"\",\"\",VLOOKUP(B874,'Spisak FSS izložbi'!$B$6:$H$318,3,FALSE))","v":""},null,{"$f":"IF(B874=\"\",\"\",VLOOKUP(B874,'Spisak FSS izložbi'!$B$6:$H$318,6,FALSE))","v":""},{"$f":"IF(B874=\"\",\"\",VLOOKUP(B874,'Spisak FSS izložbi'!$B$6:$H$318,5,FALSE))","v":""},null,null,null,null,null,0,0,{"$f":"IF(B874=\"\",1,VLOOKUP(B874,'Spisak FSS izložbi'!$B$6:$H$318,7,FALSE))","v":1},0]
[861,null,{"$f":"IF(B875=\"\",\"\",VLOOKUP(B875,'Spisak FSS izložbi'!$B$6:$H$318,3,FALSE))","v":""},null,{"$f":"IF(B875=\"\",\"\",VLOOKUP(B875,'Spisak FSS izložbi'!$B$6:$H$318,6,FALSE))","v":""},{"$f":"IF(B875=\"\",\"\",VLOOKUP(B875,'Spisak FSS izložbi'!$B$6:$H$318,5,FALSE))","v":""},null,null,null,null,null,0,0,{"$f":"IF(B875=\"\",1,VLOOKUP(B875,'Spisak FSS izložbi'!$B$6:$H$318,7,FALSE))","v":1},0]
[862,null,{"$f":"IF(B876=\"\",\"\",VLOOKUP(B876,'Spisak FSS izložbi'!$B$6:$H$318,3,FALSE))","v":""},null,{"$f":"IF(B876=\"\",\"\",VLOOKUP(B876,'Spisak FSS izložbi'!$B$6:$H$318,6,FALSE))","v":""},{"$f":"IF(B876=\"\",\"\",VLOOKUP(B876,'Spisak FSS izložbi'!$B$6:$H$318,5,FALSE))","v":""},null,null,null,null,null,0,0,{"$f":"IF(B876=\"\",1,VLOOKUP(B876,'Spisak FSS izložbi'!$B$6:$H$318,7,FALSE))","v":1},0]
[863,null,{"$f":"IF(B877=\"\",\"\",VLOOKUP(B877,'Spisak FSS izložbi'!$B$6:$H$318,3,FALSE))","v":""},null,{"$f":"IF(B877=\"\",\"\",VLOOKUP(B877,'Spisak FSS izložbi'!$B$6:$H$318,6,FALSE))","v":""},{"$f":"IF(B877=\"\",\"\",VLOOKUP(B877,'Spisak FSS izložbi'!$B$6:$H$318,5,FALSE))","v":""},null,null,null,null,null,0,0,{"$f":"IF(B877=\"\",1,VLOOKUP(B877,'Spisak FSS izložbi'!$B$6:$H$318,7,FALSE))","v":1},0]
[864,null,{"$f":"IF(B878=\"\",\"\",VLOOKUP(B878,'Spisak FSS izložbi'!$B$6:$H$318,3,FALSE))","v":""},null,{"$f":"IF(B878=\"\",\"\",VLOOKUP(B878,'Spisak FSS izložbi'!$B$6:$H$318,6,FALSE))","v":""},{"$f":"IF(B878=\"\",\"\",VLOOKUP(B878,'Spisak FSS izložbi'!$B$6:$H$318,5,FALSE))","v":""},null,null,null,null,null,0,0,{"$f":"IF(B878=\"\",1,VLOOKUP(B878,'Spisak FSS izložbi'!$B$6:$H$318,7,FALSE))","v":1},0]
[865,null,{"$f":"IF(B879=\"\",\"\",VLOOKUP(B879,'Spisak FSS izložbi'!$B$6:$H$318,3,FALSE))","v":""},null,{"$f":"IF(B879=\"\",\"\",VLOOKUP(B879,'Spisak FSS izložbi'!$B$6:$H$318,6,FALSE))","v":""},{"$f":"IF(B879=\"\",\"\",VLOOKUP(B879,'Spisak FSS izložbi'!$B$6:$H$318,5,FALSE))","v":""},null,null,null,null,null,0,0,{"$f":"IF(B879=\"\",1,VLOOKUP(B879,'Spisak FSS izložbi'!$B$6:$H$318,7,FALSE))","v":1},0]
[866,null,{"$f":"IF(B880=\"\",\"\",VLOOKUP(B880,'Spisak FSS izložbi'!$B$6:$H$318,3,FALSE))","v":""},null,{"$f":"IF(B880=\"\",\"\",VLOOKUP(B880,'Spisak FSS izložbi'!$B$6:$H$318,6,FALSE))","v":""},{"$f":"IF(B880=\"\",\"\",VLOOKUP(B880,'Spisak FSS izložbi'!$B$6:$H$318,5,FALSE))","v":""},null,null,null,null,null,0,0,{"$f":"IF(B880=\"\",1,VLOOKUP(B880,'Spisak FSS izložbi'!$B$6:$H$318,7,FALSE))","v":1},0]
[867,null,{"$f":"IF(B881=\"\",\"\",VLOOKUP(B881,'Spisak FSS izložbi'!$B$6:$H$318,3,FALSE))","v":""},null,{"$f":"IF(B881=\"\",\"\",VLOOKUP(B881,'Spisak FSS izložbi'!$B$6:$H$318,6,FALSE))","v":""},{"$f":"IF(B881=\"\",\"\",VLOOKUP(B881,'Spisak FSS izložbi'!$B$6:$H$318,5,FALSE))","v":""},null,null,null,null,null,0,0,{"$f":"IF(B881=\"\",1,VLOOKUP(B881,'Spisak FSS izložbi'!$B$6:$H$318,7,FALSE))","v":1},0]
[868,null,{"$f":"IF(B882=\"\",\"\",VLOOKUP(B882,'Spisak FSS izložbi'!$B$6:$H$318,3,FALSE))","v":""},null,{"$f":"IF(B882=\"\",\"\",VLOOKUP(B882,'Spisak FSS izložbi'!$B$6:$H$318,6,FALSE))","v":""},{"$f":"IF(B882=\"\",\"\",VLOOKUP(B882,'Spisak FSS izložbi'!$B$6:$H$318,5,FALSE))","v":""},null,null,null,null,null,0,0,{"$f":"IF(B882=\"\",1,VLOOKUP(B882,'Spisak FSS izložbi'!$B$6:$H$318,7,FALSE))","v":1},0]
[869,null,{"$f":"IF(B883=\"\",\"\",VLOOKUP(B883,'Spisak FSS izložbi'!$B$6:$H$318,3,FALSE))","v":""},null,{"$f":"IF(B883=\"\",\"\",VLOOKUP(B883,'Spisak FSS izložbi'!$B$6:$H$318,6,FALSE))","v":""},{"$f":"IF(B883=\"\",\"\",VLOOKUP(B883,'Spisak FSS izložbi'!$B$6:$H$318,5,FALSE))","v":""},null,null,null,null,null,0,0,{"$f":"IF(B883=\"\",1,VLOOKUP(B883,'Spisak FSS izložbi'!$B$6:$H$318,7,FALSE))","v":1},0]
[870,null,{"$f":"IF(B884=\"\",\"\",VLOOKUP(B884,'Spisak FSS izložbi'!$B$6:$H$318,3,FALSE))","v":""},null,{"$f":"IF(B884=\"\",\"\",VLOOKUP(B884,'Spisak FSS izložbi'!$B$6:$H$318,6,FALSE))","v":""},{"$f":"IF(B884=\"\",\"\",VLOOKUP(B884,'Spisak FSS izložbi'!$B$6:$H$318,5,FALSE))","v":""},null,null,null,null,null,0,0,{"$f":"IF(B884=\"\",1,VLOOKUP(B884,'Spisak FSS izložbi'!$B$6:$H$318,7,FALSE))","v":1},0]
[871,null,{"$f":"IF(B885=\"\",\"\",VLOOKUP(B885,'Spisak FSS izložbi'!$B$6:$H$318,3,FALSE))","v":""},null,{"$f":"IF(B885=\"\",\"\",VLOOKUP(B885,'Spisak FSS izložbi'!$B$6:$H$318,6,FALSE))","v":""},{"$f":"IF(B885=\"\",\"\",VLOOKUP(B885,'Spisak FSS izložbi'!$B$6:$H$318,5,FALSE))","v":""},null,null,null,null,null,0,0,{"$f":"IF(B885=\"\",1,VLOOKUP(B885,'Spisak FSS izložbi'!$B$6:$H$318,7,FALSE))","v":1},0]
[872,null,{"$f":"IF(B886=\"\",\"\",VLOOKUP(B886,'Spisak FSS izložbi'!$B$6:$H$318,3,FALSE))","v":""},null,{"$f":"IF(B886=\"\",\"\",VLOOKUP(B886,'Spisak FSS izložbi'!$B$6:$H$318,6,FALSE))","v":""},{"$f":"IF(B886=\"\",\"\",VLOOKUP(B886,'Spisak FSS izložbi'!$B$6:$H$318,5,FALSE))","v":""},null,null,null,null,null,0,0,{"$f":"IF(B886=\"\",1,VLOOKUP(B886,'Spisak FSS izložbi'!$B$6:$H$318,7,FALSE))","v":1},0]
[873,null,{"$f":"IF(B887=\"\",\"\",VLOOKUP(B887,'Spisak FSS izložbi'!$B$6:$H$318,3,FALSE))","v":""},null,{"$f":"IF(B887=\"\",\"\",VLOOKUP(B887,'Spisak FSS izložbi'!$B$6:$H$318,6,FALSE))","v":""},{"$f":"IF(B887=\"\",\"\",VLOOKUP(B887,'Spisak FSS izložbi'!$B$6:$H$318,5,FALSE))","v":""},null,null,null,null,null,0,0,{"$f":"IF(B887=\"\",1,VLOOKUP(B887,'Spisak FSS izložbi'!$B$6:$H$318,7,FALSE))","v":1},0]
[874,null,{"$f":"IF(B888=\"\",\"\",VLOOKUP(B888,'Spisak FSS izložbi'!$B$6:$H$318,3,FALSE))","v":""},null,{"$f":"IF(B888=\"\",\"\",VLOOKUP(B888,'Spisak FSS izložbi'!$B$6:$H$318,6,FALSE))","v":""},{"$f":"IF(B888=\"\",\"\",VLOOKUP(B888,'Spisak FSS izložbi'!$B$6:$H$318,5,FALSE))","v":""},null,null,null,null,null,0,0,{"$f":"IF(B888=\"\",1,VLOOKUP(B888,'Spisak FSS izložbi'!$B$6:$H$318,7,FALSE))","v":1},0]
[875,null,{"$f":"IF(B889=\"\",\"\",VLOOKUP(B889,'Spisak FSS izložbi'!$B$6:$H$318,3,FALSE))","v":""},null,{"$f":"IF(B889=\"\",\"\",VLOOKUP(B889,'Spisak FSS izložbi'!$B$6:$H$318,6,FALSE))","v":""},{"$f":"IF(B889=\"\",\"\",VLOOKUP(B889,'Spisak FSS izložbi'!$B$6:$H$318,5,FALSE))","v":""},null,null,null,null,null,0,0,{"$f":"IF(B889=\"\",1,VLOOKUP(B889,'Spisak FSS izložbi'!$B$6:$H$318,7,FALSE))","v":1},0]
[876,null,{"$f":"IF(B890=\"\",\"\",VLOOKUP(B890,'Spisak FSS izložbi'!$B$6:$H$318,3,FALSE))","v":""},null,{"$f":"IF(B890=\"\",\"\",VLOOKUP(B890,'Spisak FSS izložbi'!$B$6:$H$318,6,FALSE))","v":""},{"$f":"IF(B890=\"\",\"\",VLOOKUP(B890,'Spisak FSS izložbi'!$B$6:$H$318,5,FALSE))","v":""},null,null,null,null,null,0,0,{"$f":"IF(B890=\"\",1,VLOOKUP(B890,'Spisak FSS izložbi'!$B$6:$H$318,7,FALSE))","v":1},0]
[877,null,{"$f":"IF(B891=\"\",\"\",VLOOKUP(B891,'Spisak FSS izložbi'!$B$6:$H$318,3,FALSE))","v":""},null,{"$f":"IF(B891=\"\",\"\",VLOOKUP(B891,'Spisak FSS izložbi'!$B$6:$H$318,6,FALSE))","v":""},{"$f":"IF(B891=\"\",\"\",VLOOKUP(B891,'Spisak FSS izložbi'!$B$6:$H$318,5,FALSE))","v":""},null,null,null,null,null,0,0,{"$f":"IF(B891=\"\",1,VLOOKUP(B891,'Spisak FSS izložbi'!$B$6:$H$318,7,FALSE))","v":1},0]
[878,null,{"$f":"IF(B892=\"\",\"\",VLOOKUP(B892,'Spisak FSS izložbi'!$B$6:$H$318,3,FALSE))","v":""},null,{"$f":"IF(B892=\"\",\"\",VLOOKUP(B892,'Spisak FSS izložbi'!$B$6:$H$318,6,FALSE))","v":""},{"$f":"IF(B892=\"\",\"\",VLOOKUP(B892,'Spisak FSS izložbi'!$B$6:$H$318,5,FALSE))","v":""},null,null,null,null,null,0,0,{"$f":"IF(B892=\"\",1,VLOOKUP(B892,'Spisak FSS izložbi'!$B$6:$H$318,7,FALSE))","v":1},0]
[879,null,{"$f":"IF(B893=\"\",\"\",VLOOKUP(B893,'Spisak FSS izložbi'!$B$6:$H$318,3,FALSE))","v":""},null,{"$f":"IF(B893=\"\",\"\",VLOOKUP(B893,'Spisak FSS izložbi'!$B$6:$H$318,6,FALSE))","v":""},{"$f":"IF(B893=\"\",\"\",VLOOKUP(B893,'Spisak FSS izložbi'!$B$6:$H$318,5,FALSE))","v":""},null,null,null,null,null,0,0,{"$f":"IF(B893=\"\",1,VLOOKUP(B893,'Spisak FSS izložbi'!$B$6:$H$318,7,FALSE))","v":1},0]
[880,null,{"$f":"IF(B894=\"\",\"\",VLOOKUP(B894,'Spisak FSS izložbi'!$B$6:$H$318,3,FALSE))","v":""},null,{"$f":"IF(B894=\"\",\"\",VLOOKUP(B894,'Spisak FSS izložbi'!$B$6:$H$318,6,FALSE))","v":""},{"$f":"IF(B894=\"\",\"\",VLOOKUP(B894,'Spisak FSS izložbi'!$B$6:$H$318,5,FALSE))","v":""},null,null,null,null,null,0,0,{"$f":"IF(B894=\"\",1,VLOOKUP(B894,'Spisak FSS izložbi'!$B$6:$H$318,7,FALSE))","v":1},0]
[881,null,{"$f":"IF(B895=\"\",\"\",VLOOKUP(B895,'Spisak FSS izložbi'!$B$6:$H$318,3,FALSE))","v":""},null,{"$f":"IF(B895=\"\",\"\",VLOOKUP(B895,'Spisak FSS izložbi'!$B$6:$H$318,6,FALSE))","v":""},{"$f":"IF(B895=\"\",\"\",VLOOKUP(B895,'Spisak FSS izložbi'!$B$6:$H$318,5,FALSE))","v":""},null,null,null,null,null,0,0,{"$f":"IF(B895=\"\",1,VLOOKUP(B895,'Spisak FSS izložbi'!$B$6:$H$318,7,FALSE))","v":1},0]
[882,null,{"$f":"IF(B896=\"\",\"\",VLOOKUP(B896,'Spisak FSS izložbi'!$B$6:$H$318,3,FALSE))","v":""},null,{"$f":"IF(B896=\"\",\"\",VLOOKUP(B896,'Spisak FSS izložbi'!$B$6:$H$318,6,FALSE))","v":""},{"$f":"IF(B896=\"\",\"\",VLOOKUP(B896,'Spisak FSS izložbi'!$B$6:$H$318,5,FALSE))","v":""},null,null,null,null,null,0,0,{"$f":"IF(B896=\"\",1,VLOOKUP(B896,'Spisak FSS izložbi'!$B$6:$H$318,7,FALSE))","v":1},0]
[883,null,{"$f":"IF(B897=\"\",\"\",VLOOKUP(B897,'Spisak FSS izložbi'!$B$6:$H$318,3,FALSE))","v":""},null,{"$f":"IF(B897=\"\",\"\",VLOOKUP(B897,'Spisak FSS izložbi'!$B$6:$H$318,6,FALSE))","v":""},{"$f":"IF(B897=\"\",\"\",VLOOKUP(B897,'Spisak FSS izložbi'!$B$6:$H$318,5,FALSE))","v":""},null,null,null,null,null,0,0,{"$f":"IF(B897=\"\",1,VLOOKUP(B897,'Spisak FSS izložbi'!$B$6:$H$318,7,FALSE))","v":1},0]
[884,null,{"$f":"IF(B898=\"\",\"\",VLOOKUP(B898,'Spisak FSS izložbi'!$B$6:$H$318,3,FALSE))","v":""},null,{"$f":"IF(B898=\"\",\"\",VLOOKUP(B898,'Spisak FSS izložbi'!$B$6:$H$318,6,FALSE))","v":""},{"$f":"IF(B898=\"\",\"\",VLOOKUP(B898,'Spisak FSS izložbi'!$B$6:$H$318,5,FALSE))","v":""},null,null,null,null,null,0,0,{"$f":"IF(B898=\"\",1,VLOOKUP(B898,'Spisak FSS izložbi'!$B$6:$H$318,7,FALSE))","v":1},0]
[885,null,{"$f":"IF(B899=\"\",\"\",VLOOKUP(B899,'Spisak FSS izložbi'!$B$6:$H$318,3,FALSE))","v":""},null,{"$f":"IF(B899=\"\",\"\",VLOOKUP(B899,'Spisak FSS izložbi'!$B$6:$H$318,6,FALSE))","v":""},{"$f":"IF(B899=\"\",\"\",VLOOKUP(B899,'Spisak FSS izložbi'!$B$6:$H$318,5,FALSE))","v":""},null,null,null,null,null,0,0,{"$f":"IF(B899=\"\",1,VLOOKUP(B899,'Spisak FSS izložbi'!$B$6:$H$318,7,FALSE))","v":1},0]
[886,null,{"$f":"IF(B900=\"\",\"\",VLOOKUP(B900,'Spisak FSS izložbi'!$B$6:$H$318,3,FALSE))","v":""},null,{"$f":"IF(B900=\"\",\"\",VLOOKUP(B900,'Spisak FSS izložbi'!$B$6:$H$318,6,FALSE))","v":""},{"$f":"IF(B900=\"\",\"\",VLOOKUP(B900,'Spisak FSS izložbi'!$B$6:$H$318,5,FALSE))","v":""},null,null,null,null,null,0,0,{"$f":"IF(B900=\"\",1,VLOOKUP(B900,'Spisak FSS izložbi'!$B$6:$H$318,7,FALSE))","v":1},0]
[887,null,{"$f":"IF(B901=\"\",\"\",VLOOKUP(B901,'Spisak FSS izložbi'!$B$6:$H$318,3,FALSE))","v":""},null,{"$f":"IF(B901=\"\",\"\",VLOOKUP(B901,'Spisak FSS izložbi'!$B$6:$H$318,6,FALSE))","v":""},{"$f":"IF(B901=\"\",\"\",VLOOKUP(B901,'Spisak FSS izložbi'!$B$6:$H$318,5,FALSE))","v":""},null,null,null,null,null,0,0,{"$f":"IF(B901=\"\",1,VLOOKUP(B901,'Spisak FSS izložbi'!$B$6:$H$318,7,FALSE))","v":1},0]
[888,null,{"$f":"IF(B902=\"\",\"\",VLOOKUP(B902,'Spisak FSS izložbi'!$B$6:$H$318,3,FALSE))","v":""},null,{"$f":"IF(B902=\"\",\"\",VLOOKUP(B902,'Spisak FSS izložbi'!$B$6:$H$318,6,FALSE))","v":""},{"$f":"IF(B902=\"\",\"\",VLOOKUP(B902,'Spisak FSS izložbi'!$B$6:$H$318,5,FALSE))","v":""},null,null,null,null,null,0,0,{"$f":"IF(B902=\"\",1,VLOOKUP(B902,'Spisak FSS izložbi'!$B$6:$H$318,7,FALSE))","v":1},0]
[889,null,{"$f":"IF(B903=\"\",\"\",VLOOKUP(B903,'Spisak FSS izložbi'!$B$6:$H$318,3,FALSE))","v":""},null,{"$f":"IF(B903=\"\",\"\",VLOOKUP(B903,'Spisak FSS izložbi'!$B$6:$H$318,6,FALSE))","v":""},{"$f":"IF(B903=\"\",\"\",VLOOKUP(B903,'Spisak FSS izložbi'!$B$6:$H$318,5,FALSE))","v":""},null,null,null,null,null,0,0,{"$f":"IF(B903=\"\",1,VLOOKUP(B903,'Spisak FSS izložbi'!$B$6:$H$318,7,FALSE))","v":1},0]
[890,null,{"$f":"IF(B904=\"\",\"\",VLOOKUP(B904,'Spisak FSS izložbi'!$B$6:$H$318,3,FALSE))","v":""},null,{"$f":"IF(B904=\"\",\"\",VLOOKUP(B904,'Spisak FSS izložbi'!$B$6:$H$318,6,FALSE))","v":""},{"$f":"IF(B904=\"\",\"\",VLOOKUP(B904,'Spisak FSS izložbi'!$B$6:$H$318,5,FALSE))","v":""},null,null,null,null,null,0,0,{"$f":"IF(B904=\"\",1,VLOOKUP(B904,'Spisak FSS izložbi'!$B$6:$H$318,7,FALSE))","v":1},0]
[891,null,{"$f":"IF(B905=\"\",\"\",VLOOKUP(B905,'Spisak FSS izložbi'!$B$6:$H$318,3,FALSE))","v":""},null,{"$f":"IF(B905=\"\",\"\",VLOOKUP(B905,'Spisak FSS izložbi'!$B$6:$H$318,6,FALSE))","v":""},{"$f":"IF(B905=\"\",\"\",VLOOKUP(B905,'Spisak FSS izložbi'!$B$6:$H$318,5,FALSE))","v":""},null,null,null,null,null,0,0,{"$f":"IF(B905=\"\",1,VLOOKUP(B905,'Spisak FSS izložbi'!$B$6:$H$318,7,FALSE))","v":1},0]
[892,null,{"$f":"IF(B906=\"\",\"\",VLOOKUP(B906,'Spisak FSS izložbi'!$B$6:$H$318,3,FALSE))","v":""},null,{"$f":"IF(B906=\"\",\"\",VLOOKUP(B906,'Spisak FSS izložbi'!$B$6:$H$318,6,FALSE))","v":""},{"$f":"IF(B906=\"\",\"\",VLOOKUP(B906,'Spisak FSS izložbi'!$B$6:$H$318,5,FALSE))","v":""},null,null,null,null,null,0,0,{"$f":"IF(B906=\"\",1,VLOOKUP(B906,'Spisak FSS izložbi'!$B$6:$H$318,7,FALSE))","v":1},0]
[893,null,{"$f":"IF(B907=\"\",\"\",VLOOKUP(B907,'Spisak FSS izložbi'!$B$6:$H$318,3,FALSE))","v":""},null,{"$f":"IF(B907=\"\",\"\",VLOOKUP(B907,'Spisak FSS izložbi'!$B$6:$H$318,6,FALSE))","v":""},{"$f":"IF(B907=\"\",\"\",VLOOKUP(B907,'Spisak FSS izložbi'!$B$6:$H$318,5,FALSE))","v":""},null,null,null,null,null,0,0,{"$f":"IF(B907=\"\",1,VLOOKUP(B907,'Spisak FSS izložbi'!$B$6:$H$318,7,FALSE))","v":1},0]
[894,null,{"$f":"IF(B908=\"\",\"\",VLOOKUP(B908,'Spisak FSS izložbi'!$B$6:$H$318,3,FALSE))","v":""},null,{"$f":"IF(B908=\"\",\"\",VLOOKUP(B908,'Spisak FSS izložbi'!$B$6:$H$318,6,FALSE))","v":""},{"$f":"IF(B908=\"\",\"\",VLOOKUP(B908,'Spisak FSS izložbi'!$B$6:$H$318,5,FALSE))","v":""},null,null,null,null,null,0,0,{"$f":"IF(B908=\"\",1,VLOOKUP(B908,'Spisak FSS izložbi'!$B$6:$H$318,7,FALSE))","v":1},0]
[895,null,{"$f":"IF(B909=\"\",\"\",VLOOKUP(B909,'Spisak FSS izložbi'!$B$6:$H$318,3,FALSE))","v":""},null,{"$f":"IF(B909=\"\",\"\",VLOOKUP(B909,'Spisak FSS izložbi'!$B$6:$H$318,6,FALSE))","v":""},{"$f":"IF(B909=\"\",\"\",VLOOKUP(B909,'Spisak FSS izložbi'!$B$6:$H$318,5,FALSE))","v":""},null,null,null,null,null,0,0,{"$f":"IF(B909=\"\",1,VLOOKUP(B909,'Spisak FSS izložbi'!$B$6:$H$318,7,FALSE))","v":1},0]
[896,null,{"$f":"IF(B910=\"\",\"\",VLOOKUP(B910,'Spisak FSS izložbi'!$B$6:$H$318,3,FALSE))","v":""},null,{"$f":"IF(B910=\"\",\"\",VLOOKUP(B910,'Spisak FSS izložbi'!$B$6:$H$318,6,FALSE))","v":""},{"$f":"IF(B910=\"\",\"\",VLOOKUP(B910,'Spisak FSS izložbi'!$B$6:$H$318,5,FALSE))","v":""},null,null,null,null,null,0,0,{"$f":"IF(B910=\"\",1,VLOOKUP(B910,'Spisak FSS izložbi'!$B$6:$H$318,7,FALSE))","v":1},0]
[897,null,{"$f":"IF(B911=\"\",\"\",VLOOKUP(B911,'Spisak FSS izložbi'!$B$6:$H$318,3,FALSE))","v":""},null,{"$f":"IF(B911=\"\",\"\",VLOOKUP(B911,'Spisak FSS izložbi'!$B$6:$H$318,6,FALSE))","v":""},{"$f":"IF(B911=\"\",\"\",VLOOKUP(B911,'Spisak FSS izložbi'!$B$6:$H$318,5,FALSE))","v":""},null,null,null,null,null,0,0,{"$f":"IF(B911=\"\",1,VLOOKUP(B911,'Spisak FSS izložbi'!$B$6:$H$318,7,FALSE))","v":1},0]
[898,null,{"$f":"IF(B912=\"\",\"\",VLOOKUP(B912,'Spisak FSS izložbi'!$B$6:$H$318,3,FALSE))","v":""},null,{"$f":"IF(B912=\"\",\"\",VLOOKUP(B912,'Spisak FSS izložbi'!$B$6:$H$318,6,FALSE))","v":""},{"$f":"IF(B912=\"\",\"\",VLOOKUP(B912,'Spisak FSS izložbi'!$B$6:$H$318,5,FALSE))","v":""},null,null,null,null,null,{"$f":"IF(E912=$H$1,$H$6,IF(E912=$I$1,$I$6,IF(E912=$J$1,$J$6,IF(E912=$K$1,$K$6,IF(E912=$L$1,$L$6,IF(E912=$M$1,$M$6,IF(E912=$N$1,$N$6,IF(E912=$O$1,$O$6,0))))))))","v":0},{"$f":"IF(OR(E912=\"\",K912=\"\")=TRUE,0,VLOOKUP(K912,$G$1:$O$7,MATCH(E912,$G$1:$O$1,0),FALSE))","v":0},{"$f":"IF(B912=\"\",1,VLOOKUP(B912,'Spisak FSS izložbi'!$B$6:$H$318,7,FALSE))","v":1},{"$f":"(L912+M912)*N912","v":0}]
[899,null,{"$f":"IF(B913=\"\",\"\",VLOOKUP(B913,'Spisak FSS izložbi'!$B$6:$H$318,3,FALSE))","v":""},null,{"$f":"IF(B913=\"\",\"\",VLOOKUP(B913,'Spisak FSS izložbi'!$B$6:$H$318,6,FALSE))","v":""},{"$f":"IF(B913=\"\",\"\",VLOOKUP(B913,'Spisak FSS izložbi'!$B$6:$H$318,5,FALSE))","v":""},null,null,null,null,null,0,0,{"$f":"IF(B913=\"\",1,VLOOKUP(B913,'Spisak FSS izložbi'!$B$6:$H$318,7,FALSE))","v":1},0]
[900,null,{"$f":"IF(B914=\"\",\"\",VLOOKUP(B914,'Spisak FSS izložbi'!$B$6:$H$318,3,FALSE))","v":""},null,{"$f":"IF(B914=\"\",\"\",VLOOKUP(B914,'Spisak FSS izložbi'!$B$6:$H$318,6,FALSE))","v":""},{"$f":"IF(B914=\"\",\"\",VLOOKUP(B914,'Spisak FSS izložbi'!$B$6:$H$318,5,FALSE))","v":""},null,null,null,null,null,0,0,{"$f":"IF(B914=\"\",1,VLOOKUP(B914,'Spisak FSS izložbi'!$B$6:$H$318,7,FALSE))","v":1},0]
[901,null,{"$f":"IF(B915=\"\",\"\",VLOOKUP(B915,'Spisak FSS izložbi'!$B$6:$H$318,3,FALSE))","v":""},null,{"$f":"IF(B915=\"\",\"\",VLOOKUP(B915,'Spisak FSS izložbi'!$B$6:$H$318,6,FALSE))","v":""},{"$f":"IF(B915=\"\",\"\",VLOOKUP(B915,'Spisak FSS izložbi'!$B$6:$H$318,5,FALSE))","v":""},null,null,null,null,null,0,0,{"$f":"IF(B915=\"\",1,VLOOKUP(B915,'Spisak FSS izložbi'!$B$6:$H$318,7,FALSE))","v":1},0]
[902,null,{"$f":"IF(B916=\"\",\"\",VLOOKUP(B916,'Spisak FSS izložbi'!$B$6:$H$318,3,FALSE))","v":""},null,{"$f":"IF(B916=\"\",\"\",VLOOKUP(B916,'Spisak FSS izložbi'!$B$6:$H$318,6,FALSE))","v":""},{"$f":"IF(B916=\"\",\"\",VLOOKUP(B916,'Spisak FSS izložbi'!$B$6:$H$318,5,FALSE))","v":""},null,null,null,null,null,0,0,{"$f":"IF(B916=\"\",1,VLOOKUP(B916,'Spisak FSS izložbi'!$B$6:$H$318,7,FALSE))","v":1},0]
[903,null,{"$f":"IF(B917=\"\",\"\",VLOOKUP(B917,'Spisak FSS izložbi'!$B$6:$H$318,3,FALSE))","v":""},null,{"$f":"IF(B917=\"\",\"\",VLOOKUP(B917,'Spisak FSS izložbi'!$B$6:$H$318,6,FALSE))","v":""},{"$f":"IF(B917=\"\",\"\",VLOOKUP(B917,'Spisak FSS izložbi'!$B$6:$H$318,5,FALSE))","v":""},null,null,null,null,null,0,0,{"$f":"IF(B917=\"\",1,VLOOKUP(B917,'Spisak FSS izložbi'!$B$6:$H$318,7,FALSE))","v":1},0]
[904,null,{"$f":"IF(B918=\"\",\"\",VLOOKUP(B918,'Spisak FSS izložbi'!$B$6:$H$318,3,FALSE))","v":""},null,{"$f":"IF(B918=\"\",\"\",VLOOKUP(B918,'Spisak FSS izložbi'!$B$6:$H$318,6,FALSE))","v":""},{"$f":"IF(B918=\"\",\"\",VLOOKUP(B918,'Spisak FSS izložbi'!$B$6:$H$318,5,FALSE))","v":""},null,null,null,null,null,0,0,{"$f":"IF(B918=\"\",1,VLOOKUP(B918,'Spisak FSS izložbi'!$B$6:$H$318,7,FALSE))","v":1},0]
[905,null,{"$f":"IF(B919=\"\",\"\",VLOOKUP(B919,'Spisak FSS izložbi'!$B$6:$H$318,3,FALSE))","v":""},null,{"$f":"IF(B919=\"\",\"\",VLOOKUP(B919,'Spisak FSS izložbi'!$B$6:$H$318,6,FALSE))","v":""},{"$f":"IF(B919=\"\",\"\",VLOOKUP(B919,'Spisak FSS izložbi'!$B$6:$H$318,5,FALSE))","v":""},null,null,null,null,null,0,0,{"$f":"IF(B919=\"\",1,VLOOKUP(B919,'Spisak FSS izložbi'!$B$6:$H$318,7,FALSE))","v":1},0]
[906,null,{"$f":"IF(B920=\"\",\"\",VLOOKUP(B920,'Spisak FSS izložbi'!$B$6:$H$318,3,FALSE))","v":""},null,{"$f":"IF(B920=\"\",\"\",VLOOKUP(B920,'Spisak FSS izložbi'!$B$6:$H$318,6,FALSE))","v":""},{"$f":"IF(B920=\"\",\"\",VLOOKUP(B920,'Spisak FSS izložbi'!$B$6:$H$318,5,FALSE))","v":""},null,null,null,null,null,0,0,{"$f":"IF(B920=\"\",1,VLOOKUP(B920,'Spisak FSS izložbi'!$B$6:$H$318,7,FALSE))","v":1},0]
[907,null,{"$f":"IF(B921=\"\",\"\",VLOOKUP(B921,'Spisak FSS izložbi'!$B$6:$H$318,3,FALSE))","v":""},null,{"$f":"IF(B921=\"\",\"\",VLOOKUP(B921,'Spisak FSS izložbi'!$B$6:$H$318,6,FALSE))","v":""},{"$f":"IF(B921=\"\",\"\",VLOOKUP(B921,'Spisak FSS izložbi'!$B$6:$H$318,5,FALSE))","v":""},null,null,null,null,null,0,0,{"$f":"IF(B921=\"\",1,VLOOKUP(B921,'Spisak FSS izložbi'!$B$6:$H$318,7,FALSE))","v":1},0]
[908,null,{"$f":"IF(B922=\"\",\"\",VLOOKUP(B922,'Spisak FSS izložbi'!$B$6:$H$318,3,FALSE))","v":""},null,{"$f":"IF(B922=\"\",\"\",VLOOKUP(B922,'Spisak FSS izložbi'!$B$6:$H$318,6,FALSE))","v":""},{"$f":"IF(B922=\"\",\"\",VLOOKUP(B922,'Spisak FSS izložbi'!$B$6:$H$318,5,FALSE))","v":""},null,null,null,null,null,0,0,{"$f":"IF(B922=\"\",1,VLOOKUP(B922,'Spisak FSS izložbi'!$B$6:$H$318,7,FALSE))","v":1},0]
[909,null,{"$f":"IF(B923=\"\",\"\",VLOOKUP(B923,'Spisak FSS izložbi'!$B$6:$H$318,3,FALSE))","v":""},null,{"$f":"IF(B923=\"\",\"\",VLOOKUP(B923,'Spisak FSS izložbi'!$B$6:$H$318,6,FALSE))","v":""},{"$f":"IF(B923=\"\",\"\",VLOOKUP(B923,'Spisak FSS izložbi'!$B$6:$H$318,5,FALSE))","v":""},null,null,null,null,null,0,0,{"$f":"IF(B923=\"\",1,VLOOKUP(B923,'Spisak FSS izložbi'!$B$6:$H$318,7,FALSE))","v":1},0]
[910,null,{"$f":"IF(B924=\"\",\"\",VLOOKUP(B924,'Spisak FSS izložbi'!$B$6:$H$318,3,FALSE))","v":""},null,{"$f":"IF(B924=\"\",\"\",VLOOKUP(B924,'Spisak FSS izložbi'!$B$6:$H$318,6,FALSE))","v":""},{"$f":"IF(B924=\"\",\"\",VLOOKUP(B924,'Spisak FSS izložbi'!$B$6:$H$318,5,FALSE))","v":""},null,null,null,null,null,0,0,{"$f":"IF(B924=\"\",1,VLOOKUP(B924,'Spisak FSS izložbi'!$B$6:$H$318,7,FALSE))","v":1},0]
[911,null,{"$f":"IF(B925=\"\",\"\",VLOOKUP(B925,'Spisak FSS izložbi'!$B$6:$H$318,3,FALSE))","v":""},null,{"$f":"IF(B925=\"\",\"\",VLOOKUP(B925,'Spisak FSS izložbi'!$B$6:$H$318,6,FALSE))","v":""},{"$f":"IF(B925=\"\",\"\",VLOOKUP(B925,'Spisak FSS izložbi'!$B$6:$H$318,5,FALSE))","v":""},null,null,null,null,null,0,0,{"$f":"IF(B925=\"\",1,VLOOKUP(B925,'Spisak FSS izložbi'!$B$6:$H$318,7,FALSE))","v":1},0]
[912,null,{"$f":"IF(B926=\"\",\"\",VLOOKUP(B926,'Spisak FSS izložbi'!$B$6:$H$318,3,FALSE))","v":""},null,{"$f":"IF(B926=\"\",\"\",VLOOKUP(B926,'Spisak FSS izložbi'!$B$6:$H$318,6,FALSE))","v":""},{"$f":"IF(B926=\"\",\"\",VLOOKUP(B926,'Spisak FSS izložbi'!$B$6:$H$318,5,FALSE))","v":""},null,null,null,null,null,0,0,{"$f":"IF(B926=\"\",1,VLOOKUP(B926,'Spisak FSS izložbi'!$B$6:$H$318,7,FALSE))","v":1},0]
[913,null,{"$f":"IF(B927=\"\",\"\",VLOOKUP(B927,'Spisak FSS izložbi'!$B$6:$H$318,3,FALSE))","v":""},null,{"$f":"IF(B927=\"\",\"\",VLOOKUP(B927,'Spisak FSS izložbi'!$B$6:$H$318,6,FALSE))","v":""},{"$f":"IF(B927=\"\",\"\",VLOOKUP(B927,'Spisak FSS izložbi'!$B$6:$H$318,5,FALSE))","v":""},null,null,null,null,null,0,0,{"$f":"IF(B927=\"\",1,VLOOKUP(B927,'Spisak FSS izložbi'!$B$6:$H$318,7,FALSE))","v":1},0]
[914,null,{"$f":"IF(B928=\"\",\"\",VLOOKUP(B928,'Spisak FSS izložbi'!$B$6:$H$318,3,FALSE))","v":""},null,{"$f":"IF(B928=\"\",\"\",VLOOKUP(B928,'Spisak FSS izložbi'!$B$6:$H$318,6,FALSE))","v":""},{"$f":"IF(B928=\"\",\"\",VLOOKUP(B928,'Spisak FSS izložbi'!$B$6:$H$318,5,FALSE))","v":""},null,null,null,null,null,0,0,{"$f":"IF(B928=\"\",1,VLOOKUP(B928,'Spisak FSS izložbi'!$B$6:$H$318,7,FALSE))","v":1},0]
[915,null,{"$f":"IF(B929=\"\",\"\",VLOOKUP(B929,'Spisak FSS izložbi'!$B$6:$H$318,3,FALSE))","v":""},null,{"$f":"IF(B929=\"\",\"\",VLOOKUP(B929,'Spisak FSS izložbi'!$B$6:$H$318,6,FALSE))","v":""},{"$f":"IF(B929=\"\",\"\",VLOOKUP(B929,'Spisak FSS izložbi'!$B$6:$H$318,5,FALSE))","v":""},null,null,null,null,null,0,0,{"$f":"IF(B929=\"\",1,VLOOKUP(B929,'Spisak FSS izložbi'!$B$6:$H$318,7,FALSE))","v":1},0]
[916,null,{"$f":"IF(B930=\"\",\"\",VLOOKUP(B930,'Spisak FSS izložbi'!$B$6:$H$318,3,FALSE))","v":""},null,{"$f":"IF(B930=\"\",\"\",VLOOKUP(B930,'Spisak FSS izložbi'!$B$6:$H$318,6,FALSE))","v":""},{"$f":"IF(B930=\"\",\"\",VLOOKUP(B930,'Spisak FSS izložbi'!$B$6:$H$318,5,FALSE))","v":""},null,null,null,null,null,0,0,{"$f":"IF(B930=\"\",1,VLOOKUP(B930,'Spisak FSS izložbi'!$B$6:$H$318,7,FALSE))","v":1},0]
[917,null,{"$f":"IF(B931=\"\",\"\",VLOOKUP(B931,'Spisak FSS izložbi'!$B$6:$H$318,3,FALSE))","v":""},null,{"$f":"IF(B931=\"\",\"\",VLOOKUP(B931,'Spisak FSS izložbi'!$B$6:$H$318,6,FALSE))","v":""},{"$f":"IF(B931=\"\",\"\",VLOOKUP(B931,'Spisak FSS izložbi'!$B$6:$H$318,5,FALSE))","v":""},null,null,null,null,null,0,0,{"$f":"IF(B931=\"\",1,VLOOKUP(B931,'Spisak FSS izložbi'!$B$6:$H$318,7,FALSE))","v":1},0]
[918,null,{"$f":"IF(B932=\"\",\"\",VLOOKUP(B932,'Spisak FSS izložbi'!$B$6:$H$318,3,FALSE))","v":""},null,{"$f":"IF(B932=\"\",\"\",VLOOKUP(B932,'Spisak FSS izložbi'!$B$6:$H$318,6,FALSE))","v":""},{"$f":"IF(B932=\"\",\"\",VLOOKUP(B932,'Spisak FSS izložbi'!$B$6:$H$318,5,FALSE))","v":""},null,null,null,null,null,0,0,{"$f":"IF(B932=\"\",1,VLOOKUP(B932,'Spisak FSS izložbi'!$B$6:$H$318,7,FALSE))","v":1},0]
[919,null,{"$f":"IF(B933=\"\",\"\",VLOOKUP(B933,'Spisak FSS izložbi'!$B$6:$H$318,3,FALSE))","v":""},null,{"$f":"IF(B933=\"\",\"\",VLOOKUP(B933,'Spisak FSS izložbi'!$B$6:$H$318,6,FALSE))","v":""},{"$f":"IF(B933=\"\",\"\",VLOOKUP(B933,'Spisak FSS izložbi'!$B$6:$H$318,5,FALSE))","v":""},null,null,null,null,null,0,0,{"$f":"IF(B933=\"\",1,VLOOKUP(B933,'Spisak FSS izložbi'!$B$6:$H$318,7,FALSE))","v":1},0]
[920,null,{"$f":"IF(B934=\"\",\"\",VLOOKUP(B934,'Spisak FSS izložbi'!$B$6:$H$318,3,FALSE))","v":""},null,{"$f":"IF(B934=\"\",\"\",VLOOKUP(B934,'Spisak FSS izložbi'!$B$6:$H$318,6,FALSE))","v":""},{"$f":"IF(B934=\"\",\"\",VLOOKUP(B934,'Spisak FSS izložbi'!$B$6:$H$318,5,FALSE))","v":""},null,null,null,null,null,0,0,{"$f":"IF(B934=\"\",1,VLOOKUP(B934,'Spisak FSS izložbi'!$B$6:$H$318,7,FALSE))","v":1},0]
[921,null,{"$f":"IF(B935=\"\",\"\",VLOOKUP(B935,'Spisak FSS izložbi'!$B$6:$H$318,3,FALSE))","v":""},null,{"$f":"IF(B935=\"\",\"\",VLOOKUP(B935,'Spisak FSS izložbi'!$B$6:$H$318,6,FALSE))","v":""},{"$f":"IF(B935=\"\",\"\",VLOOKUP(B935,'Spisak FSS izložbi'!$B$6:$H$318,5,FALSE))","v":""},null,null,null,null,null,0,0,{"$f":"IF(B935=\"\",1,VLOOKUP(B935,'Spisak FSS izložbi'!$B$6:$H$318,7,FALSE))","v":1},0]
[922,null,{"$f":"IF(B936=\"\",\"\",VLOOKUP(B936,'Spisak FSS izložbi'!$B$6:$H$318,3,FALSE))","v":""},null,{"$f":"IF(B936=\"\",\"\",VLOOKUP(B936,'Spisak FSS izložbi'!$B$6:$H$318,6,FALSE))","v":""},{"$f":"IF(B936=\"\",\"\",VLOOKUP(B936,'Spisak FSS izložbi'!$B$6:$H$318,5,FALSE))","v":""},null,null,null,null,null,0,0,{"$f":"IF(B936=\"\",1,VLOOKUP(B936,'Spisak FSS izložbi'!$B$6:$H$318,7,FALSE))","v":1},0]
[923,null,{"$f":"IF(B937=\"\",\"\",VLOOKUP(B937,'Spisak FSS izložbi'!$B$6:$H$318,3,FALSE))","v":""},null,{"$f":"IF(B937=\"\",\"\",VLOOKUP(B937,'Spisak FSS izložbi'!$B$6:$H$318,6,FALSE))","v":""},{"$f":"IF(B937=\"\",\"\",VLOOKUP(B937,'Spisak FSS izložbi'!$B$6:$H$318,5,FALSE))","v":""},null,null,null,null,null,0,0,{"$f":"IF(B937=\"\",1,VLOOKUP(B937,'Spisak FSS izložbi'!$B$6:$H$318,7,FALSE))","v":1},0]
[924,null,{"$f":"IF(B938=\"\",\"\",VLOOKUP(B938,'Spisak FSS izložbi'!$B$6:$H$318,3,FALSE))","v":""},null,{"$f":"IF(B938=\"\",\"\",VLOOKUP(B938,'Spisak FSS izložbi'!$B$6:$H$318,6,FALSE))","v":""},{"$f":"IF(B938=\"\",\"\",VLOOKUP(B938,'Spisak FSS izložbi'!$B$6:$H$318,5,FALSE))","v":""},null,null,null,null,null,0,0,{"$f":"IF(B938=\"\",1,VLOOKUP(B938,'Spisak FSS izložbi'!$B$6:$H$318,7,FALSE))","v":1},0]
[925,null,{"$f":"IF(B939=\"\",\"\",VLOOKUP(B939,'Spisak FSS izložbi'!$B$6:$H$318,3,FALSE))","v":""},null,{"$f":"IF(B939=\"\",\"\",VLOOKUP(B939,'Spisak FSS izložbi'!$B$6:$H$318,6,FALSE))","v":""},{"$f":"IF(B939=\"\",\"\",VLOOKUP(B939,'Spisak FSS izložbi'!$B$6:$H$318,5,FALSE))","v":""},null,null,null,null,null,0,0,{"$f":"IF(B939=\"\",1,VLOOKUP(B939,'Spisak FSS izložbi'!$B$6:$H$318,7,FALSE))","v":1},0]
[926,null,{"$f":"IF(B940=\"\",\"\",VLOOKUP(B940,'Spisak FSS izložbi'!$B$6:$H$318,3,FALSE))","v":""},null,{"$f":"IF(B940=\"\",\"\",VLOOKUP(B940,'Spisak FSS izložbi'!$B$6:$H$318,6,FALSE))","v":""},{"$f":"IF(B940=\"\",\"\",VLOOKUP(B940,'Spisak FSS izložbi'!$B$6:$H$318,5,FALSE))","v":""},null,null,null,null,null,0,0,{"$f":"IF(B940=\"\",1,VLOOKUP(B940,'Spisak FSS izložbi'!$B$6:$H$318,7,FALSE))","v":1},0]
[927,null,{"$f":"IF(B941=\"\",\"\",VLOOKUP(B941,'Spisak FSS izložbi'!$B$6:$H$318,3,FALSE))","v":""},null,{"$f":"IF(B941=\"\",\"\",VLOOKUP(B941,'Spisak FSS izložbi'!$B$6:$H$318,6,FALSE))","v":""},{"$f":"IF(B941=\"\",\"\",VLOOKUP(B941,'Spisak FSS izložbi'!$B$6:$H$318,5,FALSE))","v":""},null,null,null,null,null,0,0,{"$f":"IF(B941=\"\",1,VLOOKUP(B941,'Spisak FSS izložbi'!$B$6:$H$318,7,FALSE))","v":1},0]
[928,null,{"$f":"IF(B942=\"\",\"\",VLOOKUP(B942,'Spisak FSS izložbi'!$B$6:$H$318,3,FALSE))","v":""},null,{"$f":"IF(B942=\"\",\"\",VLOOKUP(B942,'Spisak FSS izložbi'!$B$6:$H$318,6,FALSE))","v":""},{"$f":"IF(B942=\"\",\"\",VLOOKUP(B942,'Spisak FSS izložbi'!$B$6:$H$318,5,FALSE))","v":""},null,null,null,null,null,0,0,{"$f":"IF(B942=\"\",1,VLOOKUP(B942,'Spisak FSS izložbi'!$B$6:$H$318,7,FALSE))","v":1},0]
[929,null,{"$f":"IF(B943=\"\",\"\",VLOOKUP(B943,'Spisak FSS izložbi'!$B$6:$H$318,3,FALSE))","v":""},null,{"$f":"IF(B943=\"\",\"\",VLOOKUP(B943,'Spisak FSS izložbi'!$B$6:$H$318,6,FALSE))","v":""},{"$f":"IF(B943=\"\",\"\",VLOOKUP(B943,'Spisak FSS izložbi'!$B$6:$H$318,5,FALSE))","v":""},null,null,null,null,null,0,0,{"$f":"IF(B943=\"\",1,VLOOKUP(B943,'Spisak FSS izložbi'!$B$6:$H$318,7,FALSE))","v":1},0]
[930,null,{"$f":"IF(B944=\"\",\"\",VLOOKUP(B944,'Spisak FSS izložbi'!$B$6:$H$318,3,FALSE))","v":""},null,{"$f":"IF(B944=\"\",\"\",VLOOKUP(B944,'Spisak FSS izložbi'!$B$6:$H$318,6,FALSE))","v":""},{"$f":"IF(B944=\"\",\"\",VLOOKUP(B944,'Spisak FSS izložbi'!$B$6:$H$318,5,FALSE))","v":""},null,null,null,null,null,0,0,{"$f":"IF(B944=\"\",1,VLOOKUP(B944,'Spisak FSS izložbi'!$B$6:$H$318,7,FALSE))","v":1},0]
[931,null,{"$f":"IF(B945=\"\",\"\",VLOOKUP(B945,'Spisak FSS izložbi'!$B$6:$H$318,3,FALSE))","v":""},null,{"$f":"IF(B945=\"\",\"\",VLOOKUP(B945,'Spisak FSS izložbi'!$B$6:$H$318,6,FALSE))","v":""},{"$f":"IF(B945=\"\",\"\",VLOOKUP(B945,'Spisak FSS izložbi'!$B$6:$H$318,5,FALSE))","v":""},null,null,null,null,null,0,0,{"$f":"IF(B945=\"\",1,VLOOKUP(B945,'Spisak FSS izložbi'!$B$6:$H$318,7,FALSE))","v":1},0]
[932,null,{"$f":"IF(B946=\"\",\"\",VLOOKUP(B946,'Spisak FSS izložbi'!$B$6:$H$318,3,FALSE))","v":""},null,{"$f":"IF(B946=\"\",\"\",VLOOKUP(B946,'Spisak FSS izložbi'!$B$6:$H$318,6,FALSE))","v":""},{"$f":"IF(B946=\"\",\"\",VLOOKUP(B946,'Spisak FSS izložbi'!$B$6:$H$318,5,FALSE))","v":""},null,null,null,null,null,0,0,{"$f":"IF(B946=\"\",1,VLOOKUP(B946,'Spisak FSS izložbi'!$B$6:$H$318,7,FALSE))","v":1},0]
[933,null,{"$f":"IF(B947=\"\",\"\",VLOOKUP(B947,'Spisak FSS izložbi'!$B$6:$H$318,3,FALSE))","v":""},null,{"$f":"IF(B947=\"\",\"\",VLOOKUP(B947,'Spisak FSS izložbi'!$B$6:$H$318,6,FALSE))","v":""},{"$f":"IF(B947=\"\",\"\",VLOOKUP(B947,'Spisak FSS izložbi'!$B$6:$H$318,5,FALSE))","v":""},null,null,null,null,null,0,0,{"$f":"IF(B947=\"\",1,VLOOKUP(B947,'Spisak FSS izložbi'!$B$6:$H$318,7,FALSE))","v":1},0]
[934,null,{"$f":"IF(B948=\"\",\"\",VLOOKUP(B948,'Spisak FSS izložbi'!$B$6:$H$318,3,FALSE))","v":""},null,{"$f":"IF(B948=\"\",\"\",VLOOKUP(B948,'Spisak FSS izložbi'!$B$6:$H$318,6,FALSE))","v":""},{"$f":"IF(B948=\"\",\"\",VLOOKUP(B948,'Spisak FSS izložbi'!$B$6:$H$318,5,FALSE))","v":""},null,null,null,null,null,0,0,{"$f":"IF(B948=\"\",1,VLOOKUP(B948,'Spisak FSS izložbi'!$B$6:$H$318,7,FALSE))","v":1},0]
[935,null,{"$f":"IF(B949=\"\",\"\",VLOOKUP(B949,'Spisak FSS izložbi'!$B$6:$H$318,3,FALSE))","v":""},null,{"$f":"IF(B949=\"\",\"\",VLOOKUP(B949,'Spisak FSS izložbi'!$B$6:$H$318,6,FALSE))","v":""},{"$f":"IF(B949=\"\",\"\",VLOOKUP(B949,'Spisak FSS izložbi'!$B$6:$H$318,5,FALSE))","v":""},null,null,null,null,null,0,0,{"$f":"IF(B949=\"\",1,VLOOKUP(B949,'Spisak FSS izložbi'!$B$6:$H$318,7,FALSE))","v":1},0]
[936,null,{"$f":"IF(B950=\"\",\"\",VLOOKUP(B950,'Spisak FSS izložbi'!$B$6:$H$318,3,FALSE))","v":""},null,{"$f":"IF(B950=\"\",\"\",VLOOKUP(B950,'Spisak FSS izložbi'!$B$6:$H$318,6,FALSE))","v":""},{"$f":"IF(B950=\"\",\"\",VLOOKUP(B950,'Spisak FSS izložbi'!$B$6:$H$318,5,FALSE))","v":""},null,null,null,null,null,0,0,{"$f":"IF(B950=\"\",1,VLOOKUP(B950,'Spisak FSS izložbi'!$B$6:$H$318,7,FALSE))","v":1},0]
[937,null,{"$f":"IF(B951=\"\",\"\",VLOOKUP(B951,'Spisak FSS izložbi'!$B$6:$H$318,3,FALSE))","v":""},null,{"$f":"IF(B951=\"\",\"\",VLOOKUP(B951,'Spisak FSS izložbi'!$B$6:$H$318,6,FALSE))","v":""},{"$f":"IF(B951=\"\",\"\",VLOOKUP(B951,'Spisak FSS izložbi'!$B$6:$H$318,5,FALSE))","v":""},null,null,null,null,null,0,0,{"$f":"IF(B951=\"\",1,VLOOKUP(B951,'Spisak FSS izložbi'!$B$6:$H$318,7,FALSE))","v":1},0]
[938,null,{"$f":"IF(B952=\"\",\"\",VLOOKUP(B952,'Spisak FSS izložbi'!$B$6:$H$318,3,FALSE))","v":""},null,{"$f":"IF(B952=\"\",\"\",VLOOKUP(B952,'Spisak FSS izložbi'!$B$6:$H$318,6,FALSE))","v":""},{"$f":"IF(B952=\"\",\"\",VLOOKUP(B952,'Spisak FSS izložbi'!$B$6:$H$318,5,FALSE))","v":""},null,null,null,null,null,0,0,{"$f":"IF(B952=\"\",1,VLOOKUP(B952,'Spisak FSS izložbi'!$B$6:$H$318,7,FALSE))","v":1},0]
[939,null,{"$f":"IF(B953=\"\",\"\",VLOOKUP(B953,'Spisak FSS izložbi'!$B$6:$H$318,3,FALSE))","v":""},null,{"$f":"IF(B953=\"\",\"\",VLOOKUP(B953,'Spisak FSS izložbi'!$B$6:$H$318,6,FALSE))","v":""},{"$f":"IF(B953=\"\",\"\",VLOOKUP(B953,'Spisak FSS izložbi'!$B$6:$H$318,5,FALSE))","v":""},null,null,null,null,null,0,0,{"$f":"IF(B953=\"\",1,VLOOKUP(B953,'Spisak FSS izložbi'!$B$6:$H$318,7,FALSE))","v":1},0]
[940,null,{"$f":"IF(B954=\"\",\"\",VLOOKUP(B954,'Spisak FSS izložbi'!$B$6:$H$318,3,FALSE))","v":""},null,{"$f":"IF(B954=\"\",\"\",VLOOKUP(B954,'Spisak FSS izložbi'!$B$6:$H$318,6,FALSE))","v":""},{"$f":"IF(B954=\"\",\"\",VLOOKUP(B954,'Spisak FSS izložbi'!$B$6:$H$318,5,FALSE))","v":""},null,null,null,null,null,0,0,{"$f":"IF(B954=\"\",1,VLOOKUP(B954,'Spisak FSS izložbi'!$B$6:$H$318,7,FALSE))","v":1},0]
[941,null,{"$f":"IF(B955=\"\",\"\",VLOOKUP(B955,'Spisak FSS izložbi'!$B$6:$H$318,3,FALSE))","v":""},null,{"$f":"IF(B955=\"\",\"\",VLOOKUP(B955,'Spisak FSS izložbi'!$B$6:$H$318,6,FALSE))","v":""},{"$f":"IF(B955=\"\",\"\",VLOOKUP(B955,'Spisak FSS izložbi'!$B$6:$H$318,5,FALSE))","v":""},null,null,null,null,null,0,0,{"$f":"IF(B955=\"\",1,VLOOKUP(B955,'Spisak FSS izložbi'!$B$6:$H$318,7,FALSE))","v":1},0]
[942,null,{"$f":"IF(B956=\"\",\"\",VLOOKUP(B956,'Spisak FSS izložbi'!$B$6:$H$318,3,FALSE))","v":""},null,{"$f":"IF(B956=\"\",\"\",VLOOKUP(B956,'Spisak FSS izložbi'!$B$6:$H$318,6,FALSE))","v":""},{"$f":"IF(B956=\"\",\"\",VLOOKUP(B956,'Spisak FSS izložbi'!$B$6:$H$318,5,FALSE))","v":""},null,null,null,null,null,0,0,{"$f":"IF(B956=\"\",1,VLOOKUP(B956,'Spisak FSS izložbi'!$B$6:$H$318,7,FALSE))","v":1},0]
[943,null,{"$f":"IF(B957=\"\",\"\",VLOOKUP(B957,'Spisak FSS izložbi'!$B$6:$H$318,3,FALSE))","v":""},null,{"$f":"IF(B957=\"\",\"\",VLOOKUP(B957,'Spisak FSS izložbi'!$B$6:$H$318,6,FALSE))","v":""},{"$f":"IF(B957=\"\",\"\",VLOOKUP(B957,'Spisak FSS izložbi'!$B$6:$H$318,5,FALSE))","v":""},null,null,null,null,null,0,0,{"$f":"IF(B957=\"\",1,VLOOKUP(B957,'Spisak FSS izložbi'!$B$6:$H$318,7,FALSE))","v":1},0]
[944,null,{"$f":"IF(B958=\"\",\"\",VLOOKUP(B958,'Spisak FSS izložbi'!$B$6:$H$318,3,FALSE))","v":""},null,{"$f":"IF(B958=\"\",\"\",VLOOKUP(B958,'Spisak FSS izložbi'!$B$6:$H$318,6,FALSE))","v":""},{"$f":"IF(B958=\"\",\"\",VLOOKUP(B958,'Spisak FSS izložbi'!$B$6:$H$318,5,FALSE))","v":""},null,null,null,null,null,0,0,{"$f":"IF(B958=\"\",1,VLOOKUP(B958,'Spisak FSS izložbi'!$B$6:$H$318,7,FALSE))","v":1},0]
[945,null,{"$f":"IF(B959=\"\",\"\",VLOOKUP(B959,'Spisak FSS izložbi'!$B$6:$H$318,3,FALSE))","v":""},null,{"$f":"IF(B959=\"\",\"\",VLOOKUP(B959,'Spisak FSS izložbi'!$B$6:$H$318,6,FALSE))","v":""},{"$f":"IF(B959=\"\",\"\",VLOOKUP(B959,'Spisak FSS izložbi'!$B$6:$H$318,5,FALSE))","v":""},null,null,null,null,null,0,0,{"$f":"IF(B959=\"\",1,VLOOKUP(B959,'Spisak FSS izložbi'!$B$6:$H$318,7,FALSE))","v":1},0]
[946,null,{"$f":"IF(B960=\"\",\"\",VLOOKUP(B960,'Spisak FSS izložbi'!$B$6:$H$318,3,FALSE))","v":""},null,{"$f":"IF(B960=\"\",\"\",VLOOKUP(B960,'Spisak FSS izložbi'!$B$6:$H$318,6,FALSE))","v":""},{"$f":"IF(B960=\"\",\"\",VLOOKUP(B960,'Spisak FSS izložbi'!$B$6:$H$318,5,FALSE))","v":""},null,null,null,null,null,0,0,{"$f":"IF(B960=\"\",1,VLOOKUP(B960,'Spisak FSS izložbi'!$B$6:$H$318,7,FALSE))","v":1},0]
[947,null,{"$f":"IF(B961=\"\",\"\",VLOOKUP(B961,'Spisak FSS izložbi'!$B$6:$H$318,3,FALSE))","v":""},null,{"$f":"IF(B961=\"\",\"\",VLOOKUP(B961,'Spisak FSS izložbi'!$B$6:$H$318,6,FALSE))","v":""},{"$f":"IF(B961=\"\",\"\",VLOOKUP(B961,'Spisak FSS izložbi'!$B$6:$H$318,5,FALSE))","v":""},null,null,null,null,null,0,0,{"$f":"IF(B961=\"\",1,VLOOKUP(B961,'Spisak FSS izložbi'!$B$6:$H$318,7,FALSE))","v":1},0]
[948,null,{"$f":"IF(B962=\"\",\"\",VLOOKUP(B962,'Spisak FSS izložbi'!$B$6:$H$318,3,FALSE))","v":""},null,{"$f":"IF(B962=\"\",\"\",VLOOKUP(B962,'Spisak FSS izložbi'!$B$6:$H$318,6,FALSE))","v":""},{"$f":"IF(B962=\"\",\"\",VLOOKUP(B962,'Spisak FSS izložbi'!$B$6:$H$318,5,FALSE))","v":""},null,null,null,null,null,0,0,{"$f":"IF(B962=\"\",1,VLOOKUP(B962,'Spisak FSS izložbi'!$B$6:$H$318,7,FALSE))","v":1},0]
[949,null,{"$f":"IF(B963=\"\",\"\",VLOOKUP(B963,'Spisak FSS izložbi'!$B$6:$H$318,3,FALSE))","v":""},null,{"$f":"IF(B963=\"\",\"\",VLOOKUP(B963,'Spisak FSS izložbi'!$B$6:$H$318,6,FALSE))","v":""},{"$f":"IF(B963=\"\",\"\",VLOOKUP(B963,'Spisak FSS izložbi'!$B$6:$H$318,5,FALSE))","v":""},null,null,null,null,null,0,0,{"$f":"IF(B963=\"\",1,VLOOKUP(B963,'Spisak FSS izložbi'!$B$6:$H$318,7,FALSE))","v":1},0]
[950,null,{"$f":"IF(B964=\"\",\"\",VLOOKUP(B964,'Spisak FSS izložbi'!$B$6:$H$318,3,FALSE))","v":""},null,{"$f":"IF(B964=\"\",\"\",VLOOKUP(B964,'Spisak FSS izložbi'!$B$6:$H$318,6,FALSE))","v":""},{"$f":"IF(B964=\"\",\"\",VLOOKUP(B964,'Spisak FSS izložbi'!$B$6:$H$318,5,FALSE))","v":""},null,null,null,null,null,0,0,{"$f":"IF(B964=\"\",1,VLOOKUP(B964,'Spisak FSS izložbi'!$B$6:$H$318,7,FALSE))","v":1},0]
[951,null,{"$f":"IF(B965=\"\",\"\",VLOOKUP(B965,'Spisak FSS izložbi'!$B$6:$H$318,3,FALSE))","v":""},null,{"$f":"IF(B965=\"\",\"\",VLOOKUP(B965,'Spisak FSS izložbi'!$B$6:$H$318,6,FALSE))","v":""},{"$f":"IF(B965=\"\",\"\",VLOOKUP(B965,'Spisak FSS izložbi'!$B$6:$H$318,5,FALSE))","v":""},null,null,null,null,null,0,0,{"$f":"IF(B965=\"\",1,VLOOKUP(B965,'Spisak FSS izložbi'!$B$6:$H$318,7,FALSE))","v":1},0]
[952,null,{"$f":"IF(B966=\"\",\"\",VLOOKUP(B966,'Spisak FSS izložbi'!$B$6:$H$318,3,FALSE))","v":""},null,{"$f":"IF(B966=\"\",\"\",VLOOKUP(B966,'Spisak FSS izložbi'!$B$6:$H$318,6,FALSE))","v":""},{"$f":"IF(B966=\"\",\"\",VLOOKUP(B966,'Spisak FSS izložbi'!$B$6:$H$318,5,FALSE))","v":""},null,null,null,null,null,0,0,{"$f":"IF(B966=\"\",1,VLOOKUP(B966,'Spisak FSS izložbi'!$B$6:$H$318,7,FALSE))","v":1},0]
[953,null,{"$f":"IF(B967=\"\",\"\",VLOOKUP(B967,'Spisak FSS izložbi'!$B$6:$H$318,3,FALSE))","v":""},null,{"$f":"IF(B967=\"\",\"\",VLOOKUP(B967,'Spisak FSS izložbi'!$B$6:$H$318,6,FALSE))","v":""},{"$f":"IF(B967=\"\",\"\",VLOOKUP(B967,'Spisak FSS izložbi'!$B$6:$H$318,5,FALSE))","v":""},null,null,null,null,null,0,0,{"$f":"IF(B967=\"\",1,VLOOKUP(B967,'Spisak FSS izložbi'!$B$6:$H$318,7,FALSE))","v":1},0]
[954,null,{"$f":"IF(B968=\"\",\"\",VLOOKUP(B968,'Spisak FSS izložbi'!$B$6:$H$318,3,FALSE))","v":""},null,{"$f":"IF(B968=\"\",\"\",VLOOKUP(B968,'Spisak FSS izložbi'!$B$6:$H$318,6,FALSE))","v":""},{"$f":"IF(B968=\"\",\"\",VLOOKUP(B968,'Spisak FSS izložbi'!$B$6:$H$318,5,FALSE))","v":""},null,null,null,null,null,0,0,{"$f":"IF(B968=\"\",1,VLOOKUP(B968,'Spisak FSS izložbi'!$B$6:$H$318,7,FALSE))","v":1},0]
[955,null,{"$f":"IF(B969=\"\",\"\",VLOOKUP(B969,'Spisak FSS izložbi'!$B$6:$H$318,3,FALSE))","v":""},null,{"$f":"IF(B969=\"\",\"\",VLOOKUP(B969,'Spisak FSS izložbi'!$B$6:$H$318,6,FALSE))","v":""},{"$f":"IF(B969=\"\",\"\",VLOOKUP(B969,'Spisak FSS izložbi'!$B$6:$H$318,5,FALSE))","v":""},null,null,null,null,null,0,0,{"$f":"IF(B969=\"\",1,VLOOKUP(B969,'Spisak FSS izložbi'!$B$6:$H$318,7,FALSE))","v":1},0]
[956,null,{"$f":"IF(B970=\"\",\"\",VLOOKUP(B970,'Spisak FSS izložbi'!$B$6:$H$318,3,FALSE))","v":""},null,{"$f":"IF(B970=\"\",\"\",VLOOKUP(B970,'Spisak FSS izložbi'!$B$6:$H$318,6,FALSE))","v":""},{"$f":"IF(B970=\"\",\"\",VLOOKUP(B970,'Spisak FSS izložbi'!$B$6:$H$318,5,FALSE))","v":""},null,null,null,null,null,0,0,{"$f":"IF(B970=\"\",1,VLOOKUP(B970,'Spisak FSS izložbi'!$B$6:$H$318,7,FALSE))","v":1},0]
[957,null,{"$f":"IF(B971=\"\",\"\",VLOOKUP(B971,'Spisak FSS izložbi'!$B$6:$H$318,3,FALSE))","v":""},null,{"$f":"IF(B971=\"\",\"\",VLOOKUP(B971,'Spisak FSS izložbi'!$B$6:$H$318,6,FALSE))","v":""},{"$f":"IF(B971=\"\",\"\",VLOOKUP(B971,'Spisak FSS izložbi'!$B$6:$H$318,5,FALSE))","v":""},null,null,null,null,null,0,0,{"$f":"IF(B971=\"\",1,VLOOKUP(B971,'Spisak FSS izložbi'!$B$6:$H$318,7,FALSE))","v":1},0]
[958,null,{"$f":"IF(B972=\"\",\"\",VLOOKUP(B972,'Spisak FSS izložbi'!$B$6:$H$318,3,FALSE))","v":""},null,{"$f":"IF(B972=\"\",\"\",VLOOKUP(B972,'Spisak FSS izložbi'!$B$6:$H$318,6,FALSE))","v":""},{"$f":"IF(B972=\"\",\"\",VLOOKUP(B972,'Spisak FSS izložbi'!$B$6:$H$318,5,FALSE))","v":""},null,null,null,null,null,0,0,{"$f":"IF(B972=\"\",1,VLOOKUP(B972,'Spisak FSS izložbi'!$B$6:$H$318,7,FALSE))","v":1},0]
[959,null,{"$f":"IF(B973=\"\",\"\",VLOOKUP(B973,'Spisak FSS izložbi'!$B$6:$H$318,3,FALSE))","v":""},null,{"$f":"IF(B973=\"\",\"\",VLOOKUP(B973,'Spisak FSS izložbi'!$B$6:$H$318,6,FALSE))","v":""},{"$f":"IF(B973=\"\",\"\",VLOOKUP(B973,'Spisak FSS izložbi'!$B$6:$H$318,5,FALSE))","v":""},null,null,null,null,null,0,0,{"$f":"IF(B973=\"\",1,VLOOKUP(B973,'Spisak FSS izložbi'!$B$6:$H$318,7,FALSE))","v":1},0]
[960,null,{"$f":"IF(B974=\"\",\"\",VLOOKUP(B974,'Spisak FSS izložbi'!$B$6:$H$318,3,FALSE))","v":""},null,{"$f":"IF(B974=\"\",\"\",VLOOKUP(B974,'Spisak FSS izložbi'!$B$6:$H$318,6,FALSE))","v":""},{"$f":"IF(B974=\"\",\"\",VLOOKUP(B974,'Spisak FSS izložbi'!$B$6:$H$318,5,FALSE))","v":""},null,null,null,null,null,0,0,{"$f":"IF(B974=\"\",1,VLOOKUP(B974,'Spisak FSS izložbi'!$B$6:$H$318,7,FALSE))","v":1},0]
[961,null,{"$f":"IF(B975=\"\",\"\",VLOOKUP(B975,'Spisak FSS izložbi'!$B$6:$H$318,3,FALSE))","v":""},null,{"$f":"IF(B975=\"\",\"\",VLOOKUP(B975,'Spisak FSS izložbi'!$B$6:$H$318,6,FALSE))","v":""},{"$f":"IF(B975=\"\",\"\",VLOOKUP(B975,'Spisak FSS izložbi'!$B$6:$H$318,5,FALSE))","v":""},null,null,null,null,null,0,0,{"$f":"IF(B975=\"\",1,VLOOKUP(B975,'Spisak FSS izložbi'!$B$6:$H$318,7,FALSE))","v":1},0]
[962,null,{"$f":"IF(B976=\"\",\"\",VLOOKUP(B976,'Spisak FSS izložbi'!$B$6:$H$318,3,FALSE))","v":""},null,{"$f":"IF(B976=\"\",\"\",VLOOKUP(B976,'Spisak FSS izložbi'!$B$6:$H$318,6,FALSE))","v":""},{"$f":"IF(B976=\"\",\"\",VLOOKUP(B976,'Spisak FSS izložbi'!$B$6:$H$318,5,FALSE))","v":""},null,null,null,null,null,{"$f":"IF(E976=$H$1,$H$6,IF(E976=$I$1,$I$6,IF(E976=$J$1,$J$6,IF(E976=$K$1,$K$6,IF(E976=$L$1,$L$6,IF(E976=$M$1,$M$6,IF(E976=$N$1,$N$6,IF(E976=$O$1,$O$6,0))))))))","v":0},{"$f":"IF(OR(E976=\"\",K976=\"\")=TRUE,0,VLOOKUP(K976,$G$1:$O$7,MATCH(E976,$G$1:$O$1,0),FALSE))","v":0},{"$f":"IF(B976=\"\",1,VLOOKUP(B976,'Spisak FSS izložbi'!$B$6:$H$318,7,FALSE))","v":1},{"$f":"(L976+M976)*N976","v":0}]
[963,null,{"$f":"IF(B977=\"\",\"\",VLOOKUP(B977,'Spisak FSS izložbi'!$B$6:$H$318,3,FALSE))","v":""},null,{"$f":"IF(B977=\"\",\"\",VLOOKUP(B977,'Spisak FSS izložbi'!$B$6:$H$318,6,FALSE))","v":""},{"$f":"IF(B977=\"\",\"\",VLOOKUP(B977,'Spisak FSS izložbi'!$B$6:$H$318,5,FALSE))","v":""},null,null,null,null,null,0,0,{"$f":"IF(B977=\"\",1,VLOOKUP(B977,'Spisak FSS izložbi'!$B$6:$H$318,7,FALSE))","v":1},0]
[964,null,{"$f":"IF(B978=\"\",\"\",VLOOKUP(B978,'Spisak FSS izložbi'!$B$6:$H$318,3,FALSE))","v":""},null,{"$f":"IF(B978=\"\",\"\",VLOOKUP(B978,'Spisak FSS izložbi'!$B$6:$H$318,6,FALSE))","v":""},{"$f":"IF(B978=\"\",\"\",VLOOKUP(B978,'Spisak FSS izložbi'!$B$6:$H$318,5,FALSE))","v":""},null,null,null,null,null,0,0,{"$f":"IF(B978=\"\",1,VLOOKUP(B978,'Spisak FSS izložbi'!$B$6:$H$318,7,FALSE))","v":1},0]
[965,null,{"$f":"IF(B979=\"\",\"\",VLOOKUP(B979,'Spisak FSS izložbi'!$B$6:$H$318,3,FALSE))","v":""},null,{"$f":"IF(B979=\"\",\"\",VLOOKUP(B979,'Spisak FSS izložbi'!$B$6:$H$318,6,FALSE))","v":""},{"$f":"IF(B979=\"\",\"\",VLOOKUP(B979,'Spisak FSS izložbi'!$B$6:$H$318,5,FALSE))","v":""},null,null,null,null,null,0,0,{"$f":"IF(B979=\"\",1,VLOOKUP(B979,'Spisak FSS izložbi'!$B$6:$H$318,7,FALSE))","v":1},0]
[966,null,{"$f":"IF(B980=\"\",\"\",VLOOKUP(B980,'Spisak FSS izložbi'!$B$6:$H$318,3,FALSE))","v":""},null,{"$f":"IF(B980=\"\",\"\",VLOOKUP(B980,'Spisak FSS izložbi'!$B$6:$H$318,6,FALSE))","v":""},{"$f":"IF(B980=\"\",\"\",VLOOKUP(B980,'Spisak FSS izložbi'!$B$6:$H$318,5,FALSE))","v":""},null,null,null,null,null,0,0,{"$f":"IF(B980=\"\",1,VLOOKUP(B980,'Spisak FSS izložbi'!$B$6:$H$318,7,FALSE))","v":1},0]
[967,null,{"$f":"IF(B981=\"\",\"\",VLOOKUP(B981,'Spisak FSS izložbi'!$B$6:$H$318,3,FALSE))","v":""},null,{"$f":"IF(B981=\"\",\"\",VLOOKUP(B981,'Spisak FSS izložbi'!$B$6:$H$318,6,FALSE))","v":""},{"$f":"IF(B981=\"\",\"\",VLOOKUP(B981,'Spisak FSS izložbi'!$B$6:$H$318,5,FALSE))","v":""},null,null,null,null,null,0,0,{"$f":"IF(B981=\"\",1,VLOOKUP(B981,'Spisak FSS izložbi'!$B$6:$H$318,7,FALSE))","v":1},0]
[968,null,{"$f":"IF(B982=\"\",\"\",VLOOKUP(B982,'Spisak FSS izložbi'!$B$6:$H$318,3,FALSE))","v":""},null,{"$f":"IF(B982=\"\",\"\",VLOOKUP(B982,'Spisak FSS izložbi'!$B$6:$H$318,6,FALSE))","v":""},{"$f":"IF(B982=\"\",\"\",VLOOKUP(B982,'Spisak FSS izložbi'!$B$6:$H$318,5,FALSE))","v":""},null,null,null,null,null,0,0,{"$f":"IF(B982=\"\",1,VLOOKUP(B982,'Spisak FSS izložbi'!$B$6:$H$318,7,FALSE))","v":1},0]
[969,null,{"$f":"IF(B983=\"\",\"\",VLOOKUP(B983,'Spisak FSS izložbi'!$B$6:$H$318,3,FALSE))","v":""},null,{"$f":"IF(B983=\"\",\"\",VLOOKUP(B983,'Spisak FSS izložbi'!$B$6:$H$318,6,FALSE))","v":""},{"$f":"IF(B983=\"\",\"\",VLOOKUP(B983,'Spisak FSS izložbi'!$B$6:$H$318,5,FALSE))","v":""},null,null,null,null,null,0,0,{"$f":"IF(B983=\"\",1,VLOOKUP(B983,'Spisak FSS izložbi'!$B$6:$H$318,7,FALSE))","v":1},0]
[970,null,{"$f":"IF(B984=\"\",\"\",VLOOKUP(B984,'Spisak FSS izložbi'!$B$6:$H$318,3,FALSE))","v":""},null,{"$f":"IF(B984=\"\",\"\",VLOOKUP(B984,'Spisak FSS izložbi'!$B$6:$H$318,6,FALSE))","v":""},{"$f":"IF(B984=\"\",\"\",VLOOKUP(B984,'Spisak FSS izložbi'!$B$6:$H$318,5,FALSE))","v":""},null,null,null,null,null,0,0,{"$f":"IF(B984=\"\",1,VLOOKUP(B984,'Spisak FSS izložbi'!$B$6:$H$318,7,FALSE))","v":1},0]
[971,null,{"$f":"IF(B985=\"\",\"\",VLOOKUP(B985,'Spisak FSS izložbi'!$B$6:$H$318,3,FALSE))","v":""},null,{"$f":"IF(B985=\"\",\"\",VLOOKUP(B985,'Spisak FSS izložbi'!$B$6:$H$318,6,FALSE))","v":""},{"$f":"IF(B985=\"\",\"\",VLOOKUP(B985,'Spisak FSS izložbi'!$B$6:$H$318,5,FALSE))","v":""},null,null,null,null,null,0,0,{"$f":"IF(B985=\"\",1,VLOOKUP(B985,'Spisak FSS izložbi'!$B$6:$H$318,7,FALSE))","v":1},0]
[972,null,{"$f":"IF(B986=\"\",\"\",VLOOKUP(B986,'Spisak FSS izložbi'!$B$6:$H$318,3,FALSE))","v":""},null,{"$f":"IF(B986=\"\",\"\",VLOOKUP(B986,'Spisak FSS izložbi'!$B$6:$H$318,6,FALSE))","v":""},{"$f":"IF(B986=\"\",\"\",VLOOKUP(B986,'Spisak FSS izložbi'!$B$6:$H$318,5,FALSE))","v":""},null,null,null,null,null,0,0,{"$f":"IF(B986=\"\",1,VLOOKUP(B986,'Spisak FSS izložbi'!$B$6:$H$318,7,FALSE))","v":1},0]
[973,null,{"$f":"IF(B987=\"\",\"\",VLOOKUP(B987,'Spisak FSS izložbi'!$B$6:$H$318,3,FALSE))","v":""},null,{"$f":"IF(B987=\"\",\"\",VLOOKUP(B987,'Spisak FSS izložbi'!$B$6:$H$318,6,FALSE))","v":""},{"$f":"IF(B987=\"\",\"\",VLOOKUP(B987,'Spisak FSS izložbi'!$B$6:$H$318,5,FALSE))","v":""},null,null,null,null,null,0,0,{"$f":"IF(B987=\"\",1,VLOOKUP(B987,'Spisak FSS izložbi'!$B$6:$H$318,7,FALSE))","v":1},0]
[974,null,{"$f":"IF(B988=\"\",\"\",VLOOKUP(B988,'Spisak FSS izložbi'!$B$6:$H$318,3,FALSE))","v":""},null,{"$f":"IF(B988=\"\",\"\",VLOOKUP(B988,'Spisak FSS izložbi'!$B$6:$H$318,6,FALSE))","v":""},{"$f":"IF(B988=\"\",\"\",VLOOKUP(B988,'Spisak FSS izložbi'!$B$6:$H$318,5,FALSE))","v":""},null,null,null,null,null,0,0,{"$f":"IF(B988=\"\",1,VLOOKUP(B988,'Spisak FSS izložbi'!$B$6:$H$318,7,FALSE))","v":1},0]
[975,null,{"$f":"IF(B989=\"\",\"\",VLOOKUP(B989,'Spisak FSS izložbi'!$B$6:$H$318,3,FALSE))","v":""},null,{"$f":"IF(B989=\"\",\"\",VLOOKUP(B989,'Spisak FSS izložbi'!$B$6:$H$318,6,FALSE))","v":""},{"$f":"IF(B989=\"\",\"\",VLOOKUP(B989,'Spisak FSS izložbi'!$B$6:$H$318,5,FALSE))","v":""},null,null,null,null,null,0,0,{"$f":"IF(B989=\"\",1,VLOOKUP(B989,'Spisak FSS izložbi'!$B$6:$H$318,7,FALSE))","v":1},0]
[976,null,{"$f":"IF(B990=\"\",\"\",VLOOKUP(B990,'Spisak FSS izložbi'!$B$6:$H$318,3,FALSE))","v":""},null,{"$f":"IF(B990=\"\",\"\",VLOOKUP(B990,'Spisak FSS izložbi'!$B$6:$H$318,6,FALSE))","v":""},{"$f":"IF(B990=\"\",\"\",VLOOKUP(B990,'Spisak FSS izložbi'!$B$6:$H$318,5,FALSE))","v":""},null,null,null,null,null,0,0,{"$f":"IF(B990=\"\",1,VLOOKUP(B990,'Spisak FSS izložbi'!$B$6:$H$318,7,FALSE))","v":1},0]
[977,null,{"$f":"IF(B991=\"\",\"\",VLOOKUP(B991,'Spisak FSS izložbi'!$B$6:$H$318,3,FALSE))","v":""},null,{"$f":"IF(B991=\"\",\"\",VLOOKUP(B991,'Spisak FSS izložbi'!$B$6:$H$318,6,FALSE))","v":""},{"$f":"IF(B991=\"\",\"\",VLOOKUP(B991,'Spisak FSS izložbi'!$B$6:$H$318,5,FALSE))","v":""},null,null,null,null,null,0,0,{"$f":"IF(B991=\"\",1,VLOOKUP(B991,'Spisak FSS izložbi'!$B$6:$H$318,7,FALSE))","v":1},0]
[978,null,{"$f":"IF(B992=\"\",\"\",VLOOKUP(B992,'Spisak FSS izložbi'!$B$6:$H$318,3,FALSE))","v":""},null,{"$f":"IF(B992=\"\",\"\",VLOOKUP(B992,'Spisak FSS izložbi'!$B$6:$H$318,6,FALSE))","v":""},{"$f":"IF(B992=\"\",\"\",VLOOKUP(B992,'Spisak FSS izložbi'!$B$6:$H$318,5,FALSE))","v":""},null,null,null,null,null,0,0,{"$f":"IF(B992=\"\",1,VLOOKUP(B992,'Spisak FSS izložbi'!$B$6:$H$318,7,FALSE))","v":1},0]
[979,null,{"$f":"IF(B993=\"\",\"\",VLOOKUP(B993,'Spisak FSS izložbi'!$B$6:$H$318,3,FALSE))","v":""},null,{"$f":"IF(B993=\"\",\"\",VLOOKUP(B993,'Spisak FSS izložbi'!$B$6:$H$318,6,FALSE))","v":""},{"$f":"IF(B993=\"\",\"\",VLOOKUP(B993,'Spisak FSS izložbi'!$B$6:$H$318,5,FALSE))","v":""},null,null,null,null,null,0,0,{"$f":"IF(B993=\"\",1,VLOOKUP(B993,'Spisak FSS izložbi'!$B$6:$H$318,7,FALSE))","v":1},0]
[980,null,{"$f":"IF(B994=\"\",\"\",VLOOKUP(B994,'Spisak FSS izložbi'!$B$6:$H$318,3,FALSE))","v":""},null,{"$f":"IF(B994=\"\",\"\",VLOOKUP(B994,'Spisak FSS izložbi'!$B$6:$H$318,6,FALSE))","v":""},{"$f":"IF(B994=\"\",\"\",VLOOKUP(B994,'Spisak FSS izložbi'!$B$6:$H$318,5,FALSE))","v":""},null,null,null,null,null,0,0,{"$f":"IF(B994=\"\",1,VLOOKUP(B994,'Spisak FSS izložbi'!$B$6:$H$318,7,FALSE))","v":1},0]
[981,null,{"$f":"IF(B995=\"\",\"\",VLOOKUP(B995,'Spisak FSS izložbi'!$B$6:$H$318,3,FALSE))","v":""},null,{"$f":"IF(B995=\"\",\"\",VLOOKUP(B995,'Spisak FSS izložbi'!$B$6:$H$318,6,FALSE))","v":""},{"$f":"IF(B995=\"\",\"\",VLOOKUP(B995,'Spisak FSS izložbi'!$B$6:$H$318,5,FALSE))","v":""},null,null,null,null,null,0,0,{"$f":"IF(B995=\"\",1,VLOOKUP(B995,'Spisak FSS izložbi'!$B$6:$H$318,7,FALSE))","v":1},0]
[982,null,{"$f":"IF(B996=\"\",\"\",VLOOKUP(B996,'Spisak FSS izložbi'!$B$6:$H$318,3,FALSE))","v":""},null,{"$f":"IF(B996=\"\",\"\",VLOOKUP(B996,'Spisak FSS izložbi'!$B$6:$H$318,6,FALSE))","v":""},{"$f":"IF(B996=\"\",\"\",VLOOKUP(B996,'Spisak FSS izložbi'!$B$6:$H$318,5,FALSE))","v":""},null,null,null,null,null,0,0,{"$f":"IF(B996=\"\",1,VLOOKUP(B996,'Spisak FSS izložbi'!$B$6:$H$318,7,FALSE))","v":1},0]
[983,null,{"$f":"IF(B997=\"\",\"\",VLOOKUP(B997,'Spisak FSS izložbi'!$B$6:$H$318,3,FALSE))","v":""},null,{"$f":"IF(B997=\"\",\"\",VLOOKUP(B997,'Spisak FSS izložbi'!$B$6:$H$318,6,FALSE))","v":""},{"$f":"IF(B997=\"\",\"\",VLOOKUP(B997,'Spisak FSS izložbi'!$B$6:$H$318,5,FALSE))","v":""},null,null,null,null,null,0,0,{"$f":"IF(B997=\"\",1,VLOOKUP(B997,'Spisak FSS izložbi'!$B$6:$H$318,7,FALSE))","v":1},0]
[984,null,{"$f":"IF(B998=\"\",\"\",VLOOKUP(B998,'Spisak FSS izložbi'!$B$6:$H$318,3,FALSE))","v":""},null,{"$f":"IF(B998=\"\",\"\",VLOOKUP(B998,'Spisak FSS izložbi'!$B$6:$H$318,6,FALSE))","v":""},{"$f":"IF(B998=\"\",\"\",VLOOKUP(B998,'Spisak FSS izložbi'!$B$6:$H$318,5,FALSE))","v":""},null,null,null,null,null,0,0,{"$f":"IF(B998=\"\",1,VLOOKUP(B998,'Spisak FSS izložbi'!$B$6:$H$318,7,FALSE))","v":1},0]
[985,null,{"$f":"IF(B999=\"\",\"\",VLOOKUP(B999,'Spisak FSS izložbi'!$B$6:$H$318,3,FALSE))","v":""},null,{"$f":"IF(B999=\"\",\"\",VLOOKUP(B999,'Spisak FSS izložbi'!$B$6:$H$318,6,FALSE))","v":""},{"$f":"IF(B999=\"\",\"\",VLOOKUP(B999,'Spisak FSS izložbi'!$B$6:$H$318,5,FALSE))","v":""},null,null,null,null,null,0,0,{"$f":"IF(B999=\"\",1,VLOOKUP(B999,'Spisak FSS izložbi'!$B$6:$H$318,7,FALSE))","v":1},0]
[986,null,{"$f":"IF(B1000=\"\",\"\",VLOOKUP(B1000,'Spisak FSS izložbi'!$B$6:$H$318,3,FALSE))","v":""},null,{"$f":"IF(B1000=\"\",\"\",VLOOKUP(B1000,'Spisak FSS izložbi'!$B$6:$H$318,6,FALSE))","v":""},{"$f":"IF(B1000=\"\",\"\",VLOOKUP(B1000,'Spisak FSS izložbi'!$B$6:$H$318,5,FALSE))","v":""},null,null,null,null,null,0,0,{"$f":"IF(B1000=\"\",1,VLOOKUP(B1000,'Spisak FSS izložbi'!$B$6:$H$318,7,FALSE))","v":1},0]
[987,null,{"$f":"IF(B1001=\"\",\"\",VLOOKUP(B1001,'Spisak FSS izložbi'!$B$6:$H$318,3,FALSE))","v":""},null,{"$f":"IF(B1001=\"\",\"\",VLOOKUP(B1001,'Spisak FSS izložbi'!$B$6:$H$318,6,FALSE))","v":""},{"$f":"IF(B1001=\"\",\"\",VLOOKUP(B1001,'Spisak FSS izložbi'!$B$6:$H$318,5,FALSE))","v":""},null,null,null,null,null,0,0,{"$f":"IF(B1001=\"\",1,VLOOKUP(B1001,'Spisak FSS izložbi'!$B$6:$H$318,7,FALSE))","v":1},0]
[988,null,{"$f":"IF(B1002=\"\",\"\",VLOOKUP(B1002,'Spisak FSS izložbi'!$B$6:$H$318,3,FALSE))","v":""},null,{"$f":"IF(B1002=\"\",\"\",VLOOKUP(B1002,'Spisak FSS izložbi'!$B$6:$H$318,6,FALSE))","v":""},{"$f":"IF(B1002=\"\",\"\",VLOOKUP(B1002,'Spisak FSS izložbi'!$B$6:$H$318,5,FALSE))","v":""},null,null,null,null,null,0,0,{"$f":"IF(B1002=\"\",1,VLOOKUP(B1002,'Spisak FSS izložbi'!$B$6:$H$318,7,FALSE))","v":1},0]
[989,null,{"$f":"IF(B1003=\"\",\"\",VLOOKUP(B1003,'Spisak FSS izložbi'!$B$6:$H$318,3,FALSE))","v":""},null,{"$f":"IF(B1003=\"\",\"\",VLOOKUP(B1003,'Spisak FSS izložbi'!$B$6:$H$318,6,FALSE))","v":""},{"$f":"IF(B1003=\"\",\"\",VLOOKUP(B1003,'Spisak FSS izložbi'!$B$6:$H$318,5,FALSE))","v":""},null,null,null,null,null,0,0,{"$f":"IF(B1003=\"\",1,VLOOKUP(B1003,'Spisak FSS izložbi'!$B$6:$H$318,7,FALSE))","v":1},0]
[990,null,{"$f":"IF(B1004=\"\",\"\",VLOOKUP(B1004,'Spisak FSS izložbi'!$B$6:$H$318,3,FALSE))","v":""},null,{"$f":"IF(B1004=\"\",\"\",VLOOKUP(B1004,'Spisak FSS izložbi'!$B$6:$H$318,6,FALSE))","v":""},{"$f":"IF(B1004=\"\",\"\",VLOOKUP(B1004,'Spisak FSS izložbi'!$B$6:$H$318,5,FALSE))","v":""},null,null,null,null,null,0,0,{"$f":"IF(B1004=\"\",1,VLOOKUP(B1004,'Spisak FSS izložbi'!$B$6:$H$318,7,FALSE))","v":1},0]
[991,null,{"$f":"IF(B1005=\"\",\"\",VLOOKUP(B1005,'Spisak FSS izložbi'!$B$6:$H$318,3,FALSE))","v":""},null,{"$f":"IF(B1005=\"\",\"\",VLOOKUP(B1005,'Spisak FSS izložbi'!$B$6:$H$318,6,FALSE))","v":""},{"$f":"IF(B1005=\"\",\"\",VLOOKUP(B1005,'Spisak FSS izložbi'!$B$6:$H$318,5,FALSE))","v":""},null,null,null,null,null,0,0,{"$f":"IF(B1005=\"\",1,VLOOKUP(B1005,'Spisak FSS izložbi'!$B$6:$H$318,7,FALSE))","v":1},0]
[992,null,{"$f":"IF(B1006=\"\",\"\",VLOOKUP(B1006,'Spisak FSS izložbi'!$B$6:$H$318,3,FALSE))","v":""},null,{"$f":"IF(B1006=\"\",\"\",VLOOKUP(B1006,'Spisak FSS izložbi'!$B$6:$H$318,6,FALSE))","v":""},{"$f":"IF(B1006=\"\",\"\",VLOOKUP(B1006,'Spisak FSS izložbi'!$B$6:$H$318,5,FALSE))","v":""},null,null,null,null,null,0,0,{"$f":"IF(B1006=\"\",1,VLOOKUP(B1006,'Spisak FSS izložbi'!$B$6:$H$318,7,FALSE))","v":1},0]
[993,null,{"$f":"IF(B1007=\"\",\"\",VLOOKUP(B1007,'Spisak FSS izložbi'!$B$6:$H$318,3,FALSE))","v":""},null,{"$f":"IF(B1007=\"\",\"\",VLOOKUP(B1007,'Spisak FSS izložbi'!$B$6:$H$318,6,FALSE))","v":""},{"$f":"IF(B1007=\"\",\"\",VLOOKUP(B1007,'Spisak FSS izložbi'!$B$6:$H$318,5,FALSE))","v":""},null,null,null,null,null,0,0,{"$f":"IF(B1007=\"\",1,VLOOKUP(B1007,'Spisak FSS izložbi'!$B$6:$H$318,7,FALSE))","v":1},0]
[994,null,{"$f":"IF(B1008=\"\",\"\",VLOOKUP(B1008,'Spisak FSS izložbi'!$B$6:$H$318,3,FALSE))","v":""},null,{"$f":"IF(B1008=\"\",\"\",VLOOKUP(B1008,'Spisak FSS izložbi'!$B$6:$H$318,6,FALSE))","v":""},{"$f":"IF(B1008=\"\",\"\",VLOOKUP(B1008,'Spisak FSS izložbi'!$B$6:$H$318,5,FALSE))","v":""},null,null,null,null,null,0,0,{"$f":"IF(B1008=\"\",1,VLOOKUP(B1008,'Spisak FSS izložbi'!$B$6:$H$318,7,FALSE))","v":1},0]
[995,null,{"$f":"IF(B1009=\"\",\"\",VLOOKUP(B1009,'Spisak FSS izložbi'!$B$6:$H$318,3,FALSE))","v":""},null,{"$f":"IF(B1009=\"\",\"\",VLOOKUP(B1009,'Spisak FSS izložbi'!$B$6:$H$318,6,FALSE))","v":""},{"$f":"IF(B1009=\"\",\"\",VLOOKUP(B1009,'Spisak FSS izložbi'!$B$6:$H$318,5,FALSE))","v":""},null,null,null,null,null,0,0,{"$f":"IF(B1009=\"\",1,VLOOKUP(B1009,'Spisak FSS izložbi'!$B$6:$H$318,7,FALSE))","v":1},0]
[996,null,{"$f":"IF(B1010=\"\",\"\",VLOOKUP(B1010,'Spisak FSS izložbi'!$B$6:$H$318,3,FALSE))","v":""},null,{"$f":"IF(B1010=\"\",\"\",VLOOKUP(B1010,'Spisak FSS izložbi'!$B$6:$H$318,6,FALSE))","v":""},{"$f":"IF(B1010=\"\",\"\",VLOOKUP(B1010,'Spisak FSS izložbi'!$B$6:$H$318,5,FALSE))","v":""},null,null,null,null,null,0,0,{"$f":"IF(B1010=\"\",1,VLOOKUP(B1010,'Spisak FSS izložbi'!$B$6:$H$318,7,FALSE))","v":1},0]
[997,null,{"$f":"IF(B1011=\"\",\"\",VLOOKUP(B1011,'Spisak FSS izložbi'!$B$6:$H$318,3,FALSE))","v":""},null,{"$f":"IF(B1011=\"\",\"\",VLOOKUP(B1011,'Spisak FSS izložbi'!$B$6:$H$318,6,FALSE))","v":""},{"$f":"IF(B1011=\"\",\"\",VLOOKUP(B1011,'Spisak FSS izložbi'!$B$6:$H$318,5,FALSE))","v":""},null,null,null,null,null,0,0,{"$f":"IF(B1011=\"\",1,VLOOKUP(B1011,'Spisak FSS izložbi'!$B$6:$H$318,7,FALSE))","v":1},0]
[998,null,{"$f":"IF(B1012=\"\",\"\",VLOOKUP(B1012,'Spisak FSS izložbi'!$B$6:$H$318,3,FALSE))","v":""},null,{"$f":"IF(B1012=\"\",\"\",VLOOKUP(B1012,'Spisak FSS izložbi'!$B$6:$H$318,6,FALSE))","v":""},{"$f":"IF(B1012=\"\",\"\",VLOOKUP(B1012,'Spisak FSS izložbi'!$B$6:$H$318,5,FALSE))","v":""},null,null,null,null,null,0,0,{"$f":"IF(B1012=\"\",1,VLOOKUP(B1012,'Spisak FSS izložbi'!$B$6:$H$318,7,FALSE))","v":1},0]
[999,null,{"$f":"IF(B1013=\"\",\"\",VLOOKUP(B1013,'Spisak FSS izložbi'!$B$6:$H$318,3,FALSE))","v":""},null,{"$f":"IF(B1013=\"\",\"\",VLOOKUP(B1013,'Spisak FSS izložbi'!$B$6:$H$318,6,FALSE))","v":""},{"$f":"IF(B1013=\"\",\"\",VLOOKUP(B1013,'Spisak FSS izložbi'!$B$6:$H$318,5,FALSE))","v":""},null,null,null,null,null,0,0,{"$f":"IF(B1013=\"\",1,VLOOKUP(B1013,'Spisak FSS izložbi'!$B$6:$H$318,7,FALSE))","v":1},0]
[1000,null,{"$f":"IF(B1014=\"\",\"\",VLOOKUP(B1014,'Spisak FSS izložbi'!$B$6:$H$318,3,FALSE))","v":""},null,{"$f":"IF(B1014=\"\",\"\",VLOOKUP(B1014,'Spisak FSS izložbi'!$B$6:$H$318,6,FALSE))","v":""},{"$f":"IF(B1014=\"\",\"\",VLOOKUP(B1014,'Spisak FSS izložbi'!$B$6:$H$318,5,FALSE))","v":""},null,null,null,null,null,0,0,{"$f":"IF(B1014=\"\",1,VLOOKUP(B1014,'Spisak FSS izložbi'!$B$6:$H$318,7,FALSE))","v":1},0]

{"sheet":"VRA_ne_FSS","index":1,"n_rows":1014,"n_cols":14,"rows_kept":1014,"cut":false,"hidden":false,"merged":[[1013,1,1013,2],[1013,7,1013,8],[1010,1,1010,2],[1010,7,1010,8],[1011,1,1011,2],[1011,7,1011,8],[1012,1,1012,2],[1012,7,1012,8],[1007,1,1007,2],[1007,7,1007,8],[1008,1,1008,2],[1008,7,1008,8],[1009,1,1009,2],[1009,7,1009,8],[1004,1,1004,2],[1004,7,1004,8],[1005,1,1005,2],[1005,7,1005,8],[1006,1,1006,2],[1006,7,1006,8],[1001,1,1001,2],[1001,7,1001,8],[1002,1,1002,2],[1002,7,1002,8],[1003,1,1003,2],[1003,7,1003,8],[998,1,998,2],[998,7,998,8],[999,1,999,2],[999,7,999,8],[1000,1,1000,2],[1000,7,1000,8],[995,1,995,2],[995,7,995,8],[996,1,996,2],[996,7,996,8],[997,1,997,2],[997,7,997,8],[992,1,992,2],[992,7,992,8],[993,1,993,2],[993,7,993,8],[994,1,994,2],[994,7,994,8],[989,1,989,2],[989,7,989,8],[990,1,990,2],[990,7,990,8],[991,1,991,2],[991,7,991,8],[986,1,986,2],[986,7,986,8],[987,1,987,2],[987,7,987,8],[988,1,988,2],[988,7,988,8],[983,1,983,2],[983,7,983,8],[984,1,984,2],[984,7,984,8],[985,1,985,2],[985,7,985,8],[980,1,980,2],[980,7,980,8],[981,1,981,2],[981,7,981,8],[982,1,982,2],[982,7,982,8],[977,1,977,2],[977,7,977,8],[978,1,978,2],[978,7,978,8],[979,1,979,2],[979,7,979,8],[974,1,974,2],[974,7,974,8],[975,1,975,2],[975,7,975,8],[976,1,976,2],[976,7,976,8],[971,1,971,2],[971,7,971,8],[972,1,972,2],[972,7,972,8],[973,1,973,2],[973,7,973,8],[968,1,968,2],[968,7,968,8],[969,1,969,2],[969,7,969,8],[970,1,970,2],[970,7,970,8],[965,1,965,2],[965,7,965,8],[966,1,966,2],[966,7,966,8],[967,1,967,2],[967,7,967,8],[962,1,962,2],[962,7,962,8],[963,1,963,2],[963,7,963,8],[964,1,964,2],[964,7,964,8],[959,1,959,2],[959,7,959,8],[960,1,960,2],[960,7,960,8],[961,1,961,2],[961,7,961,8],[956,1,956,2],[956,7,956,8],[957,1,957,2],[957,7,957,8],[958,1,958,2],[958,7,958,8],[953,1,953,2],[953,7,953,8],[954,1,954,2],[954,7,954,8],[955,1,955,2],[955,7,955,8],[950,1,950,2],[950,7,950,8],[951,1,951,2],[951,7,951,8],[952,1,952,2],[952,7,952,8],[947,1,947,2],[947,7,947,8],[948,1,948,2],[948,7,948,8],[949,1,949,2],[949,7,949,8],[944,1,944,2],[944,7,944,8],[945,1,945,2],[945,7,945,8],[946,1,946,2],[946,7,946,8],[941,1,941,2],[941,7,941,8],[942,1,942,2],[942,7,942,8],[943,1,943,2],[943,7,943,8],[938,1,938,2],[938,7,938,8],[939,1,939,2],[939,7,939,8],[940,1,940,2],[940,7,940,8],[935,1,935,2],[935,7,935,8],[936,1,936,2],[936,7,936,8],[937,1,937,2],[937,7,937,8],[932,1,932,2],[932,7,932,8],[933,1,933,2],[933,7,933,8],[934,1,934,2],[934,7,934,8],[929,1,929,2],[929,7,929,8],[930,1,930,2],[930,7,930,8],[931,1,931,2],[931,7,931,8],[926,1,926,2],[926,7,926,8],[927,1,927,2],[927,7,927,8],[928,1,928,2],[928,7,928,8],[923,1,923,2],[923,7,923,8],[924,1,924,2],[924,7,924,8],[925,1,925,2],[925,7,925,8],[920,1,920,2],[920,7,920,8],[921,1,921,2],[921,7,921,8],[922,1,922,2],[922,7,922,8],[917,1,917,2],[917,7,917,8],[918,1,918,2],[918,7,918,8],[919,1,919,2],[919,7,919,8],[914,1,914,2],[914,7,914,8],[915,1,915,2],[915,7,915,8],[916,1,916,2],[916,7,916,8],[911,1,911,2],[911,7,911,8],[912,1,912,2],[912,7,912,8],[913,1,913,2],[913,7,913,8],[908,1,908,2],[908,7,908,8],[909,1,909,2],[909,7,909,8],[910,1,910,2],[910,7,910,8],[905,1,905,2],[905,7,905,8],[906,1,906,2],[906,7,906,8],[907,1,907,2],[907,7,907,8],[902,1,902,2],[902,7,902,8],[903,1,903,2],[903,7,903,8],[904,1,904,2],[904,7,904,8],[899,1,899,2],[899,7,899,8],[900,1,900,2],[900,7,900,8],[901,1,901,2],[901,7,901,8],[896,1,896,2],[896,7,896,8],[897,1,897,2],[897,7,897,8],[898,1,898,2],[898,7,898,8],[893,1,893,2],[893,7,893,8],[894,1,894,2],[894,7,894,8],[895,1,895,2],[895,7,895,8],[890,1,890,2],[890,7,890,8],[891,1,891,2],[891,7,891,8],[892,1,892,2],[892,7,892,8],[887,1,887,2],[887,7,887,8],[888,1,888,2],[888,7,888,8],[889,1,889,2],[889,7,889,8],[884,1,884,2],[884,7,884,8],[885,1,885,2],[885,7,885,8],[886,1,886,2],[886,7,886,8],[881,1,881,2],[881,7,881,8],[882,1,882,2],[882,7,882,8],[883,1,883,2],[883,7,883,8],[878,1,878,2],[878,7,878,8],[879,1,879,2],[879,7,879,8],[880,1,880,2],[880,7,880,8],[875,1,875,2],[875,7,875,8],[876,1,876,2],[876,7,876,8],[877,1,877,2],[877,7,877,8],[872,1,872,2],[872,7,872,8],[873,1,873,2],[873,7,873,8],[874,1,874,2],[874,7,874,8],[869,1,869,2],[869,7,869,8],[870,1,870,2],[870,7,870,8],[871,1,871,2],[871,7,871,8],[866,1,866,2],[866,7,866,8],[867,1,867,2],[867,7,867,8],[868,1,868,2],[868,7,868,8],[863,1,863,2],[863,7,863,8],[864,1,864,2],[864,7,864,8],[865,1,865,2],[865,7,865,8],[860,1,860,2],[860,7,860,8],[861,1,861,2],[861,7,861,8],[862,1,862,2],[862,7,862,8],[857,1,857,2],[857,7,857,8],[858,1,858,2],[858,7,858,8],[859,1,859,2],[859,7,859,8],[854,1,854,2],[854,7,854,8],[855,1,855,2],[855,7,855,8],[856,1,856,2],[856,7,856,8],[851,1,851,2],[851,7,851,8],[852,1,852,2],[852,7,852,8],[853,1,853,2],[853,7,853,8],[848,1,848,2],[848,7,848,8],[849,1,849,2],[849,7,849,8],[850,1,850,2],[850,7,850,8],[845,1,845,2],[845,7,845,8],[846,1,846,2],[846,7,846,8],[847,1,847,2],[847,7,847,8],[842,1,842,2],[842,7,842,8],[843,1,843,2],[843,7,843,8],[844,1,844,2],[844,7,844,8],[839,1,839,2],[839,7,839,8],[840,1,840,2],[840,7,840,8],[841,1,841,2],[841,7,841,8],[836,1,836,2],[836,7,836,8],[837,1,837,2],[837,7,837,8],[838,1,838,2],[838,7,838,8],[833,1,833,2],[833,7,833,8],[834,1,834,2],[834,7,834,8],[835,1,835,2],[835,7,835,8],[830,1,830,2],[830,7,830,8],[831,1,831,2],[831,7,831,8],[832,1,832,2],[832,7,832,8],[827,1,827,2],[827,7,827,8],[828,1,828,2],[828,7,828,8],[829,1,829,2],[829,7,829,8],[824,1,824,2],[824,7,824,8],[825,1,825,2],[825,7,825,8],[826,1,826,2],[826,7,826,8],[821,1,821,2],[821,7,821,8],[822,1,822,2],[822,7,822,8],[823,1,823,2],[823,7,823,8],[818,1,818,2],[818,7,818,8],[819,1,819,2],[819,7,819,8],[820,1,820,2],[820,7,820,8],[815,1,815,2],[815,7,815,8],[816,1,816,2],[816,7,816,8],[817,1,817,2],[817,7,817,8],[812,1,812,2],[812,7,812,8],[813,1,813,2],[813,7,813,8],[814,1,814,2],[814,7,814,8],[809,1,809,2],[809,7,809,8],[810,1,810,2],[810,7,810,8],[811,1,811,2],[811,7,811,8],[806,1,806,2],[806,7,806,8],[807,1,807,2],[807,7,807,8],[808,1,808,2],[808,7,808,8],[803,1,803,2],[803,7,803,8],[804,1,804,2],[804,7,804,8],[805,1,805,2],[805,7,805,8],[800,1,800,2],[800,7,800,8],[801,1,801,2],[801,7,801,8],[802,1,802,2],[802,7,802,8],[797,1,797,2],[797,7,797,8],[798,1,798,2],[798,7,798,8],[799,1,799,2],[799,7,799,8],[794,1,794,2],[794,7,794,8],[795,1,795,2],[795,7,795,8],[796,1,796,2],[796,7,796,8],[791,1,791,2],[791,7,791,8],[792,1,792,2],[792,7,792,8],[793,1,793,2],[793,7,793,8],[788,1,788,2],[788,7,788,8],[789,1,789,2],[789,7,789,8],[790,1,790,2],[790,7,790,8],[785,1,785,2],[785,7,785,8],[786,1,786,2],[786,7,786,8],[787,1,787,2],[787,7,787,8],[782,1,782,2],[782,7,782,8],[783,1,783,2],[783,7,783,8],[784,1,784,2],[784,7,784,8],[779,1,779,2],[779,7,779,8],[780,1,780,2],[780,7,780,8],[781,1,781,2],[781,7,781,8],[776,1,776,2],[776,7,776,8],[777,1,777,2],[777,7,777,8],[778,1,778,2],[778,7,778,8],[773,1,773,2],[773,7,773,8],[774,1,774,2],[774,7,774,8],[775,1,775,2],[775,7,775,8],[770,1,770,2],[770,7,770,8],[771,1,771,2],[771,7,771,8],[772,1,772,2],[772,7,772,8],[767,1,767,2],[767,7,767,8],[768,1,768,2],[768,7,768,8],[769,1,769,2],[769,7,769,8],[764,1,764,2],[764,7,764,8],[765,1,765,2],[765,7,765,8],[766,1,766,2],[766,7,766,8],[761,1,761,2],[761,7,761,8],[762,1,762,2],[762,7,762,8],[763,1,763,2],[763,7,763,8],[758,1,758,2],[758,7,758,8],[759,1,759,2],[759,7,759,8],[760,1,760,2],[760,7,760,8],[755,1,755,2],[755,7,755,8],[756,1,756,2],[756,7,756,8],[757,1,757,2],[757,7,757,8],[752,1,752,2],[752,7,752,8],[753,1,753,2],[753,7,753,8],[754,1,754,2],[754,7,754,8],[749,1,749,2],[749,7,749,8],[750,1,750,2],[750,7,750,8],[751,1,751,2],[751,7,751,8],[746,1,746,2],[746,7,746,8],[747,1,747,2],[747,7,747,8],[748,1,748,2],[748,7,748,8],[743,1,743,2],[743,7,743,8],[744,1,744,2],[744,7,744,8],[745,1,745,2],[745,7,745,8],[740,1,740,2],[740,7,740,8],[741,1,741,2],[741,7,741,8],[742,1,742,2],[742,7,742,8],[737,1,737,2],[737,7,737,8],[738,1,738,2],[738,7,738,8],[739,1,739,2],[739,7,739,8],[734,1,734,2],[734,7,734,8],[735,1,735,2],[735,7,735,8],[736,1,736,2],[736,7,736,8],[731,1,731,2],[731,7,731,8],[732,1,732,2],[732,7,732,8],[733,1,733,2],[733,7,733,8],[728,1,728,2],[728,7,728,8],[729,1,729,2],[729,7,729,8],[730,1,730,2],[730,7,730,8],[725,1,725,2],[725,7,725,8],[726,1,726,2],[726,7,726,8],[727,1,727,2],[727,7,727,8],[722,1,722,2],[722,7,722,8],[723,1,723,2],[723,7,723,8],[724,1,724,2],[724,7,724,8],[719,1,719,2],[719,7,719,8],[720,1,720,2],[720,7,720,8],[721,1,721,2],[721,7,721,8],[716,1,716,2],[716,7,716,8],[717,1,717,2],[717,7,717,8],[718,1,718,2],[718,7,718,8],[713,1,713,2],[713,7,713,8],[714,1,714,2],[714,7,714,8],[715,1,715,2],[715,7,715,8],[710,1,710,2],[710,7,710,8],[711,1,711,2],[711,7,711,8],[712,1,712,2],[712,7,712,8],[707,1,707,2],[707,7,707,8],[708,1,708,2],[708,7,708,8],[709,1,709,2],[709,7,709,8],[704,1,704,2],[704,7,704,8],[705,1,705,2],[705,7,705,8],[706,1,706,2],[706,7,706,8],[701,1,701,2],[701,7,701,8],[702,1,702,2],[702,7,702,8],[703,1,703,2],[703,7,703,8],[698,1,698,2],[698,7,698,8],[699,1,699,2],[699,7,699,8],[700,1,700,2],[700,7,700,8],[695,1,695,2],[695,7,695,8],[696,1,696,2],[696,7,696,8],[697,1,697,2],[697,7,697,8],[692,1,692,2],[692,7,692,8],[693,1,693,2],[693,7,693,8],[694,1,694,2],[694,7,694,8],[689,1,689,2],[689,7,689,8],[690,1,690,2],[690,7,690,8],[691,1,691,2],[691,7,691,8],[686,1,686,2],[686,7,686,8],[687,1,687,2],[687,7,687,8],[688,1,688,2],[688,7,688,8],[683,1,683,2],[683,7,683,8],[684,1,684,2],[684,7,684,8],[685,1,685,2],[685,7,685,8],[680,1,680,2],[680,7,680,8],[681,1,681,2],[681,7,681,8],[682,1,682,2],[682,7,682,8],[677,1,677,2],[677,7,677,8],[678,1,678,2],[678,7,678,8],[679,1,679,2],[679,7,679,8],[674,1,674,2],[674,7,674,8],[675,1,675,2],[675,7,675,8],[676,1,676,2],[676,7,676,8],[671,1,671,2],[671,7,671,8],[672,1,672,2],[672,7,672,8],[673,1,673,2],[673,7,673,8],[668,1,668,2],[668,7,668,8],[669,1,669,2],[669,7,669,8],[670,1,670,2],[670,7,670,8],[665,1,665,2],[665,7,665,8],[666,1,666,2],[666,7,666,8],[667,1,667,2],[667,7,667,8],[662,1,662,2],[662,7,662,8],[663,1,663,2],[663,7,663,8],[664,1,664,2],[664,7,664,8],[659,1,659,2],[659,7,659,8],[660,1,660,2],[660,7,660,8],[661,1,661,2],[661,7,661,8],[656,1,656,2],[656,7,656,8],[657,1,657,2],[657,7,657,8],[658,1,658,2],[658,7,658,8],[653,1,653,2],[653,7,653,8],[654,1,654,2],[654,7,654,8],[655,1,655,2],[655,7,655,8],[650,1,650,2],[650,7,650,8],[651,1,651,2],[651,7,651,8],[652,1,652,2],[652,7,652,8],[647,1,647,2],[647,7,647,8],[648,1,648,2],[648,7,648,8],[649,1,649,2],[649,7,649,8],[644,1,644,2],[644,7,644,8],[645,1,645,2],[645,7,645,8],[646,1,646,2],[646,7,646,8],[641,1,641,2],[641,7,641,8],[642,1,642,2],[642,7,642,8],[643,1,643,2],[643,7,643,8],[638,1,638,2],[638,7,638,8],[639,1,639,2],[639,7,639,8],[640,1,640,2],[640,7,640,8],[635,1,635,2],[635,7,635,8],[636,1,636,2],[636,7,636,8],[637,1,637,2],[637,7,637,8],[632,1,632,2],[632,7,632,8],[633,1,633,2],[633,7,633,8],[634,1,634,2],[634,7,634,8],[629,1,629,2],[629,7,629,8],[630,1,630,2],[630,7,630,8],[631,1,631,2],[631,7,631,8],[626,1,626,2],[626,7,626,8],[627,1,627,2],[627,7,627,8],[628,1,628,2],[628,7,628,8],[623,1,623,2],[623,7,623,8],[624,1,624,2],[624,7,624,8],[625,1,625,2],[625,7,625,8],[620,1,620,2],[620,7,620,8],[621,1,621,2],[621,7,621,8],[622,1,622,2],[622,7,622,8],[617,1,617,2],[617,7,617,8],[618,1,618,2],[618,7,618,8],[619,1,619,2],[619,7,619,8],[614,1,614,2],[614,7,614,8],[615,1,615,2],[615,7,615,8],[616,1,616,2],[616,7,616,8],[611,1,611,2],[611,7,611,8],[612,1,612,2],[612,7,612,8],[613,1,613,2],[613,7,613,8],[608,1,608,2],[608,7,608,8],[609,1,609,2],[609,7,609,8],[610,1,610,2],[610,7,610,8],[605,1,605,2],[605,7,605,8],[606,1,606,2],[606,7,606,8],[607,1,607,2],[607,7,607,8],[602,1,602,2],[602,7,602,8],[603,1,603,2],[603,7,603,8],[604,1,604,2],[604,7,604,8],[599,1,599,2],[599,7,599,8],[600,1,600,2],[600,7,600,8],[601,1,601,2],[601,7,601,8],[596,1,596,2],[596,7,596,8],[597,1,597,2],[597,7,597,8],[598,1,598,2],[598,7,598,8],[593,1,593,2],[593,7,593,8],[594,1,594,2],[594,7,594,8],[595,1,595,2],[595,7,595,8],[590,1,590,2],[590,7,590,8],[591,1,591,2],[591,7,591,8],[592,1,592,2],[592,7,592,8],[587,1,587,2],[587,7,587,8],[588,1,588,2],[588,7,588,8],[589,1,589,2],[589,7,589,8],[584,1,584,2],[584,7,584,8],[585,1,585,2],[585,7,585,8],[586,1,586,2],[586,7,586,8],[581,1,581,2],[581,7,581,8],[582,1,582,2],[582,7,582,8],[583,1,583,2],[583,7,583,8],[578,1,578,2],[578,7,578,8],[579,1,579,2],[579,7,579,8],[580,1,580,2],[580,7,580,8],[575,1,575,2],[575,7,575,8],[576,1,576,2],[576,7,576,8],[577,1,577,2],[577,7,577,8],[572,1,572,2],[572,7,572,8],[573,1,573,2],[573,7,573,8],[574,1,574,2],[574,7,574,8],[569,1,569,2],[569,7,569,8],[570,1,570,2],[570,7,570,8],[571,1,571,2],[571,7,571,8],[566,1,566,2],[566,7,566,8],[567,1,567,2],[567,7,567,8],[568,1,568,2],[568,7,568,8],[563,1,563,2],[563,7,563,8],[564,1,564,2],[564,7,564,8],[565,1,565,2],[565,7,565,8],[560,1,560,2],[560,7,560,8],[561,1,561,2],[561,7,561,8],[562,1,562,2],[562,7,562,8],[557,1,557,2],[557,7,557,8],[558,1,558,2],[558,7,558,8],[559,1,559,2],[559,7,559,8],[554,1,554,2],[554,7,554,8],[555,1,555,2],[555,7,555,8],[556,1,556,2],[556,7,556,8],[551,1,551,2],[551,7,551,8],[552,1,552,2],[552,7,552,8],[553,1,553,2],[553,7,553,8],[548,1,548,2],[548,7,548,8],[549,1,549,2],[549,7,549,8],[550,1,550,2],[550,7,550,8],[545,1,545,2],[545,7,545,8],[546,1,546,2],[546,7,546,8],[547,1,547,2],[547,7,547,8],[542,1,542,2],[542,7,542,8],[543,1,543,2],[543,7,543,8],[544,1,544,2],[544,7,544,8],[539,1,539,2],[539,7,539,8],[540,1,540,2],[540,7,540,8],[541,1,541,2],[541,7,541,8],[536,1,536,2],[536,7,536,8],[537,1,537,2],[537,7,537,8],[538,1,538,2],[538,7,538,8],[533,1,533,2],[533,7,533,8],[534,1,534,2],[534,7,534,8],[535,1,535,2],[535,7,535,8],[530,1,530,2],[530,7,530,8],[531,1,531,2],[531,7,531,8],[532,1,532,2],[532,7,532,8],[527,1,527,2],[527,7,527,8],[528,1,528,2],[528,7,528,8],[529,1,529,2],[529,7,529,8],[524,1,524,2],[524,7,524,8],[525,1,525,2],[525,7,525,8],[526,1,526,2],[526,7,526,8],[521,1,521,2],[521,7,521,8],[522,1,522,2],[522,7,522,8],[523,1,523,2],[523,7,523,8],[518,1,518,2],[518,7,518,8],[519,1,519,2],[519,7,519,8],[520,1,520,2],[520,7,520,8],[515,1,515,2],[515,7,515,8],[516,1,516,2],[516,7,516,8],[517,1,517,2],[517,7,517,8],[512,1,512,2],[512,7,512,8]],"merged_total":2003,"flags":["merged_cut"]}
["Rang izložbe","4. rang","3. rang","2. rang","1. rang","REP rang","INT rang","FIAP rang","Kolekcija FSS","Samost. FA1","Samost. KMF","Samost. MF"]
["1. nagrada",5,9,15,22,25,20,20]
["2. nagrada",4,7,10,15,18,12,12]
["3. nagrada",3,5,7,9,12,8,8]
["Pohvala",2,3,4,5,7,4,4]
["Primljen rad",1,2,3,4,5,3,3,6,100,150,200]
["Plava značka",null,null,null,null,null,null,20]
[]
["Ukoliko je  izložba realizovana sa svim primljenim radovima na papiru u zvaničnom izlagačkom prostoru u minimalnom trajanju od 7 dana i sa štampanim katalogom koji, osim podataka predvidjenih  pravilnikom o izložbama FSS, ima reprodukovane sve nagradjene i pohvaljene radove, koristi se koeficijenat 2, u suprotnom se koristi koeficijenat 1."]
[]
[]
[]
[]
["Red.br","Naziv izložbe",null,"Rang ","Datum otvaranja","Broj FIAP patronata","Broj PSA patronata","Naziv fotografije",null,"Nagrada","Broj poena za prijem","Broj poena za nagradu","Koeficijent","Konačan broj poena"]
[1,null,null,null,null,null,null,null,null,null,{"$f":"IF(D15=$B$1,$B$6,IF(D15=$C$1,$C$6,IF(D15=$D$1,$D$6,IF(D15=$E$1,$E$6,IF(D15=$F$1,$F$6,IF(D15=$G$1,$G$6,IF(D15=$H$1,$H$6,IF(D15=$I$1,$I$6,IF(D15=$J$1,$J$6,IF(D15=$K$1,$K$6,IF(D15=$L$1,$L$6,0)))))))))))","v":0},{"$f":"IF(OR(D15=\"\",J15=\"\")=TRUE,0,VLOOKUP(J15,$A$1:$L$7,MATCH(D15,$A$1:$L$1,0),FALSE))","v":0},1,{"$f":"(K15+L15)*M15","v":0}]
[2,null,null,null,null,null,null,null,null,null,{"$f":"IF(D16=$B$1,$B$6,IF(D16=$C$1,$C$6,IF(D16=$D$1,$D$6,IF(D16=$E$1,$E$6,IF(D16=$F$1,$F$6,IF(D16=$G$1,$G$6,IF(D16=$H$1,$H$6,IF(D16=$I$1,$I$6,IF(D16=$J$1,$J$6,IF(D16=$K$1,$K$6,IF(D16=$L$1,$L$6,0)))))))))))","v":0},{"$f":"IF(OR(D16=\"\",J16=\"\")=TRUE,0,VLOOKUP(J16,$A$1:$L$7,MATCH(D16,$A$1:$L$1,0),FALSE))","v":0},1,{"$f":"(K16+L16)*M16","v":0}]
[3,null,null,null,null,null,null,null,null,null,0,0,1,0]
[4,null,null,null,null,null,null,null,null,null,0,0,1,0]
[5,null,null,null,null,null,null,null,null,null,0,0,1,0]
[6,null,null,null,null,null,null,null,null,null,0,0,1,0]
[7,null,null,null,null,null,null,null,null,null,0,0,1,0]
[8,null,null,null,null,null,null,null,null,null,0,0,1,0]
[9,null,null,null,null,null,null,null,null,null,0,0,1,0]
[10,null,null,null,null,null,null,null,null,null,0,0,1,0]
[11,null,null,null,null,null,null,null,null,null,0,0,1,0]
[12,null,null,null,null,null,null,null,null,null,0,0,1,0]
[13,null,null,null,null,null,null,null,null,null,0,0,1,0]
[14,null,null,null,null,null,null,null,null,null,0,0,1,0]
[15,null,null,null,null,null,null,null,null,null,0,0,1,0]
[16,null,null,null,null,null,null,null,null,null,0,0,1,0]
[17,null,null,null,null,null,null,null,null,null,0,0,1,0]
[18,null,null,null,null,null,null,null,null,null,0,0,1,0]
[19,null,null,null,null,null,null,null,null,null,0,0,1,0]
[20,null,null,null,null,null,null,null,null,null,0,0,1,0]
[21,null,null,null,null,null,null,null,null,null,0,0,1,0]
[22,null,null,null,null,null,null,null,null,null,0,0,1,0]
[23,null,null,null,null,null,null,null,null,null,0,0,1,0]
[24,null,null,null,null,null,null,null,null,null,0,0,1,0]
[25,null,null,null,null,null,null,null,null,null,0,0,1,0]
[26,null,null,null,null,null,null,null,null,null,0,0,1,0]
[27,null,null,null,null,null,null,null,null,null,0,0,1,0]
[28,null,null,null,null,null,null,null,null,null,0,0,1,0]
[29,null,null,null,null,null,null,null,null,null,0,0,1,0]
[30,null,null,null,null,null,null,null,null,null,0,0,1,0]
[31,null,null,null,null,null,null,null,null,null,0,0,1,0]
[32,null,null,null,null,null,null,null,null,null,0,0,1,0]
[33,null,null,null,null,null,null,null,null,null,0,0,1,0]
[34,null,null,null,null,null,null,null,null,null,0,0,1,0]
[35,null,null,null,null,null,null,null,null,null,0,0,1,0]
[36,null,null,null,null,null,null,null,null,null,0,0,1,0]
[37,null,null,null,null,null,null,null,null,null,0,0,1,0]
[38,null,null,null,null,null,null,null,null,null,0,0,1,0]
[39,null,null,null,null,null,null,null,null,null,0,0,1,0]
[40,null,null,null,null,null,null,null,null,null,0,0,1,0]
[41,null,null,null,null,null,null,null,null,null,0,0,1,0]
[42,null,null,null,null,null,null,null,null,null,0,0,1,0]
[43,null,null,null,null,null,null,null,null,null,0,0,1,0]
[44,null,null,null,null,null,null,null,null,null,0,0,1,0]
[45,null,null,null,null,null,null,null,null,null,0,0,1,0]
[46,null,null,null,null,null,null,null,null,null,0,0,1,0]
[47,null,null,null,null,null,null,null,null,null,0,0,1,0]
[48,null,null,null,null,null,null,null,null,null,0,0,1,0]
[49,null,null,null,null,null,null,null,null,null,0,0,1,0]
[50,null,null,null,null,null,null,null,null,null,0,0,1,0]
[51,null,null,null,null,null,null,null,null,null,0,0,1,0]
[52,null,null,null,null,null,null,null,null,null,0,0,1,0]
[53,null,null,null,null,null,null,null,null,null,0,0,1,0]
[54,null,null,null,null,null,null,null,null,null,0,0,1,0]
[55,null,null,null,null,null,null,null,null,null,0,0,1,0]
[56,null,null,null,null,null,null,null,null,null,0,0,1,0]
[57,null,null,null,null,null,null,null,null,null,0,0,1,0]
[58,null,null,null,null,null,null,null,null,null,0,0,1,0]
[59,null,null,null,null,null,null,null,null,null,0,0,1,0]
[60,null,null,null,null,null,null,null,null,null,0,0,1,0]
[61,null,null,null,null,null,null,null,null,null,0,0,1,0]
[62,null,null,null,null,null,null,null,null,null,0,0,1,0]
[63,null,null,null,null,null,null,null,null,null,0,0,1,0]
[64,null,null,null,null,null,null,null,null,null,0,0,1,0]
[65,null,null,null,null,null,null,null,null,null,0,0,1,0]
[66,null,null,null,null,null,null,null,null,null,{"$f":"IF(D80=$B$1,$B$6,IF(D80=$C$1,$C$6,IF(D80=$D$1,$D$6,IF(D80=$E$1,$E$6,IF(D80=$F$1,$F$6,IF(D80=$G$1,$G$6,IF(D80=$H$1,$H$6,IF(D80=$I$1,$I$6,IF(D80=$J$1,$J$6,IF(D80=$K$1,$K$6,IF(D80=$L$1,$L$6,0)))))))))))","v":0},{"$f":"IF(OR(D80=\"\",J80=\"\")=TRUE,0,VLOOKUP(J80,$A$1:$L$7,MATCH(D80,$A$1:$L$1,0),FALSE))","v":0},1,{"$f":"(K80+L80)*M80","v":0}]
[67,null,null,null,null,null,null,null,null,null,0,0,1,0]
[68,null,null,null,null,null,null,null,null,null,0,0,1,0]
[69,null,null,null,null,null,null,null,null,null,0,0,1,0]
[70,null,null,null,null,null,null,null,null,null,0,0,1,0]
[71,null,null,null,null,null,null,null,null,null,0,0,1,0]
[72,null,null,null,null,null,null,null,null,null,0,0,1,0]
[73,null,null,null,null,null,null,null,null,null,0,0,1,0]
[74,null,null,null,null,null,null,null,null,null,0,0,1,0]
[75,null,null,null,null,null,null,null,null,null,0,0,1,0]
[76,null,null,null,null,null,null,null,null,null,0,0,1,0]
[77,null,null,null,null,null,null,null,null,null,0,0,1,0]
[78,null,null,null,null,null,null,null,null,null,0,0,1,0]
[79,null,null,null,null,null,null,null,null,null,0,0,1,0]
[80,null,null,null,null,null,null,null,null,null,0,0,1,0]
[81,null,null,null,null,null,null,null,null,null,0,0,1,0]
[82,null,null,null,null,null,null,null,null,null,0,0,1,0]
[83,null,null,null,null,null,null,null,null,null,0,0,1,0]
[84,null,null,null,null,null,null,null,null,null,0,0,1,0]
[85,null,null,null,null,null,null,null,null,null,0,0,1,0]
[86,null,null,null,null,null,null,null,null,null,0,0,1,0]
[87,null,null,null,null,null,null,null,null,null,0,0,1,0]
[88,null,null,null,null,null,null,null,null,null,0,0,1,0]
[89,null,null,null,null,null,null,null,null,null,0,0,1,0]
[90,null,null,null,null,null,null,null,null,null,0,0,1,0]
[91,null,null,null,null,null,null,null,null,null,0,0,1,0]
[92,null,null,null,null,null,null,null,null,null,0,0,1,0]
[93,null,null,null,null,null,null,null,null,null,0,0,1,0]
[94,null,null,null,null,null,null,null,null,null,0,0,1,0]
[95,null,null,null,null,null,null,null,null,null,0,0,1,0]
[96,null,null,null,null,null,null,null,null,null,0,0,1,0]
[97,null,null,null,null,null,null,null,null,null,0,0,1,0]
[98,null,null,null,null,null,null,null,null,null,0,0,1,0]
[99,null,null,null,null,null,null,null,null,null,0,0,1,0]
[100,null,null,null,null,null,null,null,null,null,0,0,1,0]
[101,null,null,null,null,null,null,null,null,null,0,0,1,0]
[102,null,null,null,null,null,null,null,null,null,0,0,1,0]
[103,null,null,null,null,null,null,null,null,null,0,0,1,0]
[104,null,null,null,null,null,null,null,null,null,0,0,1,0]
[105,null,null,null,null,null,null,null,null,null,0,0,1,0]
[106,null,null,null,null,null,null,null,null,null,0,0,1,0]
[107,null,null,null,null,null,null,null,null,null,0,0,1,0]
[108,null,null,null,null,null,null,null,null,null,0,0,1,0]
[109,null,null,null,null,null,null,null,null,null,0,0,1,0]
[110,null,null,null,null,null,null,null,null,null,0,0,1,0]
[111,null,null,null,null,null,null,null,null,null,0,0,1,0]
[112,null,null,null,null,null,null,null,null,null,0,0,1,0]
[113,null,null,null,null,null,null,null,null,null,0,0,1,0]
[114,null,null,null,null,null,null,null,null,null,0,0,1,0]
[115,null,null,null,null,null,null,null,null,null,0,0,1,0]
[116,null,null,null,null,null,null,null,null,null,0,0,1,0]
[117,null,null,null,null,null,null,null,null,null,0,0,1,0]
[118,null,null,null,null,null,null,null,null,null,0,0,1,0]
[119,null,null,null,null,null,null,null,null,null,0,0,1,0]
[120,null,null,null,null,null,null,null,null,null,0,0,1,0]
[121,null,null,null,null,null,null,null,null,null,0,0,1,0]
[122,null,null,null,null,null,null,null,null,null,0,0,1,0]
[123,null,null,null,null,null,null,null,null,null,0,0,1,0]
[124,null,null,null,null,null,null,null,null,null,0,0,1,0]
[125,null,null,null,null,null,null,null,null,null,0,0,1,0]
[126,null,null,null,null,null,null,null,null,null,0,0,1,0]
[127,null,null,null,null,null,null,null,null,null,0,0,1,0]
[128,null,null,null,null,null,null,null,null,null,0,0,1,0]
[129,null,null,null,null,null,null,null,null,null,0,0,1,0]
[130,null,null,null,null,null,null,null,null,null,{"$f":"IF(D144=$B$1,$B$6,IF(D144=$C$1,$C$6,IF(D144=$D$1,$D$6,IF(D144=$E$1,$E$6,IF(D144=$F$1,$F$6,IF(D144=$G$1,$G$6,IF(D144=$H$1,$H$6,IF(D144=$I$1,$I$6,IF(D144=$J$1,$J$6,IF(D144=$K$1,$K$6,IF(D144=$L$1,$L$6,0)))))))))))","v":0},{"$f":"IF(OR(D144=\"\",J144=\"\")=TRUE,0,VLOOKUP(J144,$A$1:$L$7,MATCH(D144,$A$1:$L$1,0),FALSE))","v":0},1,{"$f":"(K144+L144)*M144","v":0}]
[131,null,null,null,null,null,null,null,null,null,0,0,1,0]
[132,null,null,null,null,null,null,null,null,null,0,0,1,0]
[133,null,null,null,null,null,null,null,null,null,0,0,1,0]
[134,null,null,null,null,null,null,null,null,null,0,0,1,0]
[135,null,null,null,null,null,null,null,null,null,0,0,1,0]
[136,null,null,null,null,null,null,null,null,null,0,0,1,0]
[137,null,null,null,null,null,null,null,null,null,0,0,1,0]
[138,null,null,null,null,null,null,null,null,null,0,0,1,0]
[139,null,null,null,null,null,null,null,null,null,0,0,1,0]
[140,null,null,null,null,null,null,null,null,null,0,0,1,0]
[141,null,null,null,null,null,null,null,null,null,0,0,1,0]
[142,null,null,null,null,null,null,null,null,null,0,0,1,0]
[143,null,null,null,null,null,null,null,null,null,0,0,1,0]
[144,null,null,null,null,null,null,null,null,null,0,0,1,0]
[145,null,null,null,null,null,null,null,null,null,0,0,1,0]
[146,null,null,null,null,null,null,null,null,null,0,0,1,0]
[147,null,null,null,null,null,null,null,null,null,0,0,1,0]
[148,null,null,null,null,null,null,null,null,null,0,0,1,0]
[149,null,null,null,null,null,null,null,null,null,0,0,1,0]
[150,null,null,null,null,null,null,null,null,null,0,0,1,0]
[151,null,null,null,null,null,null,null,null,null,0,0,1,0]
[152,null,null,null,null,null,null,null,null,null,0,0,1,0]
[153,null,null,null,null,null,null,null,null,null,0,0,1,0]
[154,null,null,null,null,null,null,null,null,null,0,0,1,0]
[155,null,null,null,null,null,null,null,null,null,0,0,1,0]
[156,null,null,null,null,null,null,null,null,null,0,0,1,0]
[157,null,null,null,null,null,null,null,null,null,0,0,1,0]
[158,null,null,null,null,null,null,null,null,null,0,0,1,0]
[159,null,null,null,null,null,null,null,null,null,0,0,1,0]
[160,null,null,null,null,null,null,null,null,null,0,0,1,0]
[161,null,null,null,null,null,null,null,null,null,0,0,1,0]
[162,null,null,null,null,null,null,null,null,null,0,0,1,0]
[163,null,null,null,null,null,null,null,null,null,0,0,1,0]
[164,null,null,null,null,null,null,null,null,null,0,0,1,0]
[165,null,null,null,null,null,null,null,null,null,0,0,1,0]
[166,null,null,null,null,null,null,null,null,null,0,0,1,0]
[167,null,null,null,null,null,null,null,null,null,0,0,1,0]
[168,null,null,null,null,null,null,null,null,null,0,0,1,0]
[169,null,null,null,null,null,null,null,null,null,0,0,1,0]
[170,null,null,null,null,null,null,null,null,null,0,0,1,0]
[171,null,null,null,null,null,null,null,null,null,0,0,1,0]
[172,null,null,null,null,null,null,null,null,null,0,0,1,0]
[173,null,null,null,null,null,null,null,null,null,0,0,1,0]
[174,null,null,null,null,null,null,null,null,null,0,0,1,0]
[175,null,null,null,null,null,null,null,null,null,0,0,1,0]
[176,null,null,null,null,null,null,null,null,null,0,0,1,0]
[177,null,null,null,null,null,null,null,null,null,0,0,1,0]
[178,null,null,null,null,null,null,null,null,null,0,0,1,0]
[179,null,null,null,null,null,null,null,null,null,0,0,1,0]
[180,null,null,null,null,null,null,null,null,null,0,0,1,0]
[181,null,null,null,null,null,null,null,null,null,0,0,1,0]
[182,null,null,null,null,null,null,null,null,null,0,0,1,0]
[183,null,null,null,null,null,null,null,null,null,0,0,1,0]
[184,null,null,null,null,null,null,null,null,null,0,0,1,0]
[185,null,null,null,null,null,null,null,null,null,0,0,1,0]
[186,null,null,null,null,null,null,null,null,null,0,0,1,0]
[187,null,null,null,null,null,null,null,null,null,0,0,1,0]
[188,null,null,null,null,null,null,null,null,null,0,0,1,0]
[189,null,null,null,null,null,null,null,null,null,0,0,1,0]
[190,null,null,null,null,null,null,null,null,null,0,0,1,0]
[191,null,null,null,null,null,null,null,null,null,0,0,1,0]
[192,null,null,null,null,null,null,null,null,null,0,0,1,0]
[193,null,null,null,null,null,null,null,null,null,0,0,1,0]
[194,null,null,null,null,null,null,null,null,null,{"$f":"IF(D208=$B$1,$B$6,IF(D208=$C$1,$C$6,IF(D208=$D$1,$D$6,IF(D208=$E$1,$E$6,IF(D208=$F$1,$F$6,IF(D208=$G$1,$G$6,IF(D208=$H$1,$H$6,IF(D208=$I$1,$I$6,IF(D208=$J$1,$J$6,IF(D208=$K$1,$K$6,IF(D208=$L$1,$L$6,0)))))))))))","v":0},{"$f":"IF(OR(D208=\"\",J208=\"\")=TRUE,0,VLOOKUP(J208,$A$1:$L$7,MATCH(D208,$A$1:$L$1,0),FALSE))","v":0},1,{"$f":"(K208+L208)*M208","v":0}]
[195,null,null,null,null,null,null,null,null,null,0,0,1,0]
[196,null,null,null,null,null,null,null,null,null,0,0,1,0]
[197,null,null,null,null,null,null,null,null,null,0,0,1,0]
[198,null,null,null,null,null,null,null,null,null,0,0,1,0]
[199,null,null,null,null,null,null,null,null,null,0,0,1,0]
[200,null,null,null,null,null,null,null,null,null,0,0,1,0]
[201,null,null,null,null,null,null,null,null,null,0,0,1,0]
[202,null,null,null,null,null,null,null,null,null,0,0,1,0]
[203,null,null,null,null,null,null,null,null,null,0,0,1,0]
[204,null,null,null,null,null,null,null,null,null,0,0,1,0]
[205,null,null,null,null,null,null,null,null,null,0,0,1,0]
[206,null,null,null,null,null,null,null,null,null,0,0,1,0]
[207,null,null,null,null,null,null,null,null,null,0,0,1,0]
[208,null,null,null,null,null,null,null,null,null,0,0,1,0]
[209,null,null,null,null,null,null,null,null,null,0,0,1,0]
[210,null,null,null,null,null,null,null,null,null,0,0,1,0]
[211,null,null,null,null,null,null,null,null,null,0,0,1,0]
[212,null,null,null,null,null,null,null,null,null,0,0,1,0]
[213,null,null,null,null,null,null,null,null,null,0,0,1,0]
[214,null,null,null,null,null,null,null,null,null,0,0,1,0]
[215,null,null,null,null,null,null,null,null,null,0,0,1,0]
[216,null,null,null,null,null,null,null,null,null,0,0,1,0]
[217,null,null,null,null,null,null,null,null,null,0,0,1,0]
[218,null,null,null,null,null,null,null,null,null,0,0,1,0]
[219,null,null,null,null,null,null,null,null,null,0,0,1,0]
[220,null,null,null,null,null,null,null,null,null,0,0,1,0]
[221,null,null,null,null,null,null,null,null,null,0,0,1,0]
[222,null,null,null,null,null,null,null,null,null,0,0,1,0]
[223,null,null,null,null,null,null,null,null,null,0,0,1,0]
[224,null,null,null,null,null,null,null,null,null,0,0,1,0]
[225,null,null,null,null,null,null,null,null,null,0,0,1,0]
[226,null,null,null,null,null,null,null,null,null,0,0,1,0]
[227,null,null,null,null,null,null,null,null,null,0,0,1,0]
[228,null,null,null,null,null,null,null,null,null,0,0,1,0]
[229,null,null,null,null,null,null,null,null,null,0,0,1,0]
[230,null,null,null,null,null,null,null,null,null,0,0,1,0]
[231,null,null,null,null,null,null,null,null,null,0,0,1,0]
[232,null,null,null,null,null,null,null,null,null,0,0,1,0]
[233,null,null,null,null,null,null,null,null,null,0,0,1,0]
[234,null,null,null,null,null,null,null,null,null,0,0,1,0]
[235,null,null,null,null,null,null,null,null,null,0,0,1,0]
[236,null,null,null,null,null,null,null,null,null,0,0,1,0]
[237,null,null,null,null,null,null,null,null,null,0,0,1,0]
[238,null,null,null,null,null,null,null,null,null,0,0,1,0]
[239,null,null,null,null,null,null,null,null,null,0,0,1,0]
[240,null,null,null,null,null,null,null,null,null,0,0,1,0]
[241,null,null,null,null,null,null,null,null,null,0,0,1,0]
[242,null,null,null,null,null,null,null,null,null,0,0,1,0]
[243,null,null,null,null,null,null,null,null,null,0,0,1,0]
[244,null,null,null,null,null,null,null,null,null,0,0,1,0]
[245,null,null,null,null,null,null,null,null,null,0,0,1,0]
[246,null,null,null,null,null,null,null,null,null,0,0,1,0]
[247,null,null,null,null,null,null,null,null,null,0,0,1,0]
[248,null,null,null,null,null,null,null,null,null,0,0,1,0]
[249,null,null,null,null,null,null,null,null,null,0,0,1,0]
[250,null,null,null,null,null,null,null,null,null,0,0,1,0]
[251,null,null,null,null,null,null,null,null,null,0,0,1,0]
[252,null,null,null,null,null,null,null,null,null,0,0,1,0]
[253,null,null,null,null,null,null,null,null,null,0,0,1,0]
[254,null,null,null,null,null,null,null,null,null,0,0,1,0]
[255,null,null,null,null,null,null,null,null,null,0,0,1,0]
[256,null,null,null,null,null,null,null,null,null,0,0,1,0]
[257,null,null,null,null,null,null,null,null,null,0,0,1,0]
[258,null,null,null,null,null,null,null,null,null,{"$f":"IF(D272=$B$1,$B$6,IF(D272=$C$1,$C$6,IF(D272=$D$1,$D$6,IF(D272=$E$1,$E$6,IF(D272=$F$1,$F$6,IF(D272=$G$1,$G$6,IF(D272=$H$1,$H$6,IF(D272=$I$1,$I$6,IF(D272=$J$1,$J$6,IF(D272=$K$1,$K$6,IF(D272=$L$1,$L$6,0)))))))))))","v":0},{"$f":"IF(OR(D272=\"\",J272=\"\")=TRUE,0,VLOOKUP(J272,$A$1:$L$7,MATCH(D272,$A$1:$L$1,0),FALSE))","v":0},1,{"$f":"(K272+L272)*M272","v":0}]
[259,null,null,null,null,null,null,null,null,null,0,0,1,0]
[260,null,null,null,null,null,null,null,null,null,0,0,1,0]
[261,null,null,null,null,null,null,null,null,null,0,0,1,0]
[262,null,null,null,null,null,null,null,null,null,0,0,1,0]
[263,null,null,null,null,null,null,null,null,null,0,0,1,0]
[264,null,null,null,null,null,null,null,null,null,0,0,1,0]
[265,null,null,null,null,null,null,null,null,null,0,0,1,0]
[266,null,null,null,null,null,null,null,null,null,0,0,1,0]
[267,null,null,null,null,null,null,null,null,null,0,0,1,0]
[268,null,null,null,null,null,null,null,null,null,0,0,1,0]
[269,null,null,null,null,null,null,null,null,null,0,0,1,0]
[270,null,null,null,null,null,null,null,null,null,0,0,1,0]
[271,null,null,null,null,null,null,null,null,null,0,0,1,0]
[272,null,null,null,null,null,null,null,null,null,0,0,1,0]
[273,null,null,null,null,null,null,null,null,null,0,0,1,0]
[274,null,null,null,null,null,null,null,null,null,0,0,1,0]
[275,null,null,null,null,null,null,null,null,null,0,0,1,0]
[276,null,null,null,null,null,null,null,null,null,0,0,1,0]
[277,null,null,null,null,null,null,null,null,null,0,0,1,0]
[278,null,null,null,null,null,null,null,null,null,0,0,1,0]
[279,null,null,null,null,null,null,null,null,null,0,0,1,0]
[280,null,null,null,null,null,null,null,null,null,0,0,1,0]
[281,null,null,null,null,null,null,null,null,null,0,0,1,0]
[282,null,null,null,null,null,null,null,null,null,0,0,1,0]
[283,null,null,null,null,null,null,null,null,null,0,0,1,0]
[284,null,null,null,null,null,null,null,null,null,0,0,1,0]
[285,null,null,null,null,null,null,null,null,null,0,0,1,0]
[286,null,null,null,null,null,null,null,null,null,0,0,1,0]
[287,null,null,null,null,null,null,null,null,null,0,0,1,0]
[288,null,null,null,null,null,null,null,null,null,0,0,1,0]
[289,null,null,null,null,null,null,null,null,null,0,0,1,0]
[290,null,null,null,null,null,null,null,null,null,0,0,1,0]
[291,null,null,null,null,null,null,null,null,null,0,0,1,0]
[292,null,null,null,null,null,null,null,null,null,0,0,1,0]
[293,null,null,null,null,null,null,null,null,null,0,0,1,0]
[294,null,null,null,null,null,null,null,null,null,0,0,1,0]
[295,null,null,null,null,null,null,null,null,null,0,0,1,0]
[296,null,null,null,null,null,null,null,null,null,0,0,1,0]
[297,null,null,null,null,null,null,null,null,null,0,0,1,0]
[298,null,null,null,null,null,null,null,null,null,0,0,1,0]
[299,null,null,null,null,null,null,null,null,null,0,0,1,0]
[300,null,null,null,null,null,null,null,null,null,0,0,1,0]
[301,null,null,null,null,null,null,null,null,null,0,0,1,0]
[302,null,null,null,null,null,null,null,null,null,0,0,1,0]
[303,null,null,null,null,null,null,null,null,null,0,0,1,0]
[304,null,null,null,null,null,null,null,null,null,0,0,1,0]
[305,null,null,null,null,null,null,null,null,null,0,0,1,0]
[306,null,null,null,null,null,null,null,null,null,0,0,1,0]
[307,null,null,null,null,null,null,null,null,null,0,0,1,0]
[308,null,null,null,null,null,null,null,null,null,0,0,1,0]
[309,null,null,null,null,null,null,null,null,null,0,0,1,0]
[310,null,null,null,null,null,null,null,null,null,0,0,1,0]
[311,null,null,null,null,null,null,null,null,null,0,0,1,0]
[312,null,null,null,null,null,null,null,null,null,0,0,1,0]
[313,null,null,null,null,null,null,null,null,null,0,0,1,0]
[314,null,null,null,null,null,null,null,null,null,0,0,1,0]
[315,null,null,null,null,null,null,null,null,null,0,0,1,0]
[316,null,null,null,null,null,null,null,null,null,0,0,1,0]
[317,null,null,null,null,null,null,null,null,null,0,0,1,0]
[318,null,null,null,null,null,null,null,null,null,0,0,1,0]
[319,null,null,null,null,null,null,null,null,null,0,0,1,0]
[320,null,null,null,null,null,null,null,null,null,0,0,1,0]
[321,null,null,null,null,null,null,null,null,null,0,0,1,0]
[322,null,null,null,null,null,null,null,null,null,{"$f":"IF(D336=$B$1,$B$6,IF(D336=$C$1,$C$6,IF(D336=$D$1,$D$6,IF(D336=$E$1,$E$6,IF(D336=$F$1,$F$6,IF(D336=$G$1,$G$6,IF(D336=$H$1,$H$6,IF(D336=$I$1,$I$6,IF(D336=$J$1,$J$6,IF(D336=$K$1,$K$6,IF(D336=$L$1,$L$6,0)))))))))))","v":0},{"$f":"IF(OR(D336=\"\",J336=\"\")=TRUE,0,VLOOKUP(J336,$A$1:$L$7,MATCH(D336,$A$1:$L$1,0),FALSE))","v":0},1,{"$f":"(K336+L336)*M336","v":0}]
[323,null,null,null,null,null,null,null,null,null,0,0,1,0]
[324,null,null,null,null,null,null,null,null,null,0,0,1,0]
[325,null,null,null,null,null,null,null,null,null,0,0,1,0]
[326,null,null,null,null,null,null,null,null,null,0,0,1,0]
[327,null,null,null,null,null,null,null,null,null,0,0,1,0]
[328,null,null,null,null,null,null,null,null,null,0,0,1,0]
[329,null,null,null,null,null,null,null,null,null,0,0,1,0]
[330,null,null,null,null,null,null,null,null,null,0,0,1,0]
[331,null,null,null,null,null,null,null,null,null,0,0,1,0]
[332,null,null,null,null,null,null,null,null,null,0,0,1,0]
[333,null,null,null,null,null,null,null,null,null,0,0,1,0]
[334,null,null,null,null,null,null,null,null,null,0,0,1,0]
[335,null,null,null,null,null,null,null,null,null,0,0,1,0]
[336,null,null,null,null,null,null,null,null,null,0,0,1,0]
[337,null,null,null,null,null,null,null,null,null,0,0,1,0]
[338,null,null,null,null,null,null,null,null,null,0,0,1,0]
[339,null,null,null,null,null,null,null,null,null,0,0,1,0]
[340,null,null,null,null,null,null,null,null,null,0,0,1,0]
[341,null,null,null,null,null,null,null,null,null,0,0,1,0]
[342,null,null,null,null,null,null,null,null,null,0,0,1,0]
[343,null,null,null,null,null,null,null,null,null,0,0,1,0]
[344,null,null,null,null,null,null,null,null,null,0,0,1,0]
[345,null,null,null,null,null,null,null,null,null,0,0,1,0]
[346,null,null,null,null,null,null,null,null,null,0,0,1,0]
[347,null,null,null,null,null,null,null,null,null,0,0,1,0]
[348,null,null,null,null,null,null,null,null,null,0,0,1,0]
[349,null,null,null,null,null,null,null,null,null,0,0,1,0]
[350,null,null,null,null,null,null,null,null,null,0,0,1,0]
[351,null,null,null,null,null,null,null,null,null,0,0,1,0]
[352,null,null,null,null,null,null,null,null,null,0,0,1,0]
[353,null,null,null,null,null,null,null,null,null,0,0,1,0]
[354,null,null,null,null,null,null,null,null,null,0,0,1,0]
[355,null,null,null,null,null,null,null,null,null,0,0,1,0]
[356,null,null,null,null,null,null,null,null,null,0,0,1,0]
[357,null,null,null,null,null,null,null,null,null,0,0,1,0]
[358,null,null,null,null,null,null,null,null,null,0,0,1,0]
[359,null,null,null,null,null,null,null,null,null,0,0,1,0]
[360,null,null,null,null,null,null,null,null,null,0,0,1,0]
[361,null,null,null,null,null,null,null,null,null,0,0,1,0]
[362,null,null,null,null,null,null,null,null,null,0,0,1,0]
[363,null,null,null,null,null,null,null,null,null,0,0,1,0]
[364,null,null,null,null,null,null,null,null,null,0,0,1,0]
[365,null,null,null,null,null,null,null,null,null,0,0,1,0]
[366,null,null,null,null,null,null,null,null,null,0,0,1,0]
[367,null,null,null,null,null,null,null,null,null,0,0,1,0]
[368,null,null,null,null,null,null,null,null,null,0,0,1,0]
[369,null,null,null,null,null,null,null,null,null,0,0,1,0]
[370,null,null,null,null,null,null,null,null,null,0,0,1,0]
[371,null,null,null,null,null,null,null,null,null,0,0,1,0]
[372,null,null,null,null,null,null,null,null,null,0,0,1,0]
[373,null,null,null,null,null,null,null,null,null,0,0,1,0]
[374,null,null,null,null,null,null,null,null,null,0,0,1,0]
[375,null,null,null,null,null,null,null,null,null,0,0,1,0]
[376,null,null,null,null,null,null,null,null,null,0,0,1,0]
[377,null,null,null,null,null,null,null,null,null,0,0,1,0]
[378,null,null,null,null,null,null,null,null,null,0,0,1,0]
[379,null,null,null,null,null,null,null,null,null,0,0,1,0]
[380,null,null,null,null,null,null,null,null,null,0,0,1,0]
[381,null,null,null,null,null,null,null,null,null,0,0,1,0]
[382,null,null,null,null,null,null,null,null,null,0,0,1,0]
[383,null,null,null,null,null,null,null,null,null,0,0,1,0]
[384,null,null,null,null,null,null,null,null,null,0,0,1,0]
[385,null,null,null,null,null,null,null,null,null,0,0,1,0]
[386,null,null,null,null,null,null,null,null,null,{"$f":"IF(D400=$B$1,$B$6,IF(D400=$C$1,$C$6,IF(D400=$D$1,$D$6,IF(D400=$E$1,$E$6,IF(D400=$F$1,$F$6,IF(D400=$G$1,$G$6,IF(D400=$H$1,$H$6,IF(D400=$I$1,$I$6,IF(D400=$J$1,$J$6,IF(D400=$K$1,$K$6,IF(D400=$L$1,$L$6,0)))))))))))","v":0},{"$f":"IF(OR(D400=\"\",J400=\"\")=TRUE,0,VLOOKUP(J400,$A$1:$L$7,MATCH(D400,$A$1:$L$1,0),FALSE))","v":0},1,{"$f":"(K400+L400)*M400","v":0}]
[387,null,null,null,null,null,null,null,null,null,0,0,1,0]
[388,null,null,null,null,null,null,null,null,null,0,0,1,0]
[389,null,null,null,null,null,null,null,null,null,0,0,1,0]
[390,null,null,null,null,null,null,null,null,null,0,0,1,0]
[391,null,null,null,null,null,null,null,null,null,0,0,1,0]
[392,null,null,null,null,null,null,null,null,null,0,0,1,0]
[393,null,null,null,null,null,null,null,null,null,0,0,1,0]
[394,null,null,null,null,null,null,null,null,null,0,0,1,0]
[395,null,null,null,null,null,null,null,null,null,0,0,1,0]
[396,null,null,null,null,null,null,null,null,null,0,0,1,0]
[397,null,null,null,null,null,null,null,null,null,0,0,1,0]
[398,null,null,null,null,null,null,null,null,null,0,0,1,0]
[399,null,null,null,null,null,null,null,null,null,0,0,1,0]
[400,null,null,null,null,null,null,null,null,null,0,0,1,0]
[401,null,null,null,null,null,null,null,null,null,0,0,1,0]
[402,null,null,null,null,null,null,null,null,null,0,0,1,0]
[403,null,null,null,null,null,null,null,null,null,0,0,1,0]
[404,null,null,null,null,null,null,null,null,null,0,0,1,0]
[405,null,null,null,null,null,null,null,null,null,0,0,1,0]
[406,null,null,null,null,null,null,null,null,null,0,0,1,0]
[407,null,null,null,null,null,null,null,null,null,0,0,1,0]
[408,null,null,null,null,null,null,null,null,null,0,0,1,0]
[409,null,null,null,null,null,null,null,null,null,0,0,1,0]
[410,null,null,null,null,null,null,null,null,null,0,0,1,0]
[411,null,null,null,null,null,null,null,null,null,0,0,1,0]
[412,null,null,null,null,null,null,null,null,null,0,0,1,0]
[413,null,null,null,null,null,null,null,null,null,0,0,1,0]
[414,null,null,null,null,null,null,null,null,null,0,0,1,0]
[415,null,null,null,null,null,null,null,null,null,0,0,1,0]
[416,null,null,null,null,null,null,null,null,null,0,0,1,0]
[417,null,null,null,null,null,null,null,null,null,0,0,1,0]
[418,null,null,null,null,null,null,null,null,null,0,0,1,0]
[419,null,null,null,null,null,null,null,null,null,0,0,1,0]
[420,null,null,null,null,null,null,null,null,null,0,0,1,0]
[421,null,null,null,null,null,null,null,null,null,0,0,1,0]
[422,null,null,null,null,null,null,null,null,null,0,0,1,0]
[423,null,null,null,null,null,null,null,null,null,0,0,1,0]
[424,null,null,null,null,null,null,null,null,null,0,0,1,0]
[425,null,null,null,null,null,null,null,null,null,0,0,1,0]
[426,null,null,null,null,null,null,null,null,null,0,0,1,0]
[427,null,null,null,null,null,null,null,null,null,0,0,1,0]
[428,null,null,null,null,null,null,null,null,null,0,0,1,0]
[429,null,null,null,null,null,null,null,null,null,0,0,1,0]
[430,null,null,null,null,null,null,null,null,null,0,0,1,0]
[431,null,null,null,null,null,null,null,null,null,0,0,1,0]
[432,null,null,null,null,null,null,null,null,null,0,0,1,0]
[433,null,null,null,null,null,null,null,null,null,0,0,1,0]
[434,null,null,null,null,null,null,null,null,null,0,0,1,0]
[435,null,null,null,null,null,null,null,null,null,0,0,1,0]
[436,null,null,null,null,null,null,null,null,null,0,0,1,0]
[437,null,null,null,null,null,null,null,null,null,0,0,1,0]
[438,null,null,null,null,null,null,null,null,null,0,0,1,0]
[439,null,null,null,null,null,null,null,null,null,0,0,1,0]
[440,null,null,null,null,null,null,null,null,null,0,0,1,0]
[441,null,null,null,null,null,null,null,null,null,0,0,1,0]
[442,null,null,null,null,null,null,null,null,null,0,0,1,0]
[443,null,null,null,null,null,null,null,null,null,0,0,1,0]
[444,null,null,null,null,null,null,null,null,null,0,0,1,0]
[445,null,null,null,null,null,null,null,null,null,0,0,1,0]
[446,null,null,null,null,null,null,null,null,null,0,0,1,0]
[447,null,null,null,null,null,null,null,null,null,0,0,1,0]
[448,null,null,null,null,null,null,null,null,null,0,0,1,0]
[449,null,null,null,null,null,null,null,null,null,0,0,1,0]
[450,null,null,null,null,null,null,null,null,null,{"$f":"IF(D464=$B$1,$B$6,IF(D464=$C$1,$C$6,IF(D464=$D$1,$D$6,IF(D464=$E$1,$E$6,IF(D464=$F$1,$F$6,IF(D464=$G$1,$G$6,IF(D464=$H$1,$H$6,IF(D464=$I$1,$I$6,IF(D464=$J$1,$J$6,IF(D464=$K$1,$K$6,IF(D464=$L$1,$L$6,0)))))))))))","v":0},{"$f":"IF(OR(D464=\"\",J464=\"\")=TRUE,0,VLOOKUP(J464,$A$1:$L$7,MATCH(D464,$A$1:$L$1,0),FALSE))","v":0},1,{"$f":"(K464+L464)*M464","v":0}]
[451,null,null,null,null,null,null,null,null,null,0,0,1,0]
[452,null,null,null,null,null,null,null,null,null,0,0,1,0]
[453,null,null,null,null,null,null,null,null,null,0,0,1,0]
[454,null,null,null,null,null,null,null,null,null,0,0,1,0]
[455,null,null,null,null,null,null,null,null,null,0,0,1,0]
[456,null,null,null,null,null,null,null,null,null,0,0,1,0]
[457,null,null,null,null,null,null,null,null,null,0,0,1,0]
[458,null,null,null,null,null,null,null,null,null,0,0,1,0]
[459,null,null,null,null,null,null,null,null,null,0,0,1,0]
[460,null,null,null,null,null,null,null,null,null,0,0,1,0]
[461,null,null,null,null,null,null,null,null,null,0,0,1,0]
[462,null,null,null,null,null,null,null,null,null,0,0,1,0]
[463,null,null,null,null,null,null,null,null,null,0,0,1,0]
[464,null,null,null,null,null,null,null,null,null,0,0,1,0]
[465,null,null,null,null,null,null,null,null,null,0,0,1,0]
[466,null,null,null,null,null,null,null,null,null,0,0,1,0]
[467,null,null,null,null,null,null,null,null,null,0,0,1,0]
[468,null,null,null,null,null,null,null,null,null,0,0,1,0]
[469,null,null,null,null,null,null,null,null,null,0,0,1,0]
[470,null,null,null,null,null,null,null,null,null,0,0,1,0]
[471,null,null,null,null,null,null,null,null,null,0,0,1,0]
[472,null,null,null,null,null,null,null,null,null,0,0,1,0]
[473,null,null,null,null,null,null,null,null,null,0,0,1,0]
[474,null,null,null,null,null,null,null,null,null,0,0,1,0]
[475,null,null,null,null,null,null,null,null,null,0,0,1,0]
[476,null,null,null,null,null,null,null,null,null,0,0,1,0]
[477,null,null,null,null,null,null,null,null,null,0,0,1,0]
[478,null,null,null,null,null,null,null,null,null,0,0,1,0]
[479,null,null,null,null,null,null,null,null,null,0,0,1,0]
[480,null,null,null,null,null,null,null,null,null,0,0,1,0]
[481,null,null,null,null,null,null,null,null,null,0,0,1,0]
[482,null,null,null,null,null,null,null,null,null,0,0,1,0]
[483,null,null,null,null,null,null,null,null,null,0,0,1,0]
[484,null,null,null,null,null,null,null,null,null,0,0,1,0]
[485,null,null,null,null,null,null,null,null,null,0,0,1,0]
[486,null,null,null,null,null,null,null,null,null,0,0,1,0]
[487,null,null,null,null,null,null,null,null,null,0,0,1,0]
[488,null,null,null,null,null,null,null,null,null,0,0,1,0]
[489,null,null,null,null,null,null,null,null,null,0,0,1,0]
[490,null,null,null,null,null,null,null,null,null,0,0,1,0]
[491,null,null,null,null,null,null,null,null,null,0,0,1,0]
[492,null,null,null,null,null,null,null,null,null,0,0,1,0]
[493,null,null,null,null,null,null,null,null,null,0,0,1,0]
[494,null,null,null,null,null,null,null,null,null,0,0,1,0]
[495,null,null,null,null,null,null,null,null,null,0,0,1,0]
[496,null,null,null,null,null,null,null,null,null,0,0,1,0]
[497,null,null,null,null,null,null,null,null,null,0,0,1,0]
[498,null,null,null,null,null,null,null,null,null,0,0,1,0]
[499,null,null,null,null,null,null,null,null,null,0,0,1,0]
[500,null,null,null,null,null,null,null,null,null,0,0,1,0]
[501,null,null,null,null,null,null,null,null,null,0,0,1,0]
[502,null,null,null,null,null,null,null,null,null,0,0,1,0]
[503,null,null,null,null,null,null,null,null,null,0,0,1,0]
[504,null,null,null,null,null,null,null,null,null,0,0,1,0]
[505,null,null,null,null,null,null,null,null,null,0,0,1,0]
[506,null,null,null,null,null,null,null,null,null,0,0,1,0]
[507,null,null,null,null,null,null,null,null,null,0,0,1,0]
[508,null,null,null,null,null,null,null,null,null,0,0,1,0]
[509,null,null,null,null,null,null,null,null,null,0,0,1,0]
[510,null,null,null,null,null,null,null,null,null,0,0,1,0]
[511,null,null,null,null,null,null,null,null,null,0,0,1,0]
[512,null,null,null,null,null,null,null,null,null,0,0,1,0]
[513,null,null,null,null,null,null,null,null,null,0,0,1,0]
[514,null,null,null,null,null,null,null,null,null,{"$f":"IF(D528=$B$1,$B$6,IF(D528=$C$1,$C$6,IF(D528=$D$1,$D$6,IF(D528=$E$1,$E$6,IF(D528=$F$1,$F$6,IF(D528=$G$1,$G$6,IF(D528=$H$1,$H$6,IF(D528=$I$1,$I$6,IF(D528=$J$1,$J$6,IF(D528=$K$1,$K$6,IF(D528=$L$1,$L$6,0)))))))))))","v":0},{"$f":"IF(OR(D528=\"\",J528=\"\")=TRUE,0,VLOOKUP(J528,$A$1:$L$7,MATCH(D528,$A$1:$L$1,0),FALSE))","v":0},1,{"$f":"(K528+L528)*M528","v":0}]
[515,null,null,null,null,null,null,null,null,null,0,0,1,0]
[516,null,null,null,null,null,null,null,null,null,0,0,1,0]
[517,null,null,null,null,null,null,null,null,null,0,0,1,0]
[518,null,null,null,null,null,null,null,null,null,0,0,1,0]
[519,null,null,null,null,null,null,null,null,null,0,0,1,0]
[520,null,null,null,null,null,null,null,null,null,0,0,1,0]
[521,null,null,null,null,null,null,null,null,null,0,0,1,0]
[522,null,null,null,null,null,null,null,null,null,0,0,1,0]
[523,null,null,null,null,null,null,null,null,null,0,0,1,0]
[524,null,null,null,null,null,null,null,null,null,0,0,1,0]
[525,null,null,null,null,null,null,null,null,null,0,0,1,0]
[526,null,null,null,null,null,null,null,null,null,0,0,1,0]
[527,null,null,null,null,null,null,null,null,null,0,0,1,0]
[528,null,null,null,null,null,null,null,null,null,0,0,1,0]
[529,null,null,null,null,null,null,null,null,null,0,0,1,0]
[530,null,null,null,null,null,null,null,null,null,0,0,1,0]
[531,null,null,null,null,null,null,null,null,null,0,0,1,0]
[532,null,null,null,null,null,null,null,null,null,0,0,1,0]
[533,null,null,null,null,null,null,null,null,null,0,0,1,0]
[534,null,null,null,null,null,null,null,null,null,0,0,1,0]
[535,null,null,null,null,null,null,null,null,null,0,0,1,0]
[536,null,null,null,null,null,null,null,null,null,0,0,1,0]
[537,null,null,null,null,null,null,null,null,null,0,0,1,0]
[538,null,null,null,null,null,null,null,null,null,0,0,1,0]
[539,null,null,null,null,null,null,null,null,null,0,0,1,0]
[540,null,null,null,null,null,null,null,null,null,0,0,1,0]
[541,null,null,null,null,null,null,null,null,null,0,0,1,0]
[542,null,null,null,null,null,null,null,null,null,0,0,1,0]
[543,null,null,null,null,null,null,null,null,null,0,0,1,0]
[544,null,null,null,null,null,null,null,null,null,0,0,1,0]
[545,null,null,null,null,null,null,null,null,null,0,0,1,0]
[546,null,null,null,null,null,null,null,null,null,0,0,1,0]
[547,null,null,null,null,null,null,null,null,null,0,0,1,0]
[548,null,null,null,null,null,null,null,null,null,0,0,1,0]
[549,null,null,null,null,null,null,null,null,null,0,0,1,0]
[550,null,null,null,null,null,null,null,null,null,0,0,1,0]
[551,null,null,null,null,null,null,null,null,null,0,0,1,0]
[552,null,null,null,null,null,null,null,null,null,0,0,1,0]
[553,null,null,null,null,null,null,null,null,null,0,0,1,0]
[554,null,null,null,null,null,null,null,null,null,0,0,1,0]
[555,null,null,null,null,null,null,null,null,null,0,0,1,0]
[556,null,null,null,null,null,null,null,null,null,0,0,1,0]
[557,null,null,null,null,null,null,null,null,null,0,0,1,0]
[558,null,null,null,null,null,null,null,null,null,0,0,1,0]
[559,null,null,null,null,null,null,null,null,null,0,0,1,0]
[560,null,null,null,null,null,null,null,null,null,0,0,1,0]
[561,null,null,null,null,null,null,null,null,null,0,0,1,0]
[562,null,null,null,null,null,null,null,null,null,0,0,1,0]
[563,null,null,null,null,null,null,null,null,null,0,0,1,0]
[564,null,null,null,null,null,null,null,null,null,0,0,1,0]
[565,null,null,null,null,null,null,null,null,null,0,0,1,0]
[566,null,null,null,null,null,null,null,null,null,0,0,1,0]
[567,null,null,null,null,null,null,null,null,null,0,0,1,0]
[568,null,null,null,null,null,null,null,null,null,0,0,1,0]
[569,null,null,null,null,null,null,null,null,null,0,0,1,0]
[570,null,null,null,null,null,null,null,null,null,0,0,1,0]
[571,null,null,null,null,null,null,null,null,null,0,0,1,0]
[572,null,null,null,null,null,null,null,null,null,0,0,1,0]
[573,null,null,null,null,null,null,null,null,null,0,0,1,0]
[574,null,null,null,null,null,null,null,null,null,0,0,1,0]
[575,null,null,null,null,null,null,null,null,null,0,0,1,0]
[576,null,null,null,null,null,null,null,null,null,0,0,1,0]
[577,null,null,null,null,null,null,null,null,null,0,0,1,0]
[578,null,null,null,null,null,null,null,null,null,{"$f":"IF(D592=$B$1,$B$6,IF(D592=$C$1,$C$6,IF(D592=$D$1,$D$6,IF(D592=$E$1,$E$6,IF(D592=$F$1,$F$6,IF(D592=$G$1,$G$6,IF(D592=$H$1,$H$6,IF(D592=$I$1,$I$6,IF(D592=$J$1,$J$6,IF(D592=$K$1,$K$6,IF(D592=$L$1,$L$6,0)))))))))))","v":0},{"$f":"IF(OR(D592=\"\",J592=\"\")=TRUE,0,VLOOKUP(J592,$A$1:$L$7,MATCH(D592,$A$1:$L$1,0),FALSE))","v":0},1,{"$f":"(K592+L592)*M592","v":0}]
[579,null,null,null,null,null,null,null,null,null,0,0,1,0]
[580,null,null,null,null,null,null,null,null,null,0,0,1,0]
[581,null,null,null,null,null,null,null,null,null,0,0,1,0]
[582,null,null,null,null,null,null,null,null,null,0,0,1,0]
[583,null,null,null,null,null,null,null,null,null,0,0,1,0]
[584,null,null,null,null,null,null,null,null,null,0,0,1,0]
[585,null,null,null,null,null,null,null,null,null,0,0,1,0]
[586,null,null,null,null,null,null,null,null,null,0,0,1,0]
[587,null,null,null,null,null,null,null,null,null,0,0,1,0]
[588,null,null,null,null,null,null,null,null,null,0,0,1,0]
[589,null,null,null,null,null,null,null,null,null,0,0,1,0]
[590,null,null,null,null,null,null,null,null,null,0,0,1,0]
[591,null,null,null,null,null,null,null,null,null,0,0,1,0]
[592,null,null,null,null,null,null,null,null,null,0,0,1,0]
[593,null,null,null,null,null,null,null,null,null,0,0,1,0]
[594,null,null,null,null,null,null,null,null,null,0,0,1,0]
[595,null,null,null,null,null,null,null,null,null,0,0,1,0]
[596,null,null,null,null,null,null,null,null,null,0,0,1,0]
[597,null,null,null,null,null,null,null,null,null,0,0,1,0]
[598,null,null,null,null,null,null,null,null,null,0,0,1,0]
[599,null,null,null,null,null,null,null,null,null,0,0,1,0]
[600,null,null,null,null,null,null,null,null,null,0,0,1,0]
[601,null,null,null,null,null,null,null,null,null,0,0,1,0]
[602,null,null,null,null,null,null,null,null,null,0,0,1,0]
[603,null,null,null,null,null,null,null,null,null,0,0,1,0]
[604,null,null,null,null,null,null,null,null,null,0,0,1,0]
[605,null,null,null,null,null,null,null,null,null,0,0,1,0]
[606,null,null,null,null,null,null,null,null,null,0,0,1,0]
[607,null,null,null,null,null,null,null,null,null,0,0,1,0]
[608,null,null,null,null,null,null,null,null,null,0,0,1,0]
[609,null,null,null,null,null,null,null,null,null,0,0,1,0]
[610,null,null,null,null,null,null,null,null,null,0,0,1,0]
[611,null,null,null,null,null,null,null,null,null,0,0,1,0]
[612,null,null,null,null,null,null,null,null,null,0,0,1,0]
[613,null,null,null,null,null,null,null,null,null,0,0,1,0]
[614,null,null,null,null,null,null,null,null,null,0,0,1,0]
[615,null,null,null,null,null,null,null,null,null,0,0,1,0]
[616,null,null,null,null,null,null,null,null,null,0,0,1,0]
[617,null,null,null,null,null,null,null,null,null,0,0,1,0]
[618,null,null,null,null,null,null,null,null,null,0,0,1,0]
[619,null,null,null,null,null,null,null,null,null,0,0,1,0]
[620,null,null,null,null,null,null,null,null,null,0,0,1,0]
[621,null,null,null,null,null,null,null,null,null,0,0,1,0]
[622,null,null,null,null,null,null,null,null,null,0,0,1,0]
[623,null,null,null,null,null,null,null,null,null,0,0,1,0]
[624,null,null,null,null,null,null,null,null,null,0,0,1,0]
[625,null,null,null,null,null,null,null,null,null,0,0,1,0]
[626,null,null,null,null,null,null,null,null,null,0,0,1,0]
[627,null,null,null,null,null,null,null,null,null,0,0,1,0]
[628,null,null,null,null,null,null,null,null,null,0,0,1,0]
[629,null,null,null,null,null,null,null,null,null,0,0,1,0]
[630,null,null,null,null,null,null,null,null,null,0,0,1,0]
[631,null,null,null,null,null,null,null,null,null,0,0,1,0]
[632,null,null,null,null,null,null,null,null,null,0,0,1,0]
[633,null,null,null,null,null,null,null,null,null,0,0,1,0]
[634,null,null,null,null,null,null,null,null,null,0,0,1,0]
[635,null,null,null,null,null,null,null,null,null,0,0,1,0]
[636,null,null,null,null,null,null,null,null,null,0,0,1,0]
[637,null,null,null,null,null,null,null,null,null,0,0,1,0]
[638,null,null,null,null,null,null,null,null,null,0,0,1,0]
[639,null,null,null,null,null,null,null,null,null,0,0,1,0]
[640,null,null,null,null,null,null,null,null,null,0,0,1,0]
[641,null,null,null,null,null,null,null,null,null,0,0,1,0]
[642,null,null,null,null,null,null,null,null,null,{"$f":"IF(D656=$B$1,$B$6,IF(D656=$C$1,$C$6,IF(D656=$D$1,$D$6,IF(D656=$E$1,$E$6,IF(D656=$F$1,$F$6,IF(D656=$G$1,$G$6,IF(D656=$H$1,$H$6,IF(D656=$I$1,$I$6,IF(D656=$J$1,$J$6,IF(D656=$K$1,$K$6,IF(D656=$L$1,$L$6,0)))))))))))","v":0},{"$f":"IF(OR(D656=\"\",J656=\"\")=TRUE,0,VLOOKUP(J656,$A$1:$L$7,MATCH(D656,$A$1:$L$1,0),FALSE))","v":0},1,{"$f":"(K656+L656)*M656","v":0}]
[643,null,null,null,null,null,null,null,null,null,0,0,1,0]
[644,null,null,null,null,null,null,null,null,null,0,0,1,0]
[645,null,null,null,null,null,null,null,null,null,0,0,1,0]
[646,null,null,null,null,null,null,null,null,null,0,0,1,0]
[647,null,null,null,null,null,null,null,null,null,0,0,1,0]
[648,null,null,null,null,null,null,null,null,null,0,0,1,0]
[649,null,null,null,null,null,null,null,null,null,0,0,1,0]
[650,null,null,null,null,null,null,null,null,null,0,0,1,0]
[651,null,null,null,null,null,null,null,null,null,0,0,1,0]
[652,null,null,null,null,null,null,null,null,null,0,0,1,0]
[653,null,null,null,null,null,null,null,null,null,0,0,1,0]
[654,null,null,null,null,null,null,null,null,null,0,0,1,0]
[655,null,null,null,null,null,null,null,null,null,0,0,1,0]
[656,null,null,null,null,null,null,null,null,null,0,0,1,0]
[657,null,null,null,null,null,null,null,null,null,0,0,1,0]
[658,null,null,null,null,null,null,null,null,null,0,0,1,0]
[659,null,null,null,null,null,null,null,null,null,0,0,1,0]
[660,null,null,null,null,null,null,null,null,null,0,0,1,0]
[661,null,null,null,null,null,null,null,null,null,0,0,1,0]
[662,null,null,null,null,null,null,null,null,null,0,0,1,0]
[663,null,null,null,null,null,null,null,null,null,0,0,1,0]
[664,null,null,null,null,null,null,null,null,null,0,0,1,0]
[665,null,null,null,null,null,null,null,null,null,0,0,1,0]
[666,null,null,null,null,null,null,null,null,null,0,0,1,0]
[667,null,null,null,null,null,null,null,null,null,0,0,1,0]
[668,null,null,null,null,null,null,null,null,null,0,0,1,0]
[669,null,null,null,null,null,null,null,null,null,0,0,1,0]
[670,null,null,null,null,null,null,null,null,null,0,0,1,0]
[671,null,null,null,null,null,null,null,null,null,0,0,1,0]
[672,null,null,null,null,null,null,null,null,null,0,0,1,0]
[673,null,null,null,null,null,null,null,null,null,0,0,1,0]
[674,null,null,null,null,null,null,null,null,null,0,0,1,0]
[675,null,null,null,null,null,null,null,null,null,0,0,1,0]
[676,null,null,null,null,null,null,null,null,null,0,0,1,0]
[677,null,null,null,null,null,null,null,null,null,0,0,1,0]
[678,null,null,null,null,null,null,null,null,null,0,0,1,0]
[679,null,null,null,null,null,null,null,null,null,0,0,1,0]
[680,null,null,null,null,null,null,null,null,null,0,0,1,0]
[681,null,null,null,null,null,null,null,null,null,0,0,1,0]
[682,null,null,null,null,null,null,null,null,null,0,0,1,0]
[683,null,null,null,null,null,null,null,null,null,0,0,1,0]
[684,null,null,null,null,null,null,null,null,null,0,0,1,0]
[685,null,null,null,null,null,null,null,null,null,0,0,1,0]
[686,null,null,null,null,null,null,null,null,null,0,0,1,0]
[687,null,null,null,null,null,null,null,null,null,0,0,1,0]
[688,null,null,null,null,null,null,null,null,null,0,0,1,0]
[689,null,null,null,null,null,null,null,null,null,0,0,1,0]
[690,null,null,null,null,null,null,null,null,null,0,0,1,0]
[691,null,null,null,null,null,null,null,null,null,0,0,1,0]
[692,null,null,null,null,null,null,null,null,null,0,0,1,0]
[693,null,null,null,null,null,null,null,null,null,0,0,1,0]
[694,null,null,null,null,null,null,null,null,null,0,0,1,0]
[695,null,null,null,null,null,null,null,null,null,0,0,1,0]
[696,null,null,null,null,null,null,null,null,null,0,0,1,0]
[697,null,null,null,null,null,null,null,null,null,0,0,1,0]
[698,null,null,null,null,null,null,null,null,null,0,0,1,0]
[699,null,null,null,null,null,null,null,null,null,0,0,1,0]
[700,null,null,null,null,null,null,null,null,null,0,0,1,0]
[701,null,null,null,null,null,null,null,null,null,0,0,1,0]
[702,null,null,null,null,null,null,null,null,null,0,0,1,0]
[703,null,null,null,null,null,null,null,null,null,0,0,1,0]
[704,null,null,null,null,null,null,null,null,null,0,0,1,0]
[705,null,null,null,null,null,null,null,null,null,0,0,1,0]
[706,null,null,null,null,null,null,null,null,null,{"$f":"IF(D720=$B$1,$B$6,IF(D720=$C$1,$C$6,IF(D720=$D$1,$D$6,IF(D720=$E$1,$E$6,IF(D720=$F$1,$F$6,IF(D720=$G$1,$G$6,IF(D720=$H$1,$H$6,IF(D720=$I$1,$I$6,IF(D720=$J$1,$J$6,IF(D720=$K$1,$K$6,IF(D720=$L$1,$L$6,0)))))))))))","v":0},{"$f":"IF(OR(D720=\"\",J720=\"\")=TRUE,0,VLOOKUP(J720,$A$1:$L$7,MATCH(D720,$A$1:$L$1,0),FALSE))","v":0},1,{"$f":"(K720+L720)*M720","v":0}]
[707,null,null,null,null,null,null,null,null,null,0,0,1,0]
[708,null,null,null,null,null,null,null,null,null,0,0,1,0]
[709,null,null,null,null,null,null,null,null,null,0,0,1,0]
[710,null,null,null,null,null,null,null,null,null,0,0,1,0]
[711,null,null,null,null,null,null,null,null,null,0,0,1,0]
[712,null,null,null,null,null,null,null,null,null,0,0,1,0]
[713,null,null,null,null,null,null,null,null,null,0,0,1,0]
[714,null,null,null,null,null,null,null,null,null,0,0,1,0]
[715,null,null,null,null,null,null,null,null,null,0,0,1,0]
[716,null,null,null,null,null,null,null,null,null,0,0,1,0]
[717,null,null,null,null,null,null,null,null,null,0,0,1,0]
[718,null,null,null,null,null,null,null,null,null,0,0,1,0]
[719,null,null,null,null,null,null,null,null,null,0,0,1,0]
[720,null,null,null,null,null,null,null,null,null,0,0,1,0]
[721,null,null,null,null,null,null,null,null,null,0,0,1,0]
[722,null,null,null,null,null,null,null,null,null,0,0,1,0]
[723,null,null,null,null,null,null,null,null,null,0,0,1,0]
[724,null,null,null,null,null,null,null,null,null,0,0,1,0]
[725,null,null,null,null,null,null,null,null,null,0,0,1,0]
[726,null,null,null,null,null,null,null,null,null,0,0,1,0]
[727,null,null,null,null,null,null,null,null,null,0,0,1,0]
[728,null,null,null,null,null,null,null,null,null,0,0,1,0]
[729,null,null,null,null,null,null,null,null,null,0,0,1,0]
[730,null,null,null,null,null,null,null,null,null,0,0,1,0]
[731,null,null,null,null,null,null,null,null,null,0,0,1,0]
[732,null,null,null,null,null,null,null,null,null,0,0,1,0]
[733,null,null,null,null,null,null,null,null,null,0,0,1,0]
[734,null,null,null,null,null,null,null,null,null,0,0,1,0]
[735,null,null,null,null,null,null,null,null,null,0,0,1,0]
[736,null,null,null,null,null,null,null,null,null,0,0,1,0]
[737,null,null,null,null,null,null,null,null,null,0,0,1,0]
[738,null,null,null,null,null,null,null,null,null,0,0,1,0]
[739,null,null,null,null,null,null,null,null,null,0,0,1,0]
[740,null,null,null,null,null,null,null,null,null,0,0,1,0]
[741,null,null,null,null,null,null,null,null,null,0,0,1,0]
[742,null,null,null,null,null,null,null,null,null,0,0,1,0]
[743,null,null,null,null,null,null,null,null,null,0,0,1,0]
[744,null,null,null,null,null,null,null,null,null,0,0,1,0]
[745,null,null,null,null,null,null,null,null,null,0,0,1,0]
[746,null,null,null,null,null,null,null,null,null,0,0,1,0]
[747,null,null,null,null,null,null,null,null,null,0,0,1,0]
[748,null,null,null,null,null,null,null,null,null,0,0,1,0]
[749,null,null,null,null,null,null,null,null,null,0,0,1,0]
[750,null,null,null,null,null,null,null,null,null,0,0,1,0]
[751,null,null,null,null,null,null,null,null,null,0,0,1,0]
[752,null,null,null,null,null,null,null,null,null,0,0,1,0]
[753,null,null,null,null,null,null,null,null,null,0,0,1,0]
[754,null,null,null,null,null,null,null,null,null,0,0,1,0]
[755,null,null,null,null,null,null,null,null,null,0,0,1,0]
[756,null,null,null,null,null,null,null,null,null,0,0,1,0]
[757,null,null,null,null,null,null,null,null,null,0,0,1,0]
[758,null,null,null,null,null,null,null,null,null,0,0,1,0]
[759,null,null,null,null,null,null,null,null,null,0,0,1,0]
[760,null,null,null,null,null,null,null,null,null,0,0,1,0]
[761,null,null,null,null,null,null,null,null,null,0,0,1,0]
[762,null,null,null,null,null,null,null,null,null,0,0,1,0]
[763,null,null,null,null,null,null,null,null,null,0,0,1,0]
[764,null,null,null,null,null,null,null,null,null,0,0,1,0]
[765,null,null,null,null,null,null,null,null,null,0,0,1,0]
[766,null,null,null,null,null,null,null,null,null,0,0,1,0]
[767,null,null,null,null,null,null,null,null,null,0,0,1,0]
[768,null,null,null,null,null,null,null,null,null,0,0,1,0]
[769,null,null,null,null,null,null,null,null,null,0,0,1,0]
[770,null,null,null,null,null,null,null,null,null,{"$f":"IF(D784=$B$1,$B$6,IF(D784=$C$1,$C$6,IF(D784=$D$1,$D$6,IF(D784=$E$1,$E$6,IF(D784=$F$1,$F$6,IF(D784=$G$1,$G$6,IF(D784=$H$1,$H$6,IF(D784=$I$1,$I$6,IF(D784=$J$1,$J$6,IF(D784=$K$1,$K$6,IF(D784=$L$1,$L$6,0)))))))))))","v":0},{"$f":"IF(OR(D784=\"\",J784=\"\")=TRUE,0,VLOOKUP(J784,$A$1:$L$7,MATCH(D784,$A$1:$L$1,0),FALSE))","v":0},1,{"$f":"(K784+L784)*M784","v":0}]
[771,null,null,null,null,null,null,null,null,null,0,0,1,0]
[772,null,null,null,null,null,null,null,null,null,0,0,1,0]
[773,null,null,null,null,null,null,null,null,null,0,0,1,0]
[774,null,null,null,null,null,null,null,null,null,0,0,1,0]
[775,null,null,null,null,null,null,null,null,null,0,0,1,0]
[776,null,null,null,null,null,null,null,null,null,0,0,1,0]
[777,null,null,null,null,null,null,null,null,null,0,0,1,0]
[778,null,null,null,null,null,null,null,null,null,0,0,1,0]
[779,null,null,null,null,null,null,null,null,null,0,0,1,0]
[780,null,null,null,null,null,null,null,null,null,0,0,1,0]
[781,null,null,null,null,null,null,null,null,null,0,0,1,0]
[782,null,null,null,null,null,null,null,null,null,0,0,1,0]
[783,null,null,null,null,null,null,null,null,null,0,0,1,0]
[784,null,null,null,null,null,null,null,null,null,0,0,1,0]
[785,null,null,null,null,null,null,null,null,null,0,0,1,0]
[786,null,null,null,null,null,null,null,null,null,0,0,1,0]
[787,null,null,null,null,null,null,null,null,null,0,0,1,0]
[788,null,null,null,null,null,null,null,null,null,0,0,1,0]
[789,null,null,null,null,null,null,null,null,null,0,0,1,0]
[790,null,null,null,null,null,null,null,null,null,0,0,1,0]
[791,null,null,null,null,null,null,null,null,null,0,0,1,0]
[792,null,null,null,null,null,null,null,null,null,0,0,1,0]
[793,null,null,null,null,null,null,null,null,null,0,0,1,0]
[794,null,null,null,null,null,null,null,null,null,0,0,1,0]
[795,null,null,null,null,null,null,null,null,null,0,0,1,0]
[796,null,null,null,null,null,null,null,null,null,0,0,1,0]
[797,null,null,null,null,null,null,null,null,null,0,0,1,0]
[798,null,null,null,null,null,null,null,null,null,0,0,1,0]
[799,null,null,null,null,null,null,null,null,null,0,0,1,0]
[800,null,null,null,null,null,null,null,null,null,0,0,1,0]
[801,null,null,null,null,null,null,null,null,null,0,0,1,0]
[802,null,null,null,null,null,null,null,null,null,0,0,1,0]
[803,null,null,null,null,null,null,null,null,null,0,0,1,0]
[804,null,null,null,null,null,null,null,null,null,0,0,1,0]
[805,null,null,null,null,null,null,null,null,null,0,0,1,0]
[806,null,null,null,null,null,null,null,null,null,0,0,1,0]
[807,null,null,null,null,null,null,null,null,null,0,0,1,0]
[808,null,null,null,null,null,null,null,null,null,0,0,1,0]
[809,null,null,null,null,null,null,null,null,null,0,0,1,0]
[810,null,null,null,null,null,null,null,null,null,0,0,1,0]
[811,null,null,null,null,null,null,null,null,null,0,0,1,0]
[812,null,null,null,null,null,null,null,null,null,0,0,1,0]
[813,null,null,null,null,null,null,null,null,null,0,0,1,0]
[814,null,null,null,null,null,null,null,null,null,0,0,1,0]
[815,null,null,null,null,null,null,null,null,null,0,0,1,0]
[816,null,null,null,null,null,null,null,null,null,0,0,1,0]
[817,null,null,null,null,null,null,null,null,null,0,0,1,0]
[818,null,null,null,null,null,null,null,null,null,0,0,1,0]
[819,null,null,null,null,null,null,null,null,null,0,0,1,0]
[820,null,null,null,null,null,null,null,null,null,0,0,1,0]
[821,null,null,null,null,null,null,null,null,null,0,0,1,0]
[822,null,null,null,null,null,null,null,null,null,0,0,1,0]
[823,null,null,null,null,null,null,null,null,null,0,0,1,0]
[824,null,null,null,null,null,null,null,null,null,0,0,1,0]
[825,null,null,null,null,null,null,null,null,null,0,0,1,0]
[826,null,null,null,null,null,null,null,null,null,0,0,1,0]
[827,null,null,null,null,null,null,null,null,null,0,0,1,0]
[828,null,null,null,null,null,null,null,null,null,0,0,1,0]
[829,null,null,null,null,null,null,null,null,null,0,0,1,0]
[830,null,null,null,null,null,null,null,null,null,0,0,1,0]
[831,null,null,null,null,null,null,null,null,null,0,0,1,0]
[832,null,null,null,null,null,null,null,null,null,0,0,1,0]
[833,null,null,null,null,null,null,null,null,null,0,0,1,0]
[834,null,null,null,null,null,null,null,null,null,{"$f":"IF(D848=$B$1,$B$6,IF(D848=$C$1,$C$6,IF(D848=$D$1,$D$6,IF(D848=$E$1,$E$6,IF(D848=$F$1,$F$6,IF(D848=$G$1,$G$6,IF(D848=$H$1,$H$6,IF(D848=$I$1,$I$6,IF(D848=$J$1,$J$6,IF(D848=$K$1,$K$6,IF(D848=$L$1,$L$6,0)))))))))))","v":0},{"$f":"IF(OR(D848=\"\",J848=\"\")=TRUE,0,VLOOKUP(J848,$A$1:$L$7,MATCH(D848,$A$1:$L$1,0),FALSE))","v":0},1,{"$f":"(K848+L848)*M848","v":0}]
[835,null,null,null,null,null,null,null,null,null,0,0,1,0]
[836,null,null,null,null,null,null,null,null,null,0,0,1,0]
[837,null,null,null,null,null,null,null,null,null,0,0,1,0]
[838,null,null,null,null,null,null,null,null,null,0,0,1,0]
[839,null,null,null,null,null,null,null,null,null,0,0,1,0]
[840,null,null,null,null,null,null,null,null,null,0,0,1,0]
[841,null,null,null,null,null,null,null,null,null,0,0,1,0]
[842,null,null,null,null,null,null,null,null,null,0,0,1,0]
[843,null,null,null,null,null,null,null,null,null,0,0,1,0]
[844,null,null,null,null,null,null,null,null,null,0,0,1,0]
[845,null,null,null,null,null,null,null,null,null,0,0,1,0]
[846,null,null,null,null,null,null,null,null,null,0,0,1,0]
[847,null,null,null,null,null,null,null,null,null,0,0,1,0]
[848,null,null,null,null,null,null,null,null,null,0,0,1,0]
[849,null,null,null,null,null,null,null,null,null,0,0,1,0]
[850,null,null,null,null,null,null,null,null,null,0,0,1,0]
[851,null,null,null,null,null,null,null,null,null,0,0,1,0]
[852,null,null,null,null,null,null,null,null,null,0,0,1,0]
[853,null,null,null,null,null,null,null,null,null,0,0,1,0]
[854,null,null,null,null,null,null,null,null,null,0,0,1,0]
[855,null,null,null,null,null,null,null,null,null,0,0,1,0]
[856,null,null,null,null,null,null,null,null,null,0,0,1,0]
[857,null,null,null,null,null,null,null,null,null,0,0,1,0]
[858,null,null,null,null,null,null,null,null,null,0,0,1,0]
[859,null,null,null,null,null,null,null,null,null,0,0,1,0]
[860,null,null,null,null,null,null,null,null,null,0,0,1,0]
[861,null,null,null,null,null,null,null,null,null,0,0,1,0]
[862,null,null,null,null,null,null,null,null,null,0,0,1,0]
[863,null,null,null,null,null,null,null,null,null,0,0,1,0]
[864,null,null,null,null,null,null,null,null,null,0,0,1,0]
[865,null,null,null,null,null,null,null,null,null,0,0,1,0]
[866,null,null,null,null,null,null,null,null,null,0,0,1,0]
[867,null,null,null,null,null,null,null,null,null,0,0,1,0]
[868,null,null,null,null,null,null,null,null,null,0,0,1,0]
[869,null,null,null,null,null,null,null,null,null,0,0,1,0]
[870,null,null,null,null,null,null,null,null,null,0,0,1,0]
[871,null,null,null,null,null,null,null,null,null,0,0,1,0]
[872,null,null,null,null,null,null,null,null,null,0,0,1,0]
[873,null,null,null,null,null,null,null,null,null,0,0,1,0]
[874,null,null,null,null,null,null,null,null,null,0,0,1,0]
[875,null,null,null,null,null,null,null,null,null,0,0,1,0]
[876,null,null,null,null,null,null,null,null,null,0,0,1,0]
[877,null,null,null,null,null,null,null,null,null,0,0,1,0]
[878,null,null,null,null,null,null,null,null,null,0,0,1,0]
[879,null,null,null,null,null,null,null,null,null,0,0,1,0]
[880,null,null,null,null,null,null,null,null,null,0,0,1,0]
[881,null,null,null,null,null,null,null,null,null,0,0,1,0]
[882,null,null,null,null,null,null,null,null,null,0,0,1,0]
[883,null,null,null,null,null,null,null,null,null,0,0,1,0]
[884,null,null,null,null,null,null,null,null,null,0,0,1,0]
[885,null,null,null,null,null,null,null,null,null,0,0,1,0]
[886,null,null,null,null,null,null,null,null,null,0,0,1,0]
[887,null,null,null,null,null,null,null,null,null,0,0,1,0]
[888,null,null,null,null,null,null,null,null,null,0,0,1,0]
[889,null,null,null,null,null,null,null,null,null,0,0,1,0]
[890,null,null,null,null,null,null,null,null,null,0,0,1,0]
[891,null,null,null,null,null,null,null,null,null,0,0,1,0]
[892,null,null,null,null,null,null,null,null,null,0,0,1,0]
[893,null,null,null,null,null,null,null,null,null,0,0,1,0]
[894,null,null,null,null,null,null,null,null,null,0,0,1,0]
[895,null,null,null,null,null,null,null,null,null,0,0,1,0]
[896,null,null,null,null,null,null,null,null,null,0,0,1,0]
[897,null,null,null,null,null,null,null,null,null,0,0,1,0]
[898,null,null,null,null,null,null,null,null,null,{"$f":"IF(D912=$B$1,$B$6,IF(D912=$C$1,$C$6,IF(D912=$D$1,$D$6,IF(D912=$E$1,$E$6,IF(D912=$F$1,$F$6,IF(D912=$G$1,$G$6,IF(D912=$H$1,$H$6,IF(D912=$I$1,$I$6,IF(D912=$J$1,$J$6,IF(D912=$K$1,$K$6,IF(D912=$L$1,$L$6,0)))))))))))","v":0},{"$f":"IF(OR(D912=\"\",J912=\"\")=TRUE,0,VLOOKUP(J912,$A$1:$L$7,MATCH(D912,$A$1:$L$1,0),FALSE))","v":0},1,{"$f":"(K912+L912)*M912","v":0}]
[899,null,null,null,null,null,null,null,null,null,0,0,1,0]
[900,null,null,null,null,null,null,null,null,null,0,0,1,0]
[901,null,null,null,null,null,null,null,null,null,0,0,1,0]
[902,null,null,null,null,null,null,null,null,null,0,0,1,0]
[903,null,null,null,null,null,null,null,null,null,0,0,1,0]
[904,null,null,null,null,null,null,null,null,null,0,0,1,0]
[905,null,null,null,null,null,null,null,null,null,0,0,1,0]
[906,null,null,null,null,null,null,null,null,null,0,0,1,0]
[907,null,null,null,null,null,null,null,null,null,0,0,1,0]
[908,null,null,null,null,null,null,null,null,null,0,0,1,0]
[909,null,null,null,null,null,null,null,null,null,0,0,1,0]
[910,null,null,null,null,null,null,null,null,null,0,0,1,0]
[911,null,null,null,null,null,null,null,null,null,0,0,1,0]
[912,null,null,null,null,null,null,null,null,null,0,0,1,0]
[913,null,null,null,null,null,null,null,null,null,0,0,1,0]
[914,null,null,null,null,null,null,null,null,null,0,0,1,0]
[915,null,null,null,null,null,null,null,null,null,0,0,1,0]
[916,null,null,null,null,null,null,null,null,null,0,0,1,0]
[917,null,null,null,null,null,null,null,null,null,0,0,1,0]
[918,null,null,null,null,null,null,null,null,null,0,0,1,0]
[919,null,null,null,null,null,null,null,null,null,0,0,1,0]
[920,null,null,null,null,null,null,null,null,null,0,0,1,0]
[921,null,null,null,null,null,null,null,null,null,0,0,1,0]
[922,null,null,null,null,null,null,null,null,null,0,0,1,0]
[923,null,null,null,null,null,null,null,null,null,0,0,1,0]
[924,null,null,null,null,null,null,null,null,null,0,0,1,0]
[925,null,null,null,null,null,null,null,null,null,0,0,1,0]
[926,null,null,null,null,null,null,null,null,null,0,0,1,0]
[927,null,null,null,null,null,null,null,null,null,0,0,1,0]
[928,null,null,null,null,null,null,null,null,null,0,0,1,0]
[929,null,null,null,null,null,null,null,null,null,0,0,1,0]
[930,null,null,null,null,null,null,null,null,null,0,0,1,0]
[931,null,null,null,null,null,null,null,null,null,0,0,1,0]
[932,null,null,null,null,null,null,null,null,null,0,0,1,0]
[933,null,null,null,null,null,null,null,null,null,0,0,1,0]
[934,null,null,null,null,null,null,null,null,null,0,0,1,0]
[935,null,null,null,null,null,null,null,null,null,0,0,1,0]
[936,null,null,null,null,null,null,null,null,null,0,0,1,0]
[937,null,null,null,null,null,null,null,null,null,0,0,1,0]
[938,null,null,null,null,null,null,null,null,null,0,0,1,0]
[939,null,null,null,null,null,null,null,null,null,0,0,1,0]
[940,null,null,null,null,null,null,null,null,null,0,0,1,0]
[941,null,null,null,null,null,null,null,null,null,0,0,1,0]
[942,null,null,null,null,null,null,null,null,null,0,0,1,0]
[943,null,null,null,null,null,null,null,null,null,0,0,1,0]
[944,null,null,null,null,null,null,null,null,null,0,0,1,0]
[945,null,null,null,null,null,null,null,null,null,0,0,1,0]
[946,null,null,null,null,null,null,null,null,null,0,0,1,0]
[947,null,null,null,null,null,null,null,null,null,0,0,1,0]
[948,null,null,null,null,null,null,null,null,null,0,0,1,0]
[949,null,null,null,null,null,null,null,null,null,0,0,1,0]
[950,null,null,null,null,null,null,null,null,null,0,0,1,0]
[951,null,null,null,null,null,null,null,null,null,0,0,1,0]
[952,null,null,null,null,null,null,null,null,null,0,0,1,0]
[953,null,null,null,null,null,null,null,null,null,0,0,1,0]
[954,null,null,null,null,null,null,null,null,null,0,0,1,0]
[955,null,null,null,null,null,null,null,null,null,0,0,1,0]
[956,null,null,null,null,null,null,null,null,null,0,0,1,0]
[957,null,null,null,null,null,null,null,null,null,0,0,1,0]
[958,null,null,null,null,null,null,null,null,null,0,0,1,0]
[959,null,null,null,null,null,null,null,null,null,0,0,1,0]
[960,null,null,null,null,null,null,null,null,null,0,0,1,0]
[961,null,null,null,null,null,null,null,null,null,0,0,1,0]
[962,null,null,null,null,null,null,null,null,null,{"$f":"IF(D976=$B$1,$B$6,IF(D976=$C$1,$C$6,IF(D976=$D$1,$D$6,IF(D976=$E$1,$E$6,IF(D976=$F$1,$F$6,IF(D976=$G$1,$G$6,IF(D976=$H$1,$H$6,IF(D976=$I$1,$I$6,IF(D976=$J$1,$J$6,IF(D976=$K$1,$K$6,IF(D976=$L$1,$L$6,0)))))))))))","v":0},{"$f":"IF(OR(D976=\"\",J976=\"\")=TRUE,0,VLOOKUP(J976,$A$1:$L$7,MATCH(D976,$A$1:$L$1,0),FALSE))","v":0},1,{"$f":"(K976+L976)*M976","v":0}]
[963,null,null,null,null,null,null,null,null,null,0,0,1,0]
[964,null,null,null,null,null,null,null,null,null,0,0,1,0]
[965,null,null,null,null,null,null,null,null,null,0,0,1,0]
[966,null,null,null,null,null,null,null,null,null,0,0,1,0]
[967,null,null,null,null,null,null,null,null,null,0,0,1,0]
[968,null,null,null,null,null,null,null,null,null,0,0,1,0]
[969,null,null,null,null,null,null,null,null,null,0,0,1,0]
[970,null,null,null,null,null,null,null,null,null,0,0,1,0]
[971,null,null,null,null,null,null,null,null,null,0,0,1,0]
[972,null,null,null,null,null,null,null,null,null,0,0,1,0]
[973,null,null,null,null,null,null,null,null,null,0,0,1,0]
[974,null,null,null,null,null,null,null,null,null,0,0,1,0]
[975,null,null,null,null,null,null,null,null,null,0,0,1,0]
[976,null,null,null,null,null,null,null,null,null,0,0,1,0]
[977,null,null,null,null,null,null,null,null,null,0,0,1,0]
[978,null,null,null,null,null,null,null,null,null,0,0,1,0]
[979,null,null,null,null,null,null,null,null,null,0,0,1,0]
[980,null,null,null,null,null,null,null,null,null,0,0,1,0]
[981,null,null,null,null,null,null,null,null,null,0,0,1,0]
[982,null,null,null,null,null,null,null,null,null,0,0,1,0]
[983,null,null,null,null,null,null,null,null,null,0,0,1,0]
[984,null,null,null,null,null,null,null,null,null,0,0,1,0]
[985,null,null,null,null,null,null,null,null,null,0,0,1,0]
[986,null,null,null,null,null,null,null,null,null,0,0,1,0]
[987,null,null,null,null,null,null,null,null,null,0,0,1,0]
[988,null,null,null,null,null,null,null,null,null,0,0,1,0]
[989,null,null,null,null,null,null,null,null,null,0,0,1,0]
[990,null,null,null,null,null,null,null,null,null,0,0,1,0]
[991,null,null,null,null,null,null,null,null,null,0,0,1,0]
[992,null,null,null,null,null,null,null,null,null,0,0,1,0]
[993,null,null,null,null,null,null,null,null,null,0,0,1,0]
[994,null,null,null,null,null,null,null,null,null,0,0,1,0]
[995,null,null,null,null,null,null,null,null,null,0,0,1,0]
[996,null,null,null,null,null,null,null,null,null,0,0,1,0]
[997,null,null,null,null,null,null,null,null,null,0,0,1,0]
[998,null,null,null,null,null,null,null,null,null,0,0,1,0]
[999,null,null,null,null,null,null,null,null,null,0,0,1,0]
[1000,null,null,null,null,null,null,null,null,null,0,0,1,0]

{"sheet":"Spisak FSS izložbi","index":2,"n_rows":318,"n_cols":10,"rows_kept":318,"cut":false,"hidden":false,"merged":[]}
[]
[]
[]
[]
["R.broj","Broj FSS pokroviteljstva","Organizator","Naziv izložbe","Tema","Datum otvaranja","Rang","Koef.","Broj FIAP patronata","Broj PSA patronata"]
[1,"2021/01","ФСС","Републичка изложба",null,"2021-09-17","REP rang",2]
[2,"2021/02","ФСС","Омладинска изл.фот.Србије",null,"14.11.2021.","1. rang",2]
[3,"2021/03","Фото клуб СМЕДЕРЕВО","СЕЛО",null,"10.03.2021.","FIAP rang",1]
[4,"2021/04","Фото клуб Кула","NEW YEAR CIRCUIT 2021-КУЛА",null,"15.03.2021.","FIAP rang",1]
[5,"2021/05","Фото клуб Нови Сад","NEW YEAR CIRCUIT 2021-Н.САД",null,"15.03.2021.","FIAP rang",1]
[6,"2021/06","Фото клуб Алексинац","NEW YEAR CIRCUIT 2021-АЛЕКС.",null,"15.03.2021.","FIAP rang",1]
[7,"2021/07","Фото клуб ДУНАВ","МИРОЧ 2021",null,"17.04.2021.","FIAP rang",1]
[8,"2021/08","Фото клуб БАЛКАН, Бор","БАЛКАН 2021",null,"14.05.2021.","FIAP rang",1]
[9,"2021/09","DPW, Н.Сад","DPW SBM CIRCUIT 2021-НОВИ САД",null,"14.04.2021.","FIAP rang",1]
[10,"2021/10","Фото клуб Крагујевац","ДОБРО СВЕТЛО",null,"21.06.2021.","FIAP rang",1]
[11,"2021/11","Фото клуб Нови Сад","NSAPK CIRC - Нови Сад",null,"17.05.2021.","FIAP rang",1]
[12,"2021/12","Фото клуб Алексинац","NSAPK CIRC - Алексинац",null,"17.05.2021.","FIAP rang",1]
[13,"2021/13","Фото клуб Кула","TOWER 2021-КУЛА",null,"15.05.2021.","FIAP rang",1]
[14,"2021/14","Фото клуб Нови Сад","TOWER 2021-НОВИ САД",null,"15.05.2021.","FIAP rang",1]
[15,"2021/15","Фото клуб Алексинац","TOWER 2021-АЛЕКСИНАЦ",null,"15.05.2021.","FIAP rang",1]
[16,"2021/16","Центар за културу Рума","TOWER 2021-РУМА",null,"15.05.2021.","FIAP rang",1]
[17,"2021/17","Центар за културу Врбас","TOWER 2021-ВРБАС",null,"15.05.2021.","FIAP rang",1]
[18,"2021/18","Фото клуб 202, Зајечар","ПОРТРЕТ 2021",null,"20.04.2021.","FIAP rang",1]
[19,"2021/19","Фот аген ЛИМИЈЕРОВ СНОП, Краг.","PhotoEXPO 2021",null,"26.04.2021.","FIAP rang",1]
[20,"2021/20","Фото клуб ДУНАВ","ЉУДИ СВЕТА",null,"16.05.2021.","FIAP rang",1]
[21,"2021/21","Фото клуб БАЛКАН, Бор","MYSTIC 2021",null,"19.05.2021.","FIAP rang",1]
[22,"2021/22","Уметнички атеље ФОТОГРАМ","ПРИРОДА ОКО НАС",null,"16.06.2021.","FIAP rang",1]
[23,"2021/23","АРТ 321, Ћуприја","HORREUM MARGI 2021",null,"08.05.2021.","FIAP rang",1]
[24,"2021/24","Фото клуб Чачак","BOKA BAY CIRCUIT-ЧАЧАК 2021",null,"23.04.2021.","FIAP rang",1]
[25,"2021/25","Фото клуб Чачак","VICTORY CIRCUIT - ЧАЧАК 2021",null,"08.05.2021.","FIAP rang",1]
[26,"2021/26","Фото клуб Чачак","SPRING CLICKS CIRC-ЧАЧАК 2021",null,"28.05.2021.","FIAP rang",1]
[27,"2021/27","АРТ 321, Ћуприја","WORLD FOTO TRIP 2021",null,"25.07.2021.","FIAP rang",1]
[28,"2021/28","DPW, Н.Сад","FOCAL POINT CIRC 2021-НОВИ САД",null,"15.05.2021.","FIAP rang",1]
[29,"2021/29","Фото клуб Крагујевац","КРОЗ ТРАЖИЛО 2021",null,"15.10.2021.","FIAP rang",1]
[30,"2021/30","Фото клуб СМЕДЕРЕВО","11.међун.изл.фотогр.СМЕДЕРЕВО",null,"24.07.2021.","FIAP rang",2]
[31,"2021/31","АРТ ФОРУМ, Аранђеловац","Serenity Photo salon 1",null,"22.06.2021.","FIAP rang",1]
[32,"2021/32","Фото клуб Нови Сад","TWO COUNTRY CIRCUIT 2021",null,"17.08.2021.","FIAP rang",1]
[33,"2021/33","Фото клуб 202, Зајечар","ADVENTURE 2021",null,"25.06.2021.","FIAP rang",1]
[34,"2021/34","Фото клуб 202, Зајечар","ЕКОЛОШКА ИСТИНА",null,"25.06.2021.","FIAP rang",1]
[35,"2021/35","Фото клуб ДУНАВ","ДУНАВ 2021",null,"25.09.2021.","FIAP rang",1]
[36,"2021/36","Фото клуб Кула","KULA SLM CIRCUIT 2021",null,"15.09.2021.","FIAP rang",1]
[37,"2021/37","Фото клуб ЧАЧАК","ČAČAK CIRCUIT - ЧАЧАК 2021",null,"09.07.2021.","FIAP rang",1]
[38,"2021/38","Фото клуб Чачак","BALKAN FRAME - ЧАЧАК 2021",null,"06.08.2021.","FIAP rang",1]
[39,"2021/39","Фото клуб Чачак","PERASTO CIRCUIT - ЧАЧАК 2021",null,"24.09.2021.","FIAP rang",1]
[40,"2021/40","Фото клуб Чачак","GRAND MSM CIRCUIT - ЧАЧАК 2021",null,"16.10.2021.","FIAP rang",1]
[41,"2021/41","DPW, Н.Сад","DPW SUMMER CIRCUIT 2021",null,"15.10.2021.","FIAP rang",1]
[42,"2021/42","Завод за јав.здравље, Панчево","ОБЈЕКТИВОМ КРОЗ СВЕТ ОКО НАС",null,"01.06.2021.","1. rang",2]
[43,"2021/43","Фото клуб Нови Сад","WOMAN CIRCUIT 2021",null,"15.11.2021.","FIAP rang",1]
[44,"2021/44","DPW, Н.Сад","NPS PLS CIRCUIT 2021-НОВИ САД",null,"15.11.2021.","FIAP rang",1]
[45,"2021/45","Фото клуб Алексинац","FKA SUMMER 2021",null,"16.09.2021.","FIAP rang",1]
[46,"2021/46","Фото клуб Чачак","GRADAC CIRCUIT 2021-ЧАЧАК",null,"19.11.2021.","FIAP rang",1]
[47,"2021/47","Фото клуб Чачак","TRAMONTANA CIRCUIT 2021 - ЧАЧАК",null,"27.11.2021.","FIAP rang",1]
[48,"2021/48","Фото клуб 202, Зајечар","СРЕЋАН ПУТ 2021",null,"20.09.2021.","FIAP rang",1]
[49,"2021/49","Фото клуб 202, Зајечар","ЛЕПОТА 2021",null,"20.09.2021.","FIAP rang",1]
[50,"2021/50","АРТ ФОРУМ, Аранђеловац","Serenity Photo salon 2 - OTKAZANO",null,null,null,0]
[51,"2021/51","Фото клуб Чачак","CMYK CIRCUIT 2021-ЧАЧАК",null,"11.12.2021.","FIAP rang",1]
[52,"2021/52","Фото клуб Кула","BALKAN CIRCUIT 2021-КУЛА",null,"15.12.2021.","FIAP rang",1]
[53,"2021/53","Фото клуб Алексинац","FKA AUTUMN 2021",null,"16.12.2021.","FIAP rang",1]
[54,"2021/54","Дом култ. \"Вук Караџић\",Омољица","ЖИСЕЛ",null,"06.08.2021.","1. rang",2]
[55,"2021/55","АРТ 321, Ћуприја","OCTOBER WORLD CUP 2021",null,"20.11.2021.","FIAP rang",1]
[56,"2021/56","DPW, Н.Сад","SER-MNE GR CIRC - НОВИ САД",null,"16.01.2022.","FIAP rang",1]
[57,"2021/57","Фото клуб Алексинац","SER-MNE GR CIRC - АЛЕКСИНАЦ",null,"16.01.2022.","FIAP rang",1]
[58,"2021/58-A","Фото група ДУНАВАЦ","ИВАНОВО У ФОКУСУ 2021","Иваново","15.08.2021.","1. rang",2]
[59,"2021/58-Б","Фото група ДУНАВАЦ","ИВАНОВО У ФОКУСУ 2021","Слободна","15.08.2021.","1. rang",2]
[60,"2021/59","Уметнички атеље ФОТОГРАМ","БЕОГРАДСКА ФОТО-ЈЕСЕН",null,"16.12.2021.","FIAP rang",1]
[61,"2021/60","Фото клуб Нови Сад","FKNS SLM CIRCUIT 2021",null,"15.02.2022.","FIAP rang",1]
[62,"2021/61","Фото клуб Крагујевац","КНИЋ И ГРУЖА КРОЗ ОБЈЕКТИВ",null,"05.09.2021.","1. rang",2]
[63,"2021/62","Фото клуб Кула","NEW YEAR CIRCUIT  - КУЛА",null,"15.03.2022.","FIAP rang",1]
[64,"2021/63","Фото клуб Нови Сад","NEW YEAR CIRCUIT  - НОВИ САД",null,"15.03.2022.","FIAP rang",1]
[65,"2021/64","Фото клуб Алексинац","NEW YEAR CIRCUIT  - АЛЕКСИНАЦ",null,"15.03.2022.","FIAP rang",1]
[66,"2021/65","АРТ 321, Ћуприја","NEW YEAR'S CUP 2021",null,"01.02.2022.","FIAP rang",1]
[67,"2021/66","ФСС + УГ \"Снага пријатељства\"","ЛЕПОТА СТАРЕЊА",null,"01.10.2021.","1. rang",2]
[68,"2021/67","Фото клуб 202, Зајечар","ДЕТЕ 2021",null,"15.02.2022.","REP rang",1]
[69,"2021/68","Фото група ФОРМАТ","ЧОВЕК И ПЛАНИНА",null,"09.10.2021.","2. rang",2]
[70,"2021/69","БЕОФОТО, Беочин","ПРАВОСЛАВЉЕ НА ИНТЕРНЕТУ",null,"13.11.2021.","1. rang",2]
[71,"2021/70","Фото клуб Чачак","AUTUMN CIRCUIT 2021 -ЧАЧАК",null,"14.01.2022.","FIAP rang",1]
[72,"2021/71","Фото клуб Чачак","SNOWY CIRCUIT 2021 - ЧАЧАК",null,"04.02.2022.","FIAP rang",1]
[73,"2021/72","Фото клуб Параћин","Меморијални куп ЗОРАН ПУРГЕР",null,"15.10.2021.","1. rang",2]
[74,"2021/73","Фондац за зашт птица грабљивица","ПТИЦЕ У АКЦИЈИ",null,"10.12.2021.","4. rang",2]
[75,"2021/74","Фото радионица АРТ НАТУРА АРТ","ПИРОДА - ВАЗДУХ",null,"24.11.2021.","1. rang",2]
[76,"2021/75","Фото клуб ЦД13","ЈАША ТОМИЋ - АМБИЈЕНТ ...",null,"29.10.2021.","3. rang",2]
[77,"2021/76-A","Фото клуб Београд","РУСТИКА 2021 - Објективом кроз Срем",null,"30.10.2021.","2. rang",2]
[78,"2021/76-Б","Фото клуб Београд","РУСТИКА 2021 - слободна",null,"30.10.2021.","1. rang",2]
[79,"2021/77","НАУТСОС, Аранђеловац","ПОДЗЕМНИ СВЕТ У ФОКУСУ",null,"10.12.2021.","4. rang",2]
[80,"2021/78","Фото комуна 24.кадар","1. ФОТО КУП \"24. КАДАР\"",null,"29.12.2021.","1. rang",2]
[81,"2021/kup","FSS","REPUBLIČKI KUP KLUBOVA",null,"2021-12-23","REP rang",2]
[82,"2020/54","SER-MONT.GRAND CIRC-Нови Сад","DPVW Нови Сад",null,"16.01.2021.","FIAP rang",1]
[83,"2020/55","SER-MONT.GRAND CIRC-Алексинац","Фото клуб АЛЕКСИНАЦ",null,"20.01.2021.","FIAP rang",1]
[84,"2020/57","FKNS WINTER CIRCUIT 2020","Фото клуб НОВИ САД",null,"15.02.2021.","FIAP rang",1]
[85,"2020/61","SNOWY CIRCUIT 2020 - ЧАЧАК","Фото кино клуб ЧАЧАК",null,"15.01.2021.","FIAP rang",1]
[86,"2020/66","ПТИЦЕ У АКЦИЈИ","Фондација за зашт. птица грабљивица",null,"21.01.2022.","4. rang",2]
[87,10012]
[88,10013,"Izložbe obeležene crvenom bojom se održavaju u 2022. a imaju patronat u 2021. "]
[89,10014]
[90,10015,"Izložbe obeležene zelenom bojom su održane u 2021. a imaju patonat iz 2020."]
[91,10016]
[92,10017]
[93,10018]
[94,10019]
[95,10020]
[96,10021]
[97,10022]
[98,10023]
[99,10024]
[100,10025]
[101,10026]
[102,10027]
[103,10028]
[104,10029]
[105,10030]
[106,10031]
[107,10032]
[108,10033]
[109,10034]
[110,10035]
[111,10036]
[112,10037]
[113,10038]
[114,10039]
[115,10040]
[116,10041]
[117,10042]
[118,10043]
[119,10044]
[120,10045]
[121,10046]
[122,10047]
[123,10048]
[124,10049]
[125,10050]
[126,10051]
[127,10052]
[128,10053]
[129,10054]
[130,10055]
[131,10056]
[132,10057]
[133,10058]
[134,10059]
[135,10060]
[136,10061]
[137,10062]
[138,10063]
[139,10064]
[140,10065]
[141,10066]
[142,10067]
[143,10068]
[144,10069]
[145,10070]
[146,10071]
[147,10072]
[148,10073]
[149,10074]
[150,10075]
[151,10076]
[152,10077]
[153,10078]
[154,10079]
[155,10080]
[156,10081]
[157,10082]
[158,10083]
[159,10084]
[160,10085]
[161,10086]
[162,10087]
[163,10088]
[164,10089]
[165,10090]
[166,10091]
[167,10092]
[168,10093]
[169,10094]
[170,10095]
[171,10096]
[172,10097]
[173,10098]
[174,10099]
[175,10100]
[176,10101]
[177,10102]
[178,10103]
[179,10104]
[180,10105]
[181,10106]
[182,10107]
[183,10108]
[184,10109]
[185,10110]
[186,10111]
[187,10112]
[188,10113]
[189,10114]
[190,10115]
[191,10116]
[192,10117]
[193,10118]
[194,10119]
[195,10120]
[196,10121]
[197,10122]
[198,10123]
[199,10124]
[200,10125]
[201,10126]
[202,10127]
[203,10128]
[204,10129]
[205,10130]
[206,10131]
[207,10132]
[208,10133]
[209,10134]
[210,10135]
[211,10136]
[212,10137]
[213,10138]
[214,10139]
[215,10140]
[216,10141]
[217,10142]
[218,10143]
[219,10144]
[220,10145]
[221,10146]
[222,10147]
[223,10148]
[224,10149]
[225,10150]
[226,10151]
[227,10152]
[228,10153]
[229,10154]
[230,10155]
[231,10156]
[232,10157]
[233,10158]
[234,10159]
[235,10160]
[236,10161]
[237,10162]
[238,10163]
[239,10164]
[240,10165]
[241,10166]
[242,10167]
[243,10168]
[244,10169]
[245,10170]
[246,10171]
[247,10172]
[248,10173]
[249,10174]
[250,10175]
[251,10176]
[252,10177]
[253,10178]
[254,10179]
[255,10180]
[256,10181]
[257,10182]
[258,10183]
[259,10184]
[260,10185]
[261,10186]
[262,10187]
[263,10188]
[264,10189]
[265,10190]
[266,10191]
[267,10192]
[268,10193]
[269,10194]
[270,10195]
[271,10196]
[272,10197]
[273,10198]
[274,10199]
[275,10200]
[276,10201]
[277,10202]
[278,10203]
[279,10204]
[280,10205]
[281,10206]
[282,10207]
[283,10208]
[284,10209]
[285,10210]
[286,10211]
[287,10212]
[288,10213]
[289,10214]
[290,10215]
[291,10216]
[292,10217]
[293,10218]
[294,10219]
[295,10220]
[296,10221]
[297,10222]
[298,10223]
[299,10224]
[300,10225]
[301,10226]
[302,10227]
[303,10228]
[304,10229]
[305,10230]
[306,10231]
[307,10232]
[308,10233]
[309,10234]
[310,10235]
[311,10236]
[312,10237]
[313,10238]